BEGIN:VCALENDAR
VERSION:2.0
PRODID:-//Cordova Golf Course - ECPv6.15.18//NONSGML v1.0//EN
CALSCALE:GREGORIAN
METHOD:PUBLISH
X-ORIGINAL-URL:https://www.cordovagc.gov
X-WR-CALDESC:Events for Cordova Golf Course
REFRESH-INTERVAL;VALUE=DURATION:PT1H
X-Robots-Tag:noindex
X-PUBLISHED-TTL:PT1H
BEGIN:VTIMEZONE
TZID:UTC
BEGIN:STANDARD
TZOFFSETFROM:+0000
TZOFFSETTO:+0000
TZNAME:UTC
DTSTART:20270101T000000
END:STANDARD
END:VTIMEZONE
BEGIN:VEVENT
DTSTART;TZID=UTC:20280518T170000
DTEND;TZID=UTC:20280518T170000
DTSTAMP:20260420T181942
CREATED:20250902T221532Z
LAST-MODIFIED:20250902T221532Z
UID:10007898-1842282000-1842282000@www.cordovagc.gov
SUMMARY:Spark Golf League
DESCRIPTION:Spark Golf League is a 9-hole social golf league. Prior sign up is required on www.spark.golf
URL:https://www.cordovagc.gov/event/spark-golf-league/2028-05-18/
END:VEVENT
BEGIN:VEVENT
DTSTART;TZID=UTC:20280525T170000
DTEND;TZID=UTC:20280525T170000
DTSTAMP:20260420T181942
CREATED:20250902T221532Z
LAST-MODIFIED:20250902T221532Z
UID:10007899-1842886800-1842886800@www.cordovagc.gov
SUMMARY:Spark Golf League
DESCRIPTION:Spark Golf League is a 9-hole social golf league. Prior sign up is required on www.spark.golf
URL:https://www.cordovagc.gov/event/spark-golf-league/2028-05-25/
END:VEVENT
BEGIN:VEVENT
DTSTART;TZID=UTC:20280601T170000
DTEND;TZID=UTC:20280601T170000
DTSTAMP:20260420T181942
CREATED:20250902T221532Z
LAST-MODIFIED:20250902T221532Z
UID:10007900-1843491600-1843491600@www.cordovagc.gov
SUMMARY:Spark Golf League
DESCRIPTION:Spark Golf League is a 9-hole social golf league. Prior sign up is required on www.spark.golf
URL:https://www.cordovagc.gov/event/spark-golf-league/2028-06-01/
END:VEVENT
BEGIN:VEVENT
DTSTART;TZID=UTC:20280608T170000
DTEND;TZID=UTC:20280608T170000
DTSTAMP:20260420T181942
CREATED:20250902T221532Z
LAST-MODIFIED:20250902T221532Z
UID:10007901-1844096400-1844096400@www.cordovagc.gov
SUMMARY:Spark Golf League
DESCRIPTION:Spark Golf League is a 9-hole social golf league. Prior sign up is required on www.spark.golf
URL:https://www.cordovagc.gov/event/spark-golf-league/2028-06-08/
END:VEVENT
BEGIN:VEVENT
DTSTART;TZID=UTC:20280615T170000
DTEND;TZID=UTC:20280615T170000
DTSTAMP:20260420T181942
CREATED:20250902T221532Z
LAST-MODIFIED:20250902T221532Z
UID:10007902-1844701200-1844701200@www.cordovagc.gov
SUMMARY:Spark Golf League
DESCRIPTION:Spark Golf League is a 9-hole social golf league. Prior sign up is required on www.spark.golf
URL:https://www.cordovagc.gov/event/spark-golf-league/2028-06-15/
END:VEVENT
BEGIN:VEVENT
DTSTART;TZID=UTC:20280622T170000
DTEND;TZID=UTC:20280622T170000
DTSTAMP:20260420T181942
CREATED:20250902T221532Z
LAST-MODIFIED:20250902T221532Z
UID:10007903-1845306000-1845306000@www.cordovagc.gov
SUMMARY:Spark Golf League
DESCRIPTION:Spark Golf League is a 9-hole social golf league. Prior sign up is required on www.spark.golf
URL:https://www.cordovagc.gov/event/spark-golf-league/2028-06-22/
END:VEVENT
BEGIN:VEVENT
DTSTART;TZID=UTC:20280629T170000
DTEND;TZID=UTC:20280629T170000
DTSTAMP:20260420T181942
CREATED:20250902T221532Z
LAST-MODIFIED:20250902T221532Z
UID:10007904-1845910800-1845910800@www.cordovagc.gov
SUMMARY:Spark Golf League
DESCRIPTION:Spark Golf League is a 9-hole social golf league. Prior sign up is required on www.spark.golf
URL:https://www.cordovagc.gov/event/spark-golf-league/2028-06-29/
END:VEVENT
BEGIN:VEVENT
DTSTART;TZID=UTC:20280706T170000
DTEND;TZID=UTC:20280706T170000
DTSTAMP:20260420T181942
CREATED:20250902T221532Z
LAST-MODIFIED:20250902T221532Z
UID:10007905-1846515600-1846515600@www.cordovagc.gov
SUMMARY:Spark Golf League
DESCRIPTION:Spark Golf League is a 9-hole social golf league. Prior sign up is required on www.spark.golf
URL:https://www.cordovagc.gov/event/spark-golf-league/2028-07-06/
END:VEVENT
BEGIN:VEVENT
DTSTART;TZID=UTC:20280713T170000
DTEND;TZID=UTC:20280713T170000
DTSTAMP:20260420T181942
CREATED:20250902T221532Z
LAST-MODIFIED:20250902T221532Z
UID:10007906-1847120400-1847120400@www.cordovagc.gov
SUMMARY:Spark Golf League
DESCRIPTION:Spark Golf League is a 9-hole social golf league. Prior sign up is required on www.spark.golf
URL:https://www.cordovagc.gov/event/spark-golf-league/2028-07-13/
END:VEVENT
BEGIN:VEVENT
DTSTART;TZID=UTC:20280720T170000
DTEND;TZID=UTC:20280720T170000
DTSTAMP:20260420T181942
CREATED:20250902T221532Z
LAST-MODIFIED:20250902T221532Z
UID:10007907-1847725200-1847725200@www.cordovagc.gov
SUMMARY:Spark Golf League
DESCRIPTION:Spark Golf League is a 9-hole social golf league. Prior sign up is required on www.spark.golf
URL:https://www.cordovagc.gov/event/spark-golf-league/2028-07-20/
END:VEVENT
BEGIN:VEVENT
DTSTART;TZID=UTC:20280727T170000
DTEND;TZID=UTC:20280727T170000
DTSTAMP:20260420T181942
CREATED:20250902T221532Z
LAST-MODIFIED:20250902T221532Z
UID:10007908-1848330000-1848330000@www.cordovagc.gov
SUMMARY:Spark Golf League
DESCRIPTION:Spark Golf League is a 9-hole social golf league. Prior sign up is required on www.spark.golf
URL:https://www.cordovagc.gov/event/spark-golf-league/2028-07-27/
END:VEVENT
BEGIN:VEVENT
DTSTART;TZID=UTC:20280803T170000
DTEND;TZID=UTC:20280803T170000
DTSTAMP:20260420T181942
CREATED:20250902T221532Z
LAST-MODIFIED:20250902T221532Z
UID:10007909-1848934800-1848934800@www.cordovagc.gov
SUMMARY:Spark Golf League
DESCRIPTION:Spark Golf League is a 9-hole social golf league. Prior sign up is required on www.spark.golf
URL:https://www.cordovagc.gov/event/spark-golf-league/2028-08-03/
END:VEVENT
BEGIN:VEVENT
DTSTART;TZID=UTC:20280810T170000
DTEND;TZID=UTC:20280810T170000
DTSTAMP:20260420T181942
CREATED:20250902T221532Z
LAST-MODIFIED:20250902T221532Z
UID:10007910-1849539600-1849539600@www.cordovagc.gov
SUMMARY:Spark Golf League
DESCRIPTION:Spark Golf League is a 9-hole social golf league. Prior sign up is required on www.spark.golf
URL:https://www.cordovagc.gov/event/spark-golf-league/2028-08-10/
END:VEVENT
BEGIN:VEVENT
DTSTART;TZID=UTC:20280817T170000
DTEND;TZID=UTC:20280817T170000
DTSTAMP:20260420T181942
CREATED:20250902T221532Z
LAST-MODIFIED:20250902T221532Z
UID:10007911-1850144400-1850144400@www.cordovagc.gov
SUMMARY:Spark Golf League
DESCRIPTION:Spark Golf League is a 9-hole social golf league. Prior sign up is required on www.spark.golf
URL:https://www.cordovagc.gov/event/spark-golf-league/2028-08-17/
END:VEVENT
BEGIN:VEVENT
DTSTART;TZID=UTC:20280824T170000
DTEND;TZID=UTC:20280824T170000
DTSTAMP:20260420T181942
CREATED:20250902T221532Z
LAST-MODIFIED:20250902T221532Z
UID:10007912-1850749200-1850749200@www.cordovagc.gov
SUMMARY:Spark Golf League
DESCRIPTION:Spark Golf League is a 9-hole social golf league. Prior sign up is required on www.spark.golf
URL:https://www.cordovagc.gov/event/spark-golf-league/2028-08-24/
END:VEVENT
BEGIN:VEVENT
DTSTART;TZID=UTC:20280831T170000
DTEND;TZID=UTC:20280831T170000
DTSTAMP:20260420T181942
CREATED:20250902T221532Z
LAST-MODIFIED:20250902T221532Z
UID:10007913-1851354000-1851354000@www.cordovagc.gov
SUMMARY:Spark Golf League
DESCRIPTION:Spark Golf League is a 9-hole social golf league. Prior sign up is required on www.spark.golf
URL:https://www.cordovagc.gov/event/spark-golf-league/2028-08-31/
END:VEVENT
BEGIN:VEVENT
DTSTART;TZID=UTC:20280907T170000
DTEND;TZID=UTC:20280907T170000
DTSTAMP:20260420T181942
CREATED:20250902T221532Z
LAST-MODIFIED:20250902T221532Z
UID:10007914-1851958800-1851958800@www.cordovagc.gov
SUMMARY:Spark Golf League
DESCRIPTION:Spark Golf League is a 9-hole social golf league. Prior sign up is required on www.spark.golf
URL:https://www.cordovagc.gov/event/spark-golf-league/2028-09-07/
END:VEVENT
BEGIN:VEVENT
DTSTART;TZID=UTC:20280914T170000
DTEND;TZID=UTC:20280914T170000
DTSTAMP:20260420T181942
CREATED:20250902T221532Z
LAST-MODIFIED:20250902T221532Z
UID:10007915-1852563600-1852563600@www.cordovagc.gov
SUMMARY:Spark Golf League
DESCRIPTION:Spark Golf League is a 9-hole social golf league. Prior sign up is required on www.spark.golf
URL:https://www.cordovagc.gov/event/spark-golf-league/2028-09-14/
END:VEVENT
BEGIN:VEVENT
DTSTART;TZID=UTC:20280921T170000
DTEND;TZID=UTC:20280921T170000
DTSTAMP:20260420T181942
CREATED:20250902T221532Z
LAST-MODIFIED:20250902T221532Z
UID:10007916-1853168400-1853168400@www.cordovagc.gov
SUMMARY:Spark Golf League
DESCRIPTION:Spark Golf League is a 9-hole social golf league. Prior sign up is required on www.spark.golf
URL:https://www.cordovagc.gov/event/spark-golf-league/2028-09-21/
END:VEVENT
BEGIN:VEVENT
DTSTART;TZID=UTC:20280928T170000
DTEND;TZID=UTC:20280928T170000
DTSTAMP:20260420T181942
CREATED:20250902T221532Z
LAST-MODIFIED:20250902T221532Z
UID:10007917-1853773200-1853773200@www.cordovagc.gov
SUMMARY:Spark Golf League
DESCRIPTION:Spark Golf League is a 9-hole social golf league. Prior sign up is required on www.spark.golf
URL:https://www.cordovagc.gov/event/spark-golf-league/2028-09-28/
END:VEVENT
BEGIN:VEVENT
DTSTART;TZID=UTC:20281005T170000
DTEND;TZID=UTC:20281005T170000
DTSTAMP:20260420T181942
CREATED:20250902T221532Z
LAST-MODIFIED:20250902T221532Z
UID:10007918-1854378000-1854378000@www.cordovagc.gov
SUMMARY:Spark Golf League
DESCRIPTION:Spark Golf League is a 9-hole social golf league. Prior sign up is required on www.spark.golf
URL:https://www.cordovagc.gov/event/spark-golf-league/2028-10-05/
END:VEVENT
BEGIN:VEVENT
DTSTART;TZID=UTC:20281012T170000
DTEND;TZID=UTC:20281012T170000
DTSTAMP:20260420T181942
CREATED:20250902T221532Z
LAST-MODIFIED:20250902T221532Z
UID:10007919-1854982800-1854982800@www.cordovagc.gov
SUMMARY:Spark Golf League
DESCRIPTION:Spark Golf League is a 9-hole social golf league. Prior sign up is required on www.spark.golf
URL:https://www.cordovagc.gov/event/spark-golf-league/2028-10-12/
END:VEVENT
BEGIN:VEVENT
DTSTART;TZID=UTC:20281019T170000
DTEND;TZID=UTC:20281019T170000
DTSTAMP:20260420T181942
CREATED:20250902T221532Z
LAST-MODIFIED:20250902T221532Z
UID:10007920-1855587600-1855587600@www.cordovagc.gov
SUMMARY:Spark Golf League
DESCRIPTION:Spark Golf League is a 9-hole social golf league. Prior sign up is required on www.spark.golf
URL:https://www.cordovagc.gov/event/spark-golf-league/2028-10-19/
END:VEVENT
BEGIN:VEVENT
DTSTART;TZID=UTC:20281026T170000
DTEND;TZID=UTC:20281026T170000
DTSTAMP:20260420T181942
CREATED:20250902T221532Z
LAST-MODIFIED:20250902T221532Z
UID:10007921-1856192400-1856192400@www.cordovagc.gov
SUMMARY:Spark Golf League
DESCRIPTION:Spark Golf League is a 9-hole social golf league. Prior sign up is required on www.spark.golf
URL:https://www.cordovagc.gov/event/spark-golf-league/2028-10-26/
END:VEVENT
BEGIN:VEVENT
DTSTART;TZID=UTC:20281102T170000
DTEND;TZID=UTC:20281102T170000
DTSTAMP:20260420T181942
CREATED:20250902T221532Z
LAST-MODIFIED:20250902T221532Z
UID:10007922-1856797200-1856797200@www.cordovagc.gov
SUMMARY:Spark Golf League
DESCRIPTION:Spark Golf League is a 9-hole social golf league. Prior sign up is required on www.spark.golf
URL:https://www.cordovagc.gov/event/spark-golf-league/2028-11-02/
END:VEVENT
BEGIN:VEVENT
DTSTART;TZID=UTC:20281109T170000
DTEND;TZID=UTC:20281109T170000
DTSTAMP:20260420T181942
CREATED:20250902T221532Z
LAST-MODIFIED:20250902T221532Z
UID:10007923-1857402000-1857402000@www.cordovagc.gov
SUMMARY:Spark Golf League
DESCRIPTION:Spark Golf League is a 9-hole social golf league. Prior sign up is required on www.spark.golf
URL:https://www.cordovagc.gov/event/spark-golf-league/2028-11-09/
END:VEVENT
BEGIN:VEVENT
DTSTART;TZID=UTC:20281116T170000
DTEND;TZID=UTC:20281116T170000
DTSTAMP:20260420T181942
CREATED:20250902T221532Z
LAST-MODIFIED:20250902T221532Z
UID:10007924-1858006800-1858006800@www.cordovagc.gov
SUMMARY:Spark Golf League
DESCRIPTION:Spark Golf League is a 9-hole social golf league. Prior sign up is required on www.spark.golf
URL:https://www.cordovagc.gov/event/spark-golf-league/2028-11-16/
END:VEVENT
BEGIN:VEVENT
DTSTART;TZID=UTC:20281123T170000
DTEND;TZID=UTC:20281123T170000
DTSTAMP:20260420T181942
CREATED:20250902T221532Z
LAST-MODIFIED:20250902T221532Z
UID:10007925-1858611600-1858611600@www.cordovagc.gov
SUMMARY:Spark Golf League
DESCRIPTION:Spark Golf League is a 9-hole social golf league. Prior sign up is required on www.spark.golf
URL:https://www.cordovagc.gov/event/spark-golf-league/2028-11-23/
END:VEVENT
BEGIN:VEVENT
DTSTART;TZID=UTC:20281130T170000
DTEND;TZID=UTC:20281130T170000
DTSTAMP:20260420T181942
CREATED:20250902T221532Z
LAST-MODIFIED:20250902T221532Z
UID:10007926-1859216400-1859216400@www.cordovagc.gov
SUMMARY:Spark Golf League
DESCRIPTION:Spark Golf League is a 9-hole social golf league. Prior sign up is required on www.spark.golf
URL:https://www.cordovagc.gov/event/spark-golf-league/2028-11-30/
END:VEVENT
BEGIN:VEVENT
DTSTART;TZID=UTC:20281207T170000
DTEND;TZID=UTC:20281207T170000
DTSTAMP:20260420T181942
CREATED:20250902T221532Z
LAST-MODIFIED:20250902T221532Z
UID:10007927-1859821200-1859821200@www.cordovagc.gov
SUMMARY:Spark Golf League
DESCRIPTION:Spark Golf League is a 9-hole social golf league. Prior sign up is required on www.spark.golf
URL:https://www.cordovagc.gov/event/spark-golf-league/2028-12-07/
END:VEVENT
END:VCALENDAR