BEGIN:VCALENDAR
VERSION:2.0
PRODID:-//Cordova Golf Course - ECPv6.15.18//NONSGML v1.0//EN
CALSCALE:GREGORIAN
METHOD:PUBLISH
X-ORIGINAL-URL:https://www.cordovagc.gov
X-WR-CALDESC:Events for Cordova Golf Course
REFRESH-INTERVAL;VALUE=DURATION:PT1H
X-Robots-Tag:noindex
X-PUBLISHED-TTL:PT1H
BEGIN:VTIMEZONE
TZID:UTC
BEGIN:STANDARD
TZOFFSETFROM:+0000
TZOFFSETTO:+0000
TZNAME:UTC
DTSTART:20250101T000000
END:STANDARD
END:VTIMEZONE
BEGIN:VEVENT
DTSTART;TZID=UTC:20261209T170000
DTEND;TZID=UTC:20261209T200000
DTSTAMP:20260421T145601
CREATED:20241105T165724Z
LAST-MODIFIED:20251013T222810Z
UID:10005325-1796835600-1796846400@www.cordovagc.gov
SUMMARY:Lighted Driving Range
DESCRIPTION:Lighted Driving Range every Wednesday and Saturday starting November 6
URL:https://www.cordovagc.gov/event/lighted-driving-range-2/2026-12-09/
END:VEVENT
BEGIN:VEVENT
DTSTART;TZID=UTC:20261210T170000
DTEND;TZID=UTC:20261210T200000
DTSTAMP:20260421T145601
CREATED:20241105T165724Z
LAST-MODIFIED:20251013T222810Z
UID:10005326-1796922000-1796932800@www.cordovagc.gov
SUMMARY:Lighted Driving Range
DESCRIPTION:Lighted Driving Range every Wednesday and Saturday starting November 6
URL:https://www.cordovagc.gov/event/lighted-driving-range-2/2026-12-10/
END:VEVENT
BEGIN:VEVENT
DTSTART;TZID=UTC:20261211T170000
DTEND;TZID=UTC:20261211T200000
DTSTAMP:20260421T145601
CREATED:20241105T165724Z
LAST-MODIFIED:20251013T222810Z
UID:10005327-1797008400-1797019200@www.cordovagc.gov
SUMMARY:Lighted Driving Range
DESCRIPTION:Lighted Driving Range every Wednesday and Saturday starting November 6
URL:https://www.cordovagc.gov/event/lighted-driving-range-2/2026-12-11/
END:VEVENT
BEGIN:VEVENT
DTSTART;TZID=UTC:20261212T170000
DTEND;TZID=UTC:20261212T200000
DTSTAMP:20260421T145601
CREATED:20241105T165724Z
LAST-MODIFIED:20251013T222810Z
UID:10005328-1797094800-1797105600@www.cordovagc.gov
SUMMARY:Lighted Driving Range
DESCRIPTION:Lighted Driving Range every Wednesday and Saturday starting November 6
URL:https://www.cordovagc.gov/event/lighted-driving-range-2/2026-12-12/
END:VEVENT
BEGIN:VEVENT
DTSTART;TZID=UTC:20261216T170000
DTEND;TZID=UTC:20261216T200000
DTSTAMP:20260421T145601
CREATED:20241105T165724Z
LAST-MODIFIED:20251013T222810Z
UID:10005329-1797440400-1797451200@www.cordovagc.gov
SUMMARY:Lighted Driving Range
DESCRIPTION:Lighted Driving Range every Wednesday and Saturday starting November 6
URL:https://www.cordovagc.gov/event/lighted-driving-range-2/2026-12-16/
END:VEVENT
BEGIN:VEVENT
DTSTART;TZID=UTC:20261217T170000
DTEND;TZID=UTC:20261217T200000
DTSTAMP:20260421T145601
CREATED:20241105T165724Z
LAST-MODIFIED:20251013T222810Z
UID:10005330-1797526800-1797537600@www.cordovagc.gov
SUMMARY:Lighted Driving Range
DESCRIPTION:Lighted Driving Range every Wednesday and Saturday starting November 6
URL:https://www.cordovagc.gov/event/lighted-driving-range-2/2026-12-17/
END:VEVENT
BEGIN:VEVENT
DTSTART;TZID=UTC:20261218T170000
DTEND;TZID=UTC:20261218T200000
DTSTAMP:20260421T145601
CREATED:20241105T165724Z
LAST-MODIFIED:20251013T222810Z
UID:10005331-1797613200-1797624000@www.cordovagc.gov
SUMMARY:Lighted Driving Range
DESCRIPTION:Lighted Driving Range every Wednesday and Saturday starting November 6
URL:https://www.cordovagc.gov/event/lighted-driving-range-2/2026-12-18/
END:VEVENT
BEGIN:VEVENT
DTSTART;TZID=UTC:20261219T170000
DTEND;TZID=UTC:20261219T200000
DTSTAMP:20260421T145601
CREATED:20241105T165724Z
LAST-MODIFIED:20251013T222810Z
UID:10005332-1797699600-1797710400@www.cordovagc.gov
SUMMARY:Lighted Driving Range
DESCRIPTION:Lighted Driving Range every Wednesday and Saturday starting November 6
URL:https://www.cordovagc.gov/event/lighted-driving-range-2/2026-12-19/
END:VEVENT
BEGIN:VEVENT
DTSTART;TZID=UTC:20261223T170000
DTEND;TZID=UTC:20261223T200000
DTSTAMP:20260421T145601
CREATED:20241105T165724Z
LAST-MODIFIED:20251013T222810Z
UID:10005333-1798045200-1798056000@www.cordovagc.gov
SUMMARY:Lighted Driving Range
DESCRIPTION:Lighted Driving Range every Wednesday and Saturday starting November 6
URL:https://www.cordovagc.gov/event/lighted-driving-range-2/2026-12-23/
END:VEVENT
BEGIN:VEVENT
DTSTART;TZID=UTC:20261224T170000
DTEND;TZID=UTC:20261224T200000
DTSTAMP:20260421T145601
CREATED:20241105T165724Z
LAST-MODIFIED:20251013T222810Z
UID:10005334-1798131600-1798142400@www.cordovagc.gov
SUMMARY:Lighted Driving Range
DESCRIPTION:Lighted Driving Range every Wednesday and Saturday starting November 6
URL:https://www.cordovagc.gov/event/lighted-driving-range-2/2026-12-24/
END:VEVENT
BEGIN:VEVENT
DTSTART;TZID=UTC:20261225T170000
DTEND;TZID=UTC:20261225T200000
DTSTAMP:20260421T145601
CREATED:20241105T165724Z
LAST-MODIFIED:20251013T222810Z
UID:10005335-1798218000-1798228800@www.cordovagc.gov
SUMMARY:Lighted Driving Range
DESCRIPTION:Lighted Driving Range every Wednesday and Saturday starting November 6
URL:https://www.cordovagc.gov/event/lighted-driving-range-2/2026-12-25/
END:VEVENT
BEGIN:VEVENT
DTSTART;TZID=UTC:20261226T170000
DTEND;TZID=UTC:20261226T200000
DTSTAMP:20260421T145601
CREATED:20241105T165724Z
LAST-MODIFIED:20251013T222810Z
UID:10005336-1798304400-1798315200@www.cordovagc.gov
SUMMARY:Lighted Driving Range
DESCRIPTION:Lighted Driving Range every Wednesday and Saturday starting November 6
URL:https://www.cordovagc.gov/event/lighted-driving-range-2/2026-12-26/
END:VEVENT
BEGIN:VEVENT
DTSTART;TZID=UTC:20261230T170000
DTEND;TZID=UTC:20261230T200000
DTSTAMP:20260421T145601
CREATED:20241105T165724Z
LAST-MODIFIED:20251013T222810Z
UID:10005337-1798650000-1798660800@www.cordovagc.gov
SUMMARY:Lighted Driving Range
DESCRIPTION:Lighted Driving Range every Wednesday and Saturday starting November 6
URL:https://www.cordovagc.gov/event/lighted-driving-range-2/2026-12-30/
END:VEVENT
BEGIN:VEVENT
DTSTART;TZID=UTC:20261231T170000
DTEND;TZID=UTC:20261231T200000
DTSTAMP:20260421T145601
CREATED:20241105T165724Z
LAST-MODIFIED:20251013T222810Z
UID:10005338-1798736400-1798747200@www.cordovagc.gov
SUMMARY:Lighted Driving Range
DESCRIPTION:Lighted Driving Range every Wednesday and Saturday starting November 6
URL:https://www.cordovagc.gov/event/lighted-driving-range-2/2026-12-31/
END:VEVENT
BEGIN:VEVENT
DTSTART;TZID=UTC:20270101T170000
DTEND;TZID=UTC:20270101T200000
DTSTAMP:20260421T145601
CREATED:20241105T165724Z
LAST-MODIFIED:20251013T222810Z
UID:10005339-1798822800-1798833600@www.cordovagc.gov
SUMMARY:Lighted Driving Range
DESCRIPTION:Lighted Driving Range every Wednesday and Saturday starting November 6
URL:https://www.cordovagc.gov/event/lighted-driving-range-2/2027-01-01/
END:VEVENT
BEGIN:VEVENT
DTSTART;TZID=UTC:20270102T170000
DTEND;TZID=UTC:20270102T200000
DTSTAMP:20260421T145601
CREATED:20241105T165724Z
LAST-MODIFIED:20251013T222810Z
UID:10005340-1798909200-1798920000@www.cordovagc.gov
SUMMARY:Lighted Driving Range
DESCRIPTION:Lighted Driving Range every Wednesday and Saturday starting November 6
URL:https://www.cordovagc.gov/event/lighted-driving-range-2/2027-01-02/
END:VEVENT
BEGIN:VEVENT
DTSTART;TZID=UTC:20270106T170000
DTEND;TZID=UTC:20270106T200000
DTSTAMP:20260421T145601
CREATED:20241105T165724Z
LAST-MODIFIED:20251013T222810Z
UID:10005341-1799254800-1799265600@www.cordovagc.gov
SUMMARY:Lighted Driving Range
DESCRIPTION:Lighted Driving Range every Wednesday and Saturday starting November 6
URL:https://www.cordovagc.gov/event/lighted-driving-range-2/2027-01-06/
END:VEVENT
BEGIN:VEVENT
DTSTART;TZID=UTC:20270107T170000
DTEND;TZID=UTC:20270107T200000
DTSTAMP:20260421T145601
CREATED:20241105T165724Z
LAST-MODIFIED:20251013T222810Z
UID:10005342-1799341200-1799352000@www.cordovagc.gov
SUMMARY:Lighted Driving Range
DESCRIPTION:Lighted Driving Range every Wednesday and Saturday starting November 6
URL:https://www.cordovagc.gov/event/lighted-driving-range-2/2027-01-07/
END:VEVENT
BEGIN:VEVENT
DTSTART;TZID=UTC:20270108T170000
DTEND;TZID=UTC:20270108T200000
DTSTAMP:20260421T145601
CREATED:20241105T165724Z
LAST-MODIFIED:20251013T222810Z
UID:10005343-1799427600-1799438400@www.cordovagc.gov
SUMMARY:Lighted Driving Range
DESCRIPTION:Lighted Driving Range every Wednesday and Saturday starting November 6
URL:https://www.cordovagc.gov/event/lighted-driving-range-2/2027-01-08/
END:VEVENT
BEGIN:VEVENT
DTSTART;TZID=UTC:20270109T170000
DTEND;TZID=UTC:20270109T200000
DTSTAMP:20260421T145601
CREATED:20241105T165724Z
LAST-MODIFIED:20251013T222810Z
UID:10005344-1799514000-1799524800@www.cordovagc.gov
SUMMARY:Lighted Driving Range
DESCRIPTION:Lighted Driving Range every Wednesday and Saturday starting November 6
URL:https://www.cordovagc.gov/event/lighted-driving-range-2/2027-01-09/
END:VEVENT
BEGIN:VEVENT
DTSTART;TZID=UTC:20270113T170000
DTEND;TZID=UTC:20270113T200000
DTSTAMP:20260421T145601
CREATED:20241105T165724Z
LAST-MODIFIED:20251013T222810Z
UID:10005345-1799859600-1799870400@www.cordovagc.gov
SUMMARY:Lighted Driving Range
DESCRIPTION:Lighted Driving Range every Wednesday and Saturday starting November 6
URL:https://www.cordovagc.gov/event/lighted-driving-range-2/2027-01-13/
END:VEVENT
BEGIN:VEVENT
DTSTART;TZID=UTC:20270114T170000
DTEND;TZID=UTC:20270114T200000
DTSTAMP:20260421T145601
CREATED:20241105T165724Z
LAST-MODIFIED:20251013T222810Z
UID:10005346-1799946000-1799956800@www.cordovagc.gov
SUMMARY:Lighted Driving Range
DESCRIPTION:Lighted Driving Range every Wednesday and Saturday starting November 6
URL:https://www.cordovagc.gov/event/lighted-driving-range-2/2027-01-14/
END:VEVENT
BEGIN:VEVENT
DTSTART;TZID=UTC:20270115T170000
DTEND;TZID=UTC:20270115T200000
DTSTAMP:20260421T145601
CREATED:20241105T165724Z
LAST-MODIFIED:20251013T222810Z
UID:10005347-1800032400-1800043200@www.cordovagc.gov
SUMMARY:Lighted Driving Range
DESCRIPTION:Lighted Driving Range every Wednesday and Saturday starting November 6
URL:https://www.cordovagc.gov/event/lighted-driving-range-2/2027-01-15/
END:VEVENT
BEGIN:VEVENT
DTSTART;TZID=UTC:20270116T170000
DTEND;TZID=UTC:20270116T200000
DTSTAMP:20260421T145601
CREATED:20241105T165724Z
LAST-MODIFIED:20251013T222810Z
UID:10005348-1800118800-1800129600@www.cordovagc.gov
SUMMARY:Lighted Driving Range
DESCRIPTION:Lighted Driving Range every Wednesday and Saturday starting November 6
URL:https://www.cordovagc.gov/event/lighted-driving-range-2/2027-01-16/
END:VEVENT
BEGIN:VEVENT
DTSTART;TZID=UTC:20270120T170000
DTEND;TZID=UTC:20270120T200000
DTSTAMP:20260421T145601
CREATED:20241105T165724Z
LAST-MODIFIED:20251013T222810Z
UID:10005349-1800464400-1800475200@www.cordovagc.gov
SUMMARY:Lighted Driving Range
DESCRIPTION:Lighted Driving Range every Wednesday and Saturday starting November 6
URL:https://www.cordovagc.gov/event/lighted-driving-range-2/2027-01-20/
END:VEVENT
BEGIN:VEVENT
DTSTART;TZID=UTC:20270121T170000
DTEND;TZID=UTC:20270121T200000
DTSTAMP:20260421T145601
CREATED:20241105T165724Z
LAST-MODIFIED:20251013T222810Z
UID:10005350-1800550800-1800561600@www.cordovagc.gov
SUMMARY:Lighted Driving Range
DESCRIPTION:Lighted Driving Range every Wednesday and Saturday starting November 6
URL:https://www.cordovagc.gov/event/lighted-driving-range-2/2027-01-21/
END:VEVENT
BEGIN:VEVENT
DTSTART;TZID=UTC:20270122T170000
DTEND;TZID=UTC:20270122T200000
DTSTAMP:20260421T145601
CREATED:20241105T165724Z
LAST-MODIFIED:20251013T222810Z
UID:10005351-1800637200-1800648000@www.cordovagc.gov
SUMMARY:Lighted Driving Range
DESCRIPTION:Lighted Driving Range every Wednesday and Saturday starting November 6
URL:https://www.cordovagc.gov/event/lighted-driving-range-2/2027-01-22/
END:VEVENT
BEGIN:VEVENT
DTSTART;TZID=UTC:20270123T170000
DTEND;TZID=UTC:20270123T200000
DTSTAMP:20260421T145601
CREATED:20241105T165724Z
LAST-MODIFIED:20251013T222810Z
UID:10005352-1800723600-1800734400@www.cordovagc.gov
SUMMARY:Lighted Driving Range
DESCRIPTION:Lighted Driving Range every Wednesday and Saturday starting November 6
URL:https://www.cordovagc.gov/event/lighted-driving-range-2/2027-01-23/
END:VEVENT
BEGIN:VEVENT
DTSTART;TZID=UTC:20270127T170000
DTEND;TZID=UTC:20270127T200000
DTSTAMP:20260421T145601
CREATED:20241105T165724Z
LAST-MODIFIED:20251013T222810Z
UID:10005353-1801069200-1801080000@www.cordovagc.gov
SUMMARY:Lighted Driving Range
DESCRIPTION:Lighted Driving Range every Wednesday and Saturday starting November 6
URL:https://www.cordovagc.gov/event/lighted-driving-range-2/2027-01-27/
END:VEVENT
BEGIN:VEVENT
DTSTART;TZID=UTC:20270128T170000
DTEND;TZID=UTC:20270128T200000
DTSTAMP:20260421T145601
CREATED:20241105T165724Z
LAST-MODIFIED:20251013T222810Z
UID:10005354-1801155600-1801166400@www.cordovagc.gov
SUMMARY:Lighted Driving Range
DESCRIPTION:Lighted Driving Range every Wednesday and Saturday starting November 6
URL:https://www.cordovagc.gov/event/lighted-driving-range-2/2027-01-28/
END:VEVENT
END:VCALENDAR