BEGIN:VCALENDAR
VERSION:2.0
PRODID:-//Cordova Golf Course - ECPv6.15.18//NONSGML v1.0//EN
CALSCALE:GREGORIAN
METHOD:PUBLISH
X-ORIGINAL-URL:https://www.cordovagc.gov
X-WR-CALDESC:Events for Cordova Golf Course
REFRESH-INTERVAL;VALUE=DURATION:PT1H
X-Robots-Tag:noindex
X-PUBLISHED-TTL:PT1H
BEGIN:VTIMEZONE
TZID:UTC
BEGIN:STANDARD
TZOFFSETFROM:+0000
TZOFFSETTO:+0000
TZNAME:UTC
DTSTART:20260101T000000
END:STANDARD
END:VTIMEZONE
BEGIN:VEVENT
DTSTART;TZID=UTC:20270303T170000
DTEND;TZID=UTC:20270303T200000
DTSTAMP:20260421T200456
CREATED:20241105T165724Z
LAST-MODIFIED:20251013T222810Z
UID:10005373-1804093200-1804104000@www.cordovagc.gov
SUMMARY:Lighted Driving Range
DESCRIPTION:Lighted Driving Range every Wednesday and Saturday starting November 6
URL:https://www.cordovagc.gov/event/lighted-driving-range-2/2027-03-03/
END:VEVENT
BEGIN:VEVENT
DTSTART;TZID=UTC:20270304T170000
DTEND;TZID=UTC:20270304T200000
DTSTAMP:20260421T200456
CREATED:20241105T165724Z
LAST-MODIFIED:20251013T222810Z
UID:10005374-1804179600-1804190400@www.cordovagc.gov
SUMMARY:Lighted Driving Range
DESCRIPTION:Lighted Driving Range every Wednesday and Saturday starting November 6
URL:https://www.cordovagc.gov/event/lighted-driving-range-2/2027-03-04/
END:VEVENT
BEGIN:VEVENT
DTSTART;TZID=UTC:20270305T170000
DTEND;TZID=UTC:20270305T200000
DTSTAMP:20260421T200456
CREATED:20241105T165724Z
LAST-MODIFIED:20251013T222810Z
UID:10005375-1804266000-1804276800@www.cordovagc.gov
SUMMARY:Lighted Driving Range
DESCRIPTION:Lighted Driving Range every Wednesday and Saturday starting November 6
URL:https://www.cordovagc.gov/event/lighted-driving-range-2/2027-03-05/
END:VEVENT
BEGIN:VEVENT
DTSTART;TZID=UTC:20270306T170000
DTEND;TZID=UTC:20270306T200000
DTSTAMP:20260421T200456
CREATED:20241105T165724Z
LAST-MODIFIED:20251013T222810Z
UID:10005376-1804352400-1804363200@www.cordovagc.gov
SUMMARY:Lighted Driving Range
DESCRIPTION:Lighted Driving Range every Wednesday and Saturday starting November 6
URL:https://www.cordovagc.gov/event/lighted-driving-range-2/2027-03-06/
END:VEVENT
BEGIN:VEVENT
DTSTART;TZID=UTC:20270310T170000
DTEND;TZID=UTC:20270310T200000
DTSTAMP:20260421T200456
CREATED:20241105T165724Z
LAST-MODIFIED:20251013T222810Z
UID:10005377-1804698000-1804708800@www.cordovagc.gov
SUMMARY:Lighted Driving Range
DESCRIPTION:Lighted Driving Range every Wednesday and Saturday starting November 6
URL:https://www.cordovagc.gov/event/lighted-driving-range-2/2027-03-10/
END:VEVENT
BEGIN:VEVENT
DTSTART;TZID=UTC:20270311T170000
DTEND;TZID=UTC:20270311T200000
DTSTAMP:20260421T200456
CREATED:20241105T165724Z
LAST-MODIFIED:20251013T222810Z
UID:10005378-1804784400-1804795200@www.cordovagc.gov
SUMMARY:Lighted Driving Range
DESCRIPTION:Lighted Driving Range every Wednesday and Saturday starting November 6
URL:https://www.cordovagc.gov/event/lighted-driving-range-2/2027-03-11/
END:VEVENT
BEGIN:VEVENT
DTSTART;TZID=UTC:20270312T170000
DTEND;TZID=UTC:20270312T200000
DTSTAMP:20260421T200456
CREATED:20241105T165724Z
LAST-MODIFIED:20251013T222810Z
UID:10005379-1804870800-1804881600@www.cordovagc.gov
SUMMARY:Lighted Driving Range
DESCRIPTION:Lighted Driving Range every Wednesday and Saturday starting November 6
URL:https://www.cordovagc.gov/event/lighted-driving-range-2/2027-03-12/
END:VEVENT
BEGIN:VEVENT
DTSTART;TZID=UTC:20270313T170000
DTEND;TZID=UTC:20270313T200000
DTSTAMP:20260421T200456
CREATED:20241105T165724Z
LAST-MODIFIED:20251013T222810Z
UID:10005380-1804957200-1804968000@www.cordovagc.gov
SUMMARY:Lighted Driving Range
DESCRIPTION:Lighted Driving Range every Wednesday and Saturday starting November 6
URL:https://www.cordovagc.gov/event/lighted-driving-range-2/2027-03-13/
END:VEVENT
BEGIN:VEVENT
DTSTART;TZID=UTC:20270317T170000
DTEND;TZID=UTC:20270317T200000
DTSTAMP:20260421T200456
CREATED:20241105T165724Z
LAST-MODIFIED:20251013T222810Z
UID:10005381-1805302800-1805313600@www.cordovagc.gov
SUMMARY:Lighted Driving Range
DESCRIPTION:Lighted Driving Range every Wednesday and Saturday starting November 6
URL:https://www.cordovagc.gov/event/lighted-driving-range-2/2027-03-17/
END:VEVENT
BEGIN:VEVENT
DTSTART;TZID=UTC:20270318T170000
DTEND;TZID=UTC:20270318T200000
DTSTAMP:20260421T200456
CREATED:20241105T165724Z
LAST-MODIFIED:20251013T222810Z
UID:10005382-1805389200-1805400000@www.cordovagc.gov
SUMMARY:Lighted Driving Range
DESCRIPTION:Lighted Driving Range every Wednesday and Saturday starting November 6
URL:https://www.cordovagc.gov/event/lighted-driving-range-2/2027-03-18/
END:VEVENT
BEGIN:VEVENT
DTSTART;TZID=UTC:20270319T170000
DTEND;TZID=UTC:20270319T200000
DTSTAMP:20260421T200456
CREATED:20241105T165724Z
LAST-MODIFIED:20251013T222810Z
UID:10005383-1805475600-1805486400@www.cordovagc.gov
SUMMARY:Lighted Driving Range
DESCRIPTION:Lighted Driving Range every Wednesday and Saturday starting November 6
URL:https://www.cordovagc.gov/event/lighted-driving-range-2/2027-03-19/
END:VEVENT
BEGIN:VEVENT
DTSTART;TZID=UTC:20270320T170000
DTEND;TZID=UTC:20270320T200000
DTSTAMP:20260421T200456
CREATED:20241105T165724Z
LAST-MODIFIED:20251013T222810Z
UID:10005384-1805562000-1805572800@www.cordovagc.gov
SUMMARY:Lighted Driving Range
DESCRIPTION:Lighted Driving Range every Wednesday and Saturday starting November 6
URL:https://www.cordovagc.gov/event/lighted-driving-range-2/2027-03-20/
END:VEVENT
BEGIN:VEVENT
DTSTART;TZID=UTC:20270324T170000
DTEND;TZID=UTC:20270324T200000
DTSTAMP:20260421T200456
CREATED:20241105T165724Z
LAST-MODIFIED:20251013T222810Z
UID:10005385-1805907600-1805918400@www.cordovagc.gov
SUMMARY:Lighted Driving Range
DESCRIPTION:Lighted Driving Range every Wednesday and Saturday starting November 6
URL:https://www.cordovagc.gov/event/lighted-driving-range-2/2027-03-24/
END:VEVENT
BEGIN:VEVENT
DTSTART;TZID=UTC:20270325T170000
DTEND;TZID=UTC:20270325T200000
DTSTAMP:20260421T200456
CREATED:20241105T165724Z
LAST-MODIFIED:20251013T222810Z
UID:10005386-1805994000-1806004800@www.cordovagc.gov
SUMMARY:Lighted Driving Range
DESCRIPTION:Lighted Driving Range every Wednesday and Saturday starting November 6
URL:https://www.cordovagc.gov/event/lighted-driving-range-2/2027-03-25/
END:VEVENT
BEGIN:VEVENT
DTSTART;TZID=UTC:20270326T170000
DTEND;TZID=UTC:20270326T200000
DTSTAMP:20260421T200456
CREATED:20241105T165724Z
LAST-MODIFIED:20251013T222810Z
UID:10005387-1806080400-1806091200@www.cordovagc.gov
SUMMARY:Lighted Driving Range
DESCRIPTION:Lighted Driving Range every Wednesday and Saturday starting November 6
URL:https://www.cordovagc.gov/event/lighted-driving-range-2/2027-03-26/
END:VEVENT
BEGIN:VEVENT
DTSTART;TZID=UTC:20270327T170000
DTEND;TZID=UTC:20270327T200000
DTSTAMP:20260421T200456
CREATED:20241105T165724Z
LAST-MODIFIED:20251013T222810Z
UID:10005388-1806166800-1806177600@www.cordovagc.gov
SUMMARY:Lighted Driving Range
DESCRIPTION:Lighted Driving Range every Wednesday and Saturday starting November 6
URL:https://www.cordovagc.gov/event/lighted-driving-range-2/2027-03-27/
END:VEVENT
BEGIN:VEVENT
DTSTART;TZID=UTC:20270331T170000
DTEND;TZID=UTC:20270331T200000
DTSTAMP:20260421T200456
CREATED:20241105T165724Z
LAST-MODIFIED:20251013T222810Z
UID:10005389-1806512400-1806523200@www.cordovagc.gov
SUMMARY:Lighted Driving Range
DESCRIPTION:Lighted Driving Range every Wednesday and Saturday starting November 6
URL:https://www.cordovagc.gov/event/lighted-driving-range-2/2027-03-31/
END:VEVENT
BEGIN:VEVENT
DTSTART;TZID=UTC:20270401T170000
DTEND;TZID=UTC:20270401T200000
DTSTAMP:20260421T200456
CREATED:20241105T165724Z
LAST-MODIFIED:20251013T222810Z
UID:10005390-1806598800-1806609600@www.cordovagc.gov
SUMMARY:Lighted Driving Range
DESCRIPTION:Lighted Driving Range every Wednesday and Saturday starting November 6
URL:https://www.cordovagc.gov/event/lighted-driving-range-2/2027-04-01/
END:VEVENT
BEGIN:VEVENT
DTSTART;TZID=UTC:20270402T170000
DTEND;TZID=UTC:20270402T200000
DTSTAMP:20260421T200456
CREATED:20241105T165724Z
LAST-MODIFIED:20251013T222810Z
UID:10005391-1806685200-1806696000@www.cordovagc.gov
SUMMARY:Lighted Driving Range
DESCRIPTION:Lighted Driving Range every Wednesday and Saturday starting November 6
URL:https://www.cordovagc.gov/event/lighted-driving-range-2/2027-04-02/
END:VEVENT
BEGIN:VEVENT
DTSTART;TZID=UTC:20270403T170000
DTEND;TZID=UTC:20270403T200000
DTSTAMP:20260421T200456
CREATED:20241105T165724Z
LAST-MODIFIED:20251013T222810Z
UID:10005392-1806771600-1806782400@www.cordovagc.gov
SUMMARY:Lighted Driving Range
DESCRIPTION:Lighted Driving Range every Wednesday and Saturday starting November 6
URL:https://www.cordovagc.gov/event/lighted-driving-range-2/2027-04-03/
END:VEVENT
BEGIN:VEVENT
DTSTART;TZID=UTC:20270407T170000
DTEND;TZID=UTC:20270407T200000
DTSTAMP:20260421T200456
CREATED:20241105T165724Z
LAST-MODIFIED:20251013T222810Z
UID:10005393-1807117200-1807128000@www.cordovagc.gov
SUMMARY:Lighted Driving Range
DESCRIPTION:Lighted Driving Range every Wednesday and Saturday starting November 6
URL:https://www.cordovagc.gov/event/lighted-driving-range-2/2027-04-07/
END:VEVENT
BEGIN:VEVENT
DTSTART;TZID=UTC:20270408T170000
DTEND;TZID=UTC:20270408T200000
DTSTAMP:20260421T200456
CREATED:20241105T165724Z
LAST-MODIFIED:20251013T222810Z
UID:10005394-1807203600-1807214400@www.cordovagc.gov
SUMMARY:Lighted Driving Range
DESCRIPTION:Lighted Driving Range every Wednesday and Saturday starting November 6
URL:https://www.cordovagc.gov/event/lighted-driving-range-2/2027-04-08/
END:VEVENT
BEGIN:VEVENT
DTSTART;TZID=UTC:20270409T170000
DTEND;TZID=UTC:20270409T200000
DTSTAMP:20260421T200456
CREATED:20241105T165724Z
LAST-MODIFIED:20251013T222810Z
UID:10005395-1807290000-1807300800@www.cordovagc.gov
SUMMARY:Lighted Driving Range
DESCRIPTION:Lighted Driving Range every Wednesday and Saturday starting November 6
URL:https://www.cordovagc.gov/event/lighted-driving-range-2/2027-04-09/
END:VEVENT
BEGIN:VEVENT
DTSTART;TZID=UTC:20270410T170000
DTEND;TZID=UTC:20270410T200000
DTSTAMP:20260421T200456
CREATED:20241105T165724Z
LAST-MODIFIED:20251013T222810Z
UID:10005396-1807376400-1807387200@www.cordovagc.gov
SUMMARY:Lighted Driving Range
DESCRIPTION:Lighted Driving Range every Wednesday and Saturday starting November 6
URL:https://www.cordovagc.gov/event/lighted-driving-range-2/2027-04-10/
END:VEVENT
BEGIN:VEVENT
DTSTART;TZID=UTC:20270414T170000
DTEND;TZID=UTC:20270414T200000
DTSTAMP:20260421T200456
CREATED:20241105T165724Z
LAST-MODIFIED:20251013T222810Z
UID:10005397-1807722000-1807732800@www.cordovagc.gov
SUMMARY:Lighted Driving Range
DESCRIPTION:Lighted Driving Range every Wednesday and Saturday starting November 6
URL:https://www.cordovagc.gov/event/lighted-driving-range-2/2027-04-14/
END:VEVENT
BEGIN:VEVENT
DTSTART;TZID=UTC:20270415T170000
DTEND;TZID=UTC:20270415T200000
DTSTAMP:20260421T200456
CREATED:20241105T165724Z
LAST-MODIFIED:20251013T222810Z
UID:10005398-1807808400-1807819200@www.cordovagc.gov
SUMMARY:Lighted Driving Range
DESCRIPTION:Lighted Driving Range every Wednesday and Saturday starting November 6
URL:https://www.cordovagc.gov/event/lighted-driving-range-2/2027-04-15/
END:VEVENT
BEGIN:VEVENT
DTSTART;TZID=UTC:20270416T170000
DTEND;TZID=UTC:20270416T200000
DTSTAMP:20260421T200456
CREATED:20241105T165724Z
LAST-MODIFIED:20251013T222810Z
UID:10005399-1807894800-1807905600@www.cordovagc.gov
SUMMARY:Lighted Driving Range
DESCRIPTION:Lighted Driving Range every Wednesday and Saturday starting November 6
URL:https://www.cordovagc.gov/event/lighted-driving-range-2/2027-04-16/
END:VEVENT
BEGIN:VEVENT
DTSTART;TZID=UTC:20270417T170000
DTEND;TZID=UTC:20270417T200000
DTSTAMP:20260421T200456
CREATED:20241105T165724Z
LAST-MODIFIED:20251013T222810Z
UID:10005400-1807981200-1807992000@www.cordovagc.gov
SUMMARY:Lighted Driving Range
DESCRIPTION:Lighted Driving Range every Wednesday and Saturday starting November 6
URL:https://www.cordovagc.gov/event/lighted-driving-range-2/2027-04-17/
END:VEVENT
BEGIN:VEVENT
DTSTART;TZID=UTC:20270421T170000
DTEND;TZID=UTC:20270421T200000
DTSTAMP:20260421T200456
CREATED:20241105T165724Z
LAST-MODIFIED:20251013T222810Z
UID:10005401-1808326800-1808337600@www.cordovagc.gov
SUMMARY:Lighted Driving Range
DESCRIPTION:Lighted Driving Range every Wednesday and Saturday starting November 6
URL:https://www.cordovagc.gov/event/lighted-driving-range-2/2027-04-21/
END:VEVENT
BEGIN:VEVENT
DTSTART;TZID=UTC:20270422T170000
DTEND;TZID=UTC:20270422T200000
DTSTAMP:20260421T200456
CREATED:20241105T165724Z
LAST-MODIFIED:20251013T222810Z
UID:10005402-1808413200-1808424000@www.cordovagc.gov
SUMMARY:Lighted Driving Range
DESCRIPTION:Lighted Driving Range every Wednesday and Saturday starting November 6
URL:https://www.cordovagc.gov/event/lighted-driving-range-2/2027-04-22/
END:VEVENT
END:VCALENDAR