BEGIN:VCALENDAR
VERSION:2.0
PRODID:-//Cordova Golf Course - ECPv6.15.18//NONSGML v1.0//EN
CALSCALE:GREGORIAN
METHOD:PUBLISH
X-ORIGINAL-URL:https://www.cordovagc.gov
X-WR-CALDESC:Events for Cordova Golf Course
REFRESH-INTERVAL;VALUE=DURATION:PT1H
X-Robots-Tag:noindex
X-PUBLISHED-TTL:PT1H
BEGIN:VTIMEZONE
TZID:UTC
BEGIN:STANDARD
TZOFFSETFROM:+0000
TZOFFSETTO:+0000
TZNAME:UTC
DTSTART:20280101T000000
END:STANDARD
END:VTIMEZONE
BEGIN:VEVENT
DTSTART;TZID=UTC:20291004T170000
DTEND;TZID=UTC:20291004T170000
DTSTAMP:20260421T022833
CREATED:20250902T221532Z
LAST-MODIFIED:20250902T221532Z
UID:10007970-1885827600-1885827600@www.cordovagc.gov
SUMMARY:Spark Golf League
DESCRIPTION:Spark Golf League is a 9-hole social golf league. Prior sign up is required on www.spark.golf
URL:https://www.cordovagc.gov/event/spark-golf-league/2029-10-04/
END:VEVENT
BEGIN:VEVENT
DTSTART;TZID=UTC:20291011T170000
DTEND;TZID=UTC:20291011T170000
DTSTAMP:20260421T022833
CREATED:20250902T221532Z
LAST-MODIFIED:20250902T221532Z
UID:10007971-1886432400-1886432400@www.cordovagc.gov
SUMMARY:Spark Golf League
DESCRIPTION:Spark Golf League is a 9-hole social golf league. Prior sign up is required on www.spark.golf
URL:https://www.cordovagc.gov/event/spark-golf-league/2029-10-11/
END:VEVENT
BEGIN:VEVENT
DTSTART;TZID=UTC:20291018T170000
DTEND;TZID=UTC:20291018T170000
DTSTAMP:20260421T022834
CREATED:20250902T221532Z
LAST-MODIFIED:20250902T221532Z
UID:10007972-1887037200-1887037200@www.cordovagc.gov
SUMMARY:Spark Golf League
DESCRIPTION:Spark Golf League is a 9-hole social golf league. Prior sign up is required on www.spark.golf
URL:https://www.cordovagc.gov/event/spark-golf-league/2029-10-18/
END:VEVENT
BEGIN:VEVENT
DTSTART;TZID=UTC:20291025T170000
DTEND;TZID=UTC:20291025T170000
DTSTAMP:20260421T022834
CREATED:20250902T221532Z
LAST-MODIFIED:20250902T221532Z
UID:10007973-1887642000-1887642000@www.cordovagc.gov
SUMMARY:Spark Golf League
DESCRIPTION:Spark Golf League is a 9-hole social golf league. Prior sign up is required on www.spark.golf
URL:https://www.cordovagc.gov/event/spark-golf-league/2029-10-25/
END:VEVENT
BEGIN:VEVENT
DTSTART;TZID=UTC:20291101T170000
DTEND;TZID=UTC:20291101T170000
DTSTAMP:20260421T022834
CREATED:20250902T221532Z
LAST-MODIFIED:20250902T221532Z
UID:10007974-1888246800-1888246800@www.cordovagc.gov
SUMMARY:Spark Golf League
DESCRIPTION:Spark Golf League is a 9-hole social golf league. Prior sign up is required on www.spark.golf
URL:https://www.cordovagc.gov/event/spark-golf-league/2029-11-01/
END:VEVENT
BEGIN:VEVENT
DTSTART;TZID=UTC:20291108T170000
DTEND;TZID=UTC:20291108T170000
DTSTAMP:20260421T022834
CREATED:20250902T221532Z
LAST-MODIFIED:20250902T221532Z
UID:10007975-1888851600-1888851600@www.cordovagc.gov
SUMMARY:Spark Golf League
DESCRIPTION:Spark Golf League is a 9-hole social golf league. Prior sign up is required on www.spark.golf
URL:https://www.cordovagc.gov/event/spark-golf-league/2029-11-08/
END:VEVENT
BEGIN:VEVENT
DTSTART;TZID=UTC:20291115T170000
DTEND;TZID=UTC:20291115T170000
DTSTAMP:20260421T022834
CREATED:20250902T221532Z
LAST-MODIFIED:20250902T221532Z
UID:10007976-1889456400-1889456400@www.cordovagc.gov
SUMMARY:Spark Golf League
DESCRIPTION:Spark Golf League is a 9-hole social golf league. Prior sign up is required on www.spark.golf
URL:https://www.cordovagc.gov/event/spark-golf-league/2029-11-15/
END:VEVENT
BEGIN:VEVENT
DTSTART;TZID=UTC:20291122T170000
DTEND;TZID=UTC:20291122T170000
DTSTAMP:20260421T022834
CREATED:20250902T221532Z
LAST-MODIFIED:20250902T221532Z
UID:10007977-1890061200-1890061200@www.cordovagc.gov
SUMMARY:Spark Golf League
DESCRIPTION:Spark Golf League is a 9-hole social golf league. Prior sign up is required on www.spark.golf
URL:https://www.cordovagc.gov/event/spark-golf-league/2029-11-22/
END:VEVENT
BEGIN:VEVENT
DTSTART;TZID=UTC:20291129T170000
DTEND;TZID=UTC:20291129T170000
DTSTAMP:20260421T022834
CREATED:20250902T221532Z
LAST-MODIFIED:20250902T221532Z
UID:10007978-1890666000-1890666000@www.cordovagc.gov
SUMMARY:Spark Golf League
DESCRIPTION:Spark Golf League is a 9-hole social golf league. Prior sign up is required on www.spark.golf
URL:https://www.cordovagc.gov/event/spark-golf-league/2029-11-29/
END:VEVENT
BEGIN:VEVENT
DTSTART;TZID=UTC:20291206T170000
DTEND;TZID=UTC:20291206T170000
DTSTAMP:20260421T022834
CREATED:20250902T221532Z
LAST-MODIFIED:20250902T221532Z
UID:10007979-1891270800-1891270800@www.cordovagc.gov
SUMMARY:Spark Golf League
DESCRIPTION:Spark Golf League is a 9-hole social golf league. Prior sign up is required on www.spark.golf
URL:https://www.cordovagc.gov/event/spark-golf-league/2029-12-06/
END:VEVENT
BEGIN:VEVENT
DTSTART;TZID=UTC:20291213T170000
DTEND;TZID=UTC:20291213T170000
DTSTAMP:20260421T022834
CREATED:20250902T221532Z
LAST-MODIFIED:20250902T221532Z
UID:10007980-1891875600-1891875600@www.cordovagc.gov
SUMMARY:Spark Golf League
DESCRIPTION:Spark Golf League is a 9-hole social golf league. Prior sign up is required on www.spark.golf
URL:https://www.cordovagc.gov/event/spark-golf-league/2029-12-13/
END:VEVENT
BEGIN:VEVENT
DTSTART;TZID=UTC:20291220T170000
DTEND;TZID=UTC:20291220T170000
DTSTAMP:20260421T022834
CREATED:20250902T221532Z
LAST-MODIFIED:20250902T221532Z
UID:10007981-1892480400-1892480400@www.cordovagc.gov
SUMMARY:Spark Golf League
DESCRIPTION:Spark Golf League is a 9-hole social golf league. Prior sign up is required on www.spark.golf
URL:https://www.cordovagc.gov/event/spark-golf-league/2029-12-20/
END:VEVENT
BEGIN:VEVENT
DTSTART;TZID=UTC:20291227T170000
DTEND;TZID=UTC:20291227T170000
DTSTAMP:20260421T022834
CREATED:20250902T221532Z
LAST-MODIFIED:20250902T221532Z
UID:10007982-1893085200-1893085200@www.cordovagc.gov
SUMMARY:Spark Golf League
DESCRIPTION:Spark Golf League is a 9-hole social golf league. Prior sign up is required on www.spark.golf
URL:https://www.cordovagc.gov/event/spark-golf-league/2029-12-27/
END:VEVENT
BEGIN:VEVENT
DTSTART;TZID=UTC:20300103T170000
DTEND;TZID=UTC:20300103T170000
DTSTAMP:20260421T022834
CREATED:20250902T221532Z
LAST-MODIFIED:20250902T221532Z
UID:10007983-1893690000-1893690000@www.cordovagc.gov
SUMMARY:Spark Golf League
DESCRIPTION:Spark Golf League is a 9-hole social golf league. Prior sign up is required on www.spark.golf
URL:https://www.cordovagc.gov/event/spark-golf-league/2030-01-03/
END:VEVENT
BEGIN:VEVENT
DTSTART;TZID=UTC:20300110T170000
DTEND;TZID=UTC:20300110T170000
DTSTAMP:20260421T022834
CREATED:20250902T221532Z
LAST-MODIFIED:20250902T221532Z
UID:10007984-1894294800-1894294800@www.cordovagc.gov
SUMMARY:Spark Golf League
DESCRIPTION:Spark Golf League is a 9-hole social golf league. Prior sign up is required on www.spark.golf
URL:https://www.cordovagc.gov/event/spark-golf-league/2030-01-10/
END:VEVENT
BEGIN:VEVENT
DTSTART;TZID=UTC:20300117T170000
DTEND;TZID=UTC:20300117T170000
DTSTAMP:20260421T022834
CREATED:20250902T221532Z
LAST-MODIFIED:20250902T221532Z
UID:10007985-1894899600-1894899600@www.cordovagc.gov
SUMMARY:Spark Golf League
DESCRIPTION:Spark Golf League is a 9-hole social golf league. Prior sign up is required on www.spark.golf
URL:https://www.cordovagc.gov/event/spark-golf-league/2030-01-17/
END:VEVENT
BEGIN:VEVENT
DTSTART;TZID=UTC:20300124T170000
DTEND;TZID=UTC:20300124T170000
DTSTAMP:20260421T022834
CREATED:20250902T221532Z
LAST-MODIFIED:20250902T221532Z
UID:10007986-1895504400-1895504400@www.cordovagc.gov
SUMMARY:Spark Golf League
DESCRIPTION:Spark Golf League is a 9-hole social golf league. Prior sign up is required on www.spark.golf
URL:https://www.cordovagc.gov/event/spark-golf-league/2030-01-24/
END:VEVENT
BEGIN:VEVENT
DTSTART;TZID=UTC:20300131T170000
DTEND;TZID=UTC:20300131T170000
DTSTAMP:20260421T022834
CREATED:20250902T221532Z
LAST-MODIFIED:20250902T221532Z
UID:10007987-1896109200-1896109200@www.cordovagc.gov
SUMMARY:Spark Golf League
DESCRIPTION:Spark Golf League is a 9-hole social golf league. Prior sign up is required on www.spark.golf
URL:https://www.cordovagc.gov/event/spark-golf-league/2030-01-31/
END:VEVENT
BEGIN:VEVENT
DTSTART;TZID=UTC:20300207T170000
DTEND;TZID=UTC:20300207T170000
DTSTAMP:20260421T022834
CREATED:20250902T221532Z
LAST-MODIFIED:20250902T221532Z
UID:10007988-1896714000-1896714000@www.cordovagc.gov
SUMMARY:Spark Golf League
DESCRIPTION:Spark Golf League is a 9-hole social golf league. Prior sign up is required on www.spark.golf
URL:https://www.cordovagc.gov/event/spark-golf-league/2030-02-07/
END:VEVENT
BEGIN:VEVENT
DTSTART;TZID=UTC:20300214T170000
DTEND;TZID=UTC:20300214T170000
DTSTAMP:20260421T022834
CREATED:20250902T221532Z
LAST-MODIFIED:20250902T221532Z
UID:10007989-1897318800-1897318800@www.cordovagc.gov
SUMMARY:Spark Golf League
DESCRIPTION:Spark Golf League is a 9-hole social golf league. Prior sign up is required on www.spark.golf
URL:https://www.cordovagc.gov/event/spark-golf-league/2030-02-14/
END:VEVENT
BEGIN:VEVENT
DTSTART;TZID=UTC:20300221T170000
DTEND;TZID=UTC:20300221T170000
DTSTAMP:20260421T022834
CREATED:20250902T221532Z
LAST-MODIFIED:20250902T221532Z
UID:10007990-1897923600-1897923600@www.cordovagc.gov
SUMMARY:Spark Golf League
DESCRIPTION:Spark Golf League is a 9-hole social golf league. Prior sign up is required on www.spark.golf
URL:https://www.cordovagc.gov/event/spark-golf-league/2030-02-21/
END:VEVENT
BEGIN:VEVENT
DTSTART;TZID=UTC:20300228T170000
DTEND;TZID=UTC:20300228T170000
DTSTAMP:20260421T022834
CREATED:20250902T221532Z
LAST-MODIFIED:20250902T221532Z
UID:10007991-1898528400-1898528400@www.cordovagc.gov
SUMMARY:Spark Golf League
DESCRIPTION:Spark Golf League is a 9-hole social golf league. Prior sign up is required on www.spark.golf
URL:https://www.cordovagc.gov/event/spark-golf-league/2030-02-28/
END:VEVENT
BEGIN:VEVENT
DTSTART;TZID=UTC:20300307T170000
DTEND;TZID=UTC:20300307T170000
DTSTAMP:20260421T022834
CREATED:20250902T221532Z
LAST-MODIFIED:20250902T221532Z
UID:10007992-1899133200-1899133200@www.cordovagc.gov
SUMMARY:Spark Golf League
DESCRIPTION:Spark Golf League is a 9-hole social golf league. Prior sign up is required on www.spark.golf
URL:https://www.cordovagc.gov/event/spark-golf-league/2030-03-07/
END:VEVENT
BEGIN:VEVENT
DTSTART;TZID=UTC:20300314T170000
DTEND;TZID=UTC:20300314T170000
DTSTAMP:20260421T022834
CREATED:20250902T221532Z
LAST-MODIFIED:20250902T221532Z
UID:10007993-1899738000-1899738000@www.cordovagc.gov
SUMMARY:Spark Golf League
DESCRIPTION:Spark Golf League is a 9-hole social golf league. Prior sign up is required on www.spark.golf
URL:https://www.cordovagc.gov/event/spark-golf-league/2030-03-14/
END:VEVENT
BEGIN:VEVENT
DTSTART;TZID=UTC:20300321T170000
DTEND;TZID=UTC:20300321T170000
DTSTAMP:20260421T022834
CREATED:20250902T221532Z
LAST-MODIFIED:20250902T221532Z
UID:10007994-1900342800-1900342800@www.cordovagc.gov
SUMMARY:Spark Golf League
DESCRIPTION:Spark Golf League is a 9-hole social golf league. Prior sign up is required on www.spark.golf
URL:https://www.cordovagc.gov/event/spark-golf-league/2030-03-21/
END:VEVENT
BEGIN:VEVENT
DTSTART;TZID=UTC:20300328T170000
DTEND;TZID=UTC:20300328T170000
DTSTAMP:20260421T022834
CREATED:20250902T221532Z
LAST-MODIFIED:20250902T221532Z
UID:10007995-1900947600-1900947600@www.cordovagc.gov
SUMMARY:Spark Golf League
DESCRIPTION:Spark Golf League is a 9-hole social golf league. Prior sign up is required on www.spark.golf
URL:https://www.cordovagc.gov/event/spark-golf-league/2030-03-28/
END:VEVENT
BEGIN:VEVENT
DTSTART;TZID=UTC:20300404T170000
DTEND;TZID=UTC:20300404T170000
DTSTAMP:20260421T022834
CREATED:20250902T221532Z
LAST-MODIFIED:20250902T221532Z
UID:10007996-1901552400-1901552400@www.cordovagc.gov
SUMMARY:Spark Golf League
DESCRIPTION:Spark Golf League is a 9-hole social golf league. Prior sign up is required on www.spark.golf
URL:https://www.cordovagc.gov/event/spark-golf-league/2030-04-04/
END:VEVENT
BEGIN:VEVENT
DTSTART;TZID=UTC:20300411T170000
DTEND;TZID=UTC:20300411T170000
DTSTAMP:20260421T022834
CREATED:20250902T221532Z
LAST-MODIFIED:20250902T221532Z
UID:10007997-1902157200-1902157200@www.cordovagc.gov
SUMMARY:Spark Golf League
DESCRIPTION:Spark Golf League is a 9-hole social golf league. Prior sign up is required on www.spark.golf
URL:https://www.cordovagc.gov/event/spark-golf-league/2030-04-11/
END:VEVENT
BEGIN:VEVENT
DTSTART;TZID=UTC:20300418T170000
DTEND;TZID=UTC:20300418T170000
DTSTAMP:20260421T022834
CREATED:20250902T221532Z
LAST-MODIFIED:20250902T221532Z
UID:10007998-1902762000-1902762000@www.cordovagc.gov
SUMMARY:Spark Golf League
DESCRIPTION:Spark Golf League is a 9-hole social golf league. Prior sign up is required on www.spark.golf
URL:https://www.cordovagc.gov/event/spark-golf-league/2030-04-18/
END:VEVENT
BEGIN:VEVENT
DTSTART;TZID=UTC:20300425T170000
DTEND;TZID=UTC:20300425T170000
DTSTAMP:20260421T022834
CREATED:20250902T221532Z
LAST-MODIFIED:20250902T221532Z
UID:10007999-1903366800-1903366800@www.cordovagc.gov
SUMMARY:Spark Golf League
DESCRIPTION:Spark Golf League is a 9-hole social golf league. Prior sign up is required on www.spark.golf
URL:https://www.cordovagc.gov/event/spark-golf-league/2030-04-25/
END:VEVENT
END:VCALENDAR