BEGIN:VCALENDAR
VERSION:2.0
PRODID:-//Cordova Golf Course - ECPv6.15.18//NONSGML v1.0//EN
CALSCALE:GREGORIAN
METHOD:PUBLISH
X-ORIGINAL-URL:https://www.cordovagc.gov
X-WR-CALDESC:Events for Cordova Golf Course
REFRESH-INTERVAL;VALUE=DURATION:PT1H
X-Robots-Tag:noindex
X-PUBLISHED-TTL:PT1H
BEGIN:VTIMEZONE
TZID:UTC
BEGIN:STANDARD
TZOFFSETFROM:+0000
TZOFFSETTO:+0000
TZNAME:UTC
DTSTART:20280101T000000
END:STANDARD
END:VTIMEZONE
BEGIN:VEVENT
DTSTART;TZID=UTC:20291225T073000
DTEND;TZID=UTC:20291225T073000
DTSTAMP:20260419T152357
CREATED:20240703T214406Z
LAST-MODIFIED:20250902T221159Z
UID:10007721-1892878200-1892878200@www.cordovagc.gov
SUMMARY:Chippers Golf Club
DESCRIPTION:Ages: Open to all \nFees: (First time start up fees – $10 club membership\, $3 for hole in one fund) Weekly Fees:  Green & Cart Fee weekly \nDays: Every Tuesday \nTime: 7:30 a.m. \nHow to sign up: Show up on Tuesday morning or by contacting Dennis Cecil at 916-202-7950
URL:https://www.cordovagc.gov/event/chippers-golf-club/2029-12-25/
END:VEVENT
BEGIN:VEVENT
DTSTART;TZID=UTC:20300101T073000
DTEND;TZID=UTC:20300101T073000
DTSTAMP:20260419T152357
CREATED:20240703T214406Z
LAST-MODIFIED:20250902T221159Z
UID:10007722-1893483000-1893483000@www.cordovagc.gov
SUMMARY:Chippers Golf Club
DESCRIPTION:Ages: Open to all \nFees: (First time start up fees – $10 club membership\, $3 for hole in one fund) Weekly Fees:  Green & Cart Fee weekly \nDays: Every Tuesday \nTime: 7:30 a.m. \nHow to sign up: Show up on Tuesday morning or by contacting Dennis Cecil at 916-202-7950
URL:https://www.cordovagc.gov/event/chippers-golf-club/2030-01-01/
END:VEVENT
BEGIN:VEVENT
DTSTART;TZID=UTC:20300108T073000
DTEND;TZID=UTC:20300108T073000
DTSTAMP:20260419T152357
CREATED:20240703T214406Z
LAST-MODIFIED:20250902T221159Z
UID:10007723-1894087800-1894087800@www.cordovagc.gov
SUMMARY:Chippers Golf Club
DESCRIPTION:Ages: Open to all \nFees: (First time start up fees – $10 club membership\, $3 for hole in one fund) Weekly Fees:  Green & Cart Fee weekly \nDays: Every Tuesday \nTime: 7:30 a.m. \nHow to sign up: Show up on Tuesday morning or by contacting Dennis Cecil at 916-202-7950
URL:https://www.cordovagc.gov/event/chippers-golf-club/2030-01-08/
END:VEVENT
BEGIN:VEVENT
DTSTART;TZID=UTC:20300115T073000
DTEND;TZID=UTC:20300115T073000
DTSTAMP:20260419T152357
CREATED:20240703T214406Z
LAST-MODIFIED:20250902T221159Z
UID:10007724-1894692600-1894692600@www.cordovagc.gov
SUMMARY:Chippers Golf Club
DESCRIPTION:Ages: Open to all \nFees: (First time start up fees – $10 club membership\, $3 for hole in one fund) Weekly Fees:  Green & Cart Fee weekly \nDays: Every Tuesday \nTime: 7:30 a.m. \nHow to sign up: Show up on Tuesday morning or by contacting Dennis Cecil at 916-202-7950
URL:https://www.cordovagc.gov/event/chippers-golf-club/2030-01-15/
END:VEVENT
BEGIN:VEVENT
DTSTART;TZID=UTC:20300122T073000
DTEND;TZID=UTC:20300122T073000
DTSTAMP:20260419T152357
CREATED:20240703T214406Z
LAST-MODIFIED:20250902T221159Z
UID:10007725-1895297400-1895297400@www.cordovagc.gov
SUMMARY:Chippers Golf Club
DESCRIPTION:Ages: Open to all \nFees: (First time start up fees – $10 club membership\, $3 for hole in one fund) Weekly Fees:  Green & Cart Fee weekly \nDays: Every Tuesday \nTime: 7:30 a.m. \nHow to sign up: Show up on Tuesday morning or by contacting Dennis Cecil at 916-202-7950
URL:https://www.cordovagc.gov/event/chippers-golf-club/2030-01-22/
END:VEVENT
BEGIN:VEVENT
DTSTART;TZID=UTC:20300129T073000
DTEND;TZID=UTC:20300129T073000
DTSTAMP:20260419T152357
CREATED:20240703T214406Z
LAST-MODIFIED:20250902T221159Z
UID:10007726-1895902200-1895902200@www.cordovagc.gov
SUMMARY:Chippers Golf Club
DESCRIPTION:Ages: Open to all \nFees: (First time start up fees – $10 club membership\, $3 for hole in one fund) Weekly Fees:  Green & Cart Fee weekly \nDays: Every Tuesday \nTime: 7:30 a.m. \nHow to sign up: Show up on Tuesday morning or by contacting Dennis Cecil at 916-202-7950
URL:https://www.cordovagc.gov/event/chippers-golf-club/2030-01-29/
END:VEVENT
BEGIN:VEVENT
DTSTART;TZID=UTC:20300205T073000
DTEND;TZID=UTC:20300205T073000
DTSTAMP:20260419T152357
CREATED:20240703T214406Z
LAST-MODIFIED:20250902T221159Z
UID:10007727-1896507000-1896507000@www.cordovagc.gov
SUMMARY:Chippers Golf Club
DESCRIPTION:Ages: Open to all \nFees: (First time start up fees – $10 club membership\, $3 for hole in one fund) Weekly Fees:  Green & Cart Fee weekly \nDays: Every Tuesday \nTime: 7:30 a.m. \nHow to sign up: Show up on Tuesday morning or by contacting Dennis Cecil at 916-202-7950
URL:https://www.cordovagc.gov/event/chippers-golf-club/2030-02-05/
END:VEVENT
BEGIN:VEVENT
DTSTART;TZID=UTC:20300212T073000
DTEND;TZID=UTC:20300212T073000
DTSTAMP:20260419T152357
CREATED:20240703T214406Z
LAST-MODIFIED:20250902T221159Z
UID:10007728-1897111800-1897111800@www.cordovagc.gov
SUMMARY:Chippers Golf Club
DESCRIPTION:Ages: Open to all \nFees: (First time start up fees – $10 club membership\, $3 for hole in one fund) Weekly Fees:  Green & Cart Fee weekly \nDays: Every Tuesday \nTime: 7:30 a.m. \nHow to sign up: Show up on Tuesday morning or by contacting Dennis Cecil at 916-202-7950
URL:https://www.cordovagc.gov/event/chippers-golf-club/2030-02-12/
END:VEVENT
BEGIN:VEVENT
DTSTART;TZID=UTC:20300219T073000
DTEND;TZID=UTC:20300219T073000
DTSTAMP:20260419T152357
CREATED:20240703T214406Z
LAST-MODIFIED:20250902T221159Z
UID:10007729-1897716600-1897716600@www.cordovagc.gov
SUMMARY:Chippers Golf Club
DESCRIPTION:Ages: Open to all \nFees: (First time start up fees – $10 club membership\, $3 for hole in one fund) Weekly Fees:  Green & Cart Fee weekly \nDays: Every Tuesday \nTime: 7:30 a.m. \nHow to sign up: Show up on Tuesday morning or by contacting Dennis Cecil at 916-202-7950
URL:https://www.cordovagc.gov/event/chippers-golf-club/2030-02-19/
END:VEVENT
BEGIN:VEVENT
DTSTART;TZID=UTC:20300226T073000
DTEND;TZID=UTC:20300226T073000
DTSTAMP:20260419T152357
CREATED:20240703T214406Z
LAST-MODIFIED:20250902T221159Z
UID:10007730-1898321400-1898321400@www.cordovagc.gov
SUMMARY:Chippers Golf Club
DESCRIPTION:Ages: Open to all \nFees: (First time start up fees – $10 club membership\, $3 for hole in one fund) Weekly Fees:  Green & Cart Fee weekly \nDays: Every Tuesday \nTime: 7:30 a.m. \nHow to sign up: Show up on Tuesday morning or by contacting Dennis Cecil at 916-202-7950
URL:https://www.cordovagc.gov/event/chippers-golf-club/2030-02-26/
END:VEVENT
BEGIN:VEVENT
DTSTART;TZID=UTC:20300305T073000
DTEND;TZID=UTC:20300305T073000
DTSTAMP:20260419T152357
CREATED:20240703T214406Z
LAST-MODIFIED:20250902T221159Z
UID:10007731-1898926200-1898926200@www.cordovagc.gov
SUMMARY:Chippers Golf Club
DESCRIPTION:Ages: Open to all \nFees: (First time start up fees – $10 club membership\, $3 for hole in one fund) Weekly Fees:  Green & Cart Fee weekly \nDays: Every Tuesday \nTime: 7:30 a.m. \nHow to sign up: Show up on Tuesday morning or by contacting Dennis Cecil at 916-202-7950
URL:https://www.cordovagc.gov/event/chippers-golf-club/2030-03-05/
END:VEVENT
BEGIN:VEVENT
DTSTART;TZID=UTC:20300312T073000
DTEND;TZID=UTC:20300312T073000
DTSTAMP:20260419T152357
CREATED:20240703T214406Z
LAST-MODIFIED:20250902T221159Z
UID:10007732-1899531000-1899531000@www.cordovagc.gov
SUMMARY:Chippers Golf Club
DESCRIPTION:Ages: Open to all \nFees: (First time start up fees – $10 club membership\, $3 for hole in one fund) Weekly Fees:  Green & Cart Fee weekly \nDays: Every Tuesday \nTime: 7:30 a.m. \nHow to sign up: Show up on Tuesday morning or by contacting Dennis Cecil at 916-202-7950
URL:https://www.cordovagc.gov/event/chippers-golf-club/2030-03-12/
END:VEVENT
BEGIN:VEVENT
DTSTART;TZID=UTC:20300319T073000
DTEND;TZID=UTC:20300319T073000
DTSTAMP:20260419T152357
CREATED:20240703T214406Z
LAST-MODIFIED:20250902T221159Z
UID:10007733-1900135800-1900135800@www.cordovagc.gov
SUMMARY:Chippers Golf Club
DESCRIPTION:Ages: Open to all \nFees: (First time start up fees – $10 club membership\, $3 for hole in one fund) Weekly Fees:  Green & Cart Fee weekly \nDays: Every Tuesday \nTime: 7:30 a.m. \nHow to sign up: Show up on Tuesday morning or by contacting Dennis Cecil at 916-202-7950
URL:https://www.cordovagc.gov/event/chippers-golf-club/2030-03-19/
END:VEVENT
BEGIN:VEVENT
DTSTART;TZID=UTC:20300326T073000
DTEND;TZID=UTC:20300326T073000
DTSTAMP:20260419T152357
CREATED:20240703T214406Z
LAST-MODIFIED:20250902T221159Z
UID:10007734-1900740600-1900740600@www.cordovagc.gov
SUMMARY:Chippers Golf Club
DESCRIPTION:Ages: Open to all \nFees: (First time start up fees – $10 club membership\, $3 for hole in one fund) Weekly Fees:  Green & Cart Fee weekly \nDays: Every Tuesday \nTime: 7:30 a.m. \nHow to sign up: Show up on Tuesday morning or by contacting Dennis Cecil at 916-202-7950
URL:https://www.cordovagc.gov/event/chippers-golf-club/2030-03-26/
END:VEVENT
BEGIN:VEVENT
DTSTART;TZID=UTC:20300402T073000
DTEND;TZID=UTC:20300402T073000
DTSTAMP:20260419T152357
CREATED:20240703T214406Z
LAST-MODIFIED:20250902T221159Z
UID:10007735-1901345400-1901345400@www.cordovagc.gov
SUMMARY:Chippers Golf Club
DESCRIPTION:Ages: Open to all \nFees: (First time start up fees – $10 club membership\, $3 for hole in one fund) Weekly Fees:  Green & Cart Fee weekly \nDays: Every Tuesday \nTime: 7:30 a.m. \nHow to sign up: Show up on Tuesday morning or by contacting Dennis Cecil at 916-202-7950
URL:https://www.cordovagc.gov/event/chippers-golf-club/2030-04-02/
END:VEVENT
BEGIN:VEVENT
DTSTART;TZID=UTC:20300409T073000
DTEND;TZID=UTC:20300409T073000
DTSTAMP:20260419T152357
CREATED:20240703T214406Z
LAST-MODIFIED:20250902T221159Z
UID:10007736-1901950200-1901950200@www.cordovagc.gov
SUMMARY:Chippers Golf Club
DESCRIPTION:Ages: Open to all \nFees: (First time start up fees – $10 club membership\, $3 for hole in one fund) Weekly Fees:  Green & Cart Fee weekly \nDays: Every Tuesday \nTime: 7:30 a.m. \nHow to sign up: Show up on Tuesday morning or by contacting Dennis Cecil at 916-202-7950
URL:https://www.cordovagc.gov/event/chippers-golf-club/2030-04-09/
END:VEVENT
BEGIN:VEVENT
DTSTART;TZID=UTC:20300416T073000
DTEND;TZID=UTC:20300416T073000
DTSTAMP:20260419T152357
CREATED:20240703T214406Z
LAST-MODIFIED:20250902T221159Z
UID:10007737-1902555000-1902555000@www.cordovagc.gov
SUMMARY:Chippers Golf Club
DESCRIPTION:Ages: Open to all \nFees: (First time start up fees – $10 club membership\, $3 for hole in one fund) Weekly Fees:  Green & Cart Fee weekly \nDays: Every Tuesday \nTime: 7:30 a.m. \nHow to sign up: Show up on Tuesday morning or by contacting Dennis Cecil at 916-202-7950
URL:https://www.cordovagc.gov/event/chippers-golf-club/2030-04-16/
END:VEVENT
BEGIN:VEVENT
DTSTART;TZID=UTC:20300423T073000
DTEND;TZID=UTC:20300423T073000
DTSTAMP:20260419T152357
CREATED:20240703T214406Z
LAST-MODIFIED:20250902T221159Z
UID:10007738-1903159800-1903159800@www.cordovagc.gov
SUMMARY:Chippers Golf Club
DESCRIPTION:Ages: Open to all \nFees: (First time start up fees – $10 club membership\, $3 for hole in one fund) Weekly Fees:  Green & Cart Fee weekly \nDays: Every Tuesday \nTime: 7:30 a.m. \nHow to sign up: Show up on Tuesday morning or by contacting Dennis Cecil at 916-202-7950
URL:https://www.cordovagc.gov/event/chippers-golf-club/2030-04-23/
END:VEVENT
BEGIN:VEVENT
DTSTART;TZID=UTC:20300430T073000
DTEND;TZID=UTC:20300430T073000
DTSTAMP:20260419T152357
CREATED:20240703T214406Z
LAST-MODIFIED:20250902T221159Z
UID:10007739-1903764600-1903764600@www.cordovagc.gov
SUMMARY:Chippers Golf Club
DESCRIPTION:Ages: Open to all \nFees: (First time start up fees – $10 club membership\, $3 for hole in one fund) Weekly Fees:  Green & Cart Fee weekly \nDays: Every Tuesday \nTime: 7:30 a.m. \nHow to sign up: Show up on Tuesday morning or by contacting Dennis Cecil at 916-202-7950
URL:https://www.cordovagc.gov/event/chippers-golf-club/2030-04-30/
END:VEVENT
BEGIN:VEVENT
DTSTART;TZID=UTC:20300507T073000
DTEND;TZID=UTC:20300507T073000
DTSTAMP:20260419T152357
CREATED:20240703T214406Z
LAST-MODIFIED:20250902T221159Z
UID:10007740-1904369400-1904369400@www.cordovagc.gov
SUMMARY:Chippers Golf Club
DESCRIPTION:Ages: Open to all \nFees: (First time start up fees – $10 club membership\, $3 for hole in one fund) Weekly Fees:  Green & Cart Fee weekly \nDays: Every Tuesday \nTime: 7:30 a.m. \nHow to sign up: Show up on Tuesday morning or by contacting Dennis Cecil at 916-202-7950
URL:https://www.cordovagc.gov/event/chippers-golf-club/2030-05-07/
END:VEVENT
BEGIN:VEVENT
DTSTART;TZID=UTC:20300514T073000
DTEND;TZID=UTC:20300514T073000
DTSTAMP:20260419T152357
CREATED:20240703T214406Z
LAST-MODIFIED:20250902T221159Z
UID:10007741-1904974200-1904974200@www.cordovagc.gov
SUMMARY:Chippers Golf Club
DESCRIPTION:Ages: Open to all \nFees: (First time start up fees – $10 club membership\, $3 for hole in one fund) Weekly Fees:  Green & Cart Fee weekly \nDays: Every Tuesday \nTime: 7:30 a.m. \nHow to sign up: Show up on Tuesday morning or by contacting Dennis Cecil at 916-202-7950
URL:https://www.cordovagc.gov/event/chippers-golf-club/2030-05-14/
END:VEVENT
BEGIN:VEVENT
DTSTART;TZID=UTC:20300521T073000
DTEND;TZID=UTC:20300521T073000
DTSTAMP:20260419T152357
CREATED:20240703T214406Z
LAST-MODIFIED:20250902T221159Z
UID:10007742-1905579000-1905579000@www.cordovagc.gov
SUMMARY:Chippers Golf Club
DESCRIPTION:Ages: Open to all \nFees: (First time start up fees – $10 club membership\, $3 for hole in one fund) Weekly Fees:  Green & Cart Fee weekly \nDays: Every Tuesday \nTime: 7:30 a.m. \nHow to sign up: Show up on Tuesday morning or by contacting Dennis Cecil at 916-202-7950
URL:https://www.cordovagc.gov/event/chippers-golf-club/2030-05-21/
END:VEVENT
BEGIN:VEVENT
DTSTART;TZID=UTC:20300528T073000
DTEND;TZID=UTC:20300528T073000
DTSTAMP:20260419T152357
CREATED:20240703T214406Z
LAST-MODIFIED:20250902T221159Z
UID:10007743-1906183800-1906183800@www.cordovagc.gov
SUMMARY:Chippers Golf Club
DESCRIPTION:Ages: Open to all \nFees: (First time start up fees – $10 club membership\, $3 for hole in one fund) Weekly Fees:  Green & Cart Fee weekly \nDays: Every Tuesday \nTime: 7:30 a.m. \nHow to sign up: Show up on Tuesday morning or by contacting Dennis Cecil at 916-202-7950
URL:https://www.cordovagc.gov/event/chippers-golf-club/2030-05-28/
END:VEVENT
BEGIN:VEVENT
DTSTART;TZID=UTC:20300604T073000
DTEND;TZID=UTC:20300604T073000
DTSTAMP:20260419T152357
CREATED:20240703T214406Z
LAST-MODIFIED:20250902T221159Z
UID:10007744-1906788600-1906788600@www.cordovagc.gov
SUMMARY:Chippers Golf Club
DESCRIPTION:Ages: Open to all \nFees: (First time start up fees – $10 club membership\, $3 for hole in one fund) Weekly Fees:  Green & Cart Fee weekly \nDays: Every Tuesday \nTime: 7:30 a.m. \nHow to sign up: Show up on Tuesday morning or by contacting Dennis Cecil at 916-202-7950
URL:https://www.cordovagc.gov/event/chippers-golf-club/2030-06-04/
END:VEVENT
BEGIN:VEVENT
DTSTART;TZID=UTC:20300611T073000
DTEND;TZID=UTC:20300611T073000
DTSTAMP:20260419T152357
CREATED:20240703T214406Z
LAST-MODIFIED:20250902T221159Z
UID:10007745-1907393400-1907393400@www.cordovagc.gov
SUMMARY:Chippers Golf Club
DESCRIPTION:Ages: Open to all \nFees: (First time start up fees – $10 club membership\, $3 for hole in one fund) Weekly Fees:  Green & Cart Fee weekly \nDays: Every Tuesday \nTime: 7:30 a.m. \nHow to sign up: Show up on Tuesday morning or by contacting Dennis Cecil at 916-202-7950
URL:https://www.cordovagc.gov/event/chippers-golf-club/2030-06-11/
END:VEVENT
BEGIN:VEVENT
DTSTART;TZID=UTC:20300618T073000
DTEND;TZID=UTC:20300618T073000
DTSTAMP:20260419T152357
CREATED:20240703T214406Z
LAST-MODIFIED:20250902T221159Z
UID:10007746-1907998200-1907998200@www.cordovagc.gov
SUMMARY:Chippers Golf Club
DESCRIPTION:Ages: Open to all \nFees: (First time start up fees – $10 club membership\, $3 for hole in one fund) Weekly Fees:  Green & Cart Fee weekly \nDays: Every Tuesday \nTime: 7:30 a.m. \nHow to sign up: Show up on Tuesday morning or by contacting Dennis Cecil at 916-202-7950
URL:https://www.cordovagc.gov/event/chippers-golf-club/2030-06-18/
END:VEVENT
BEGIN:VEVENT
DTSTART;TZID=UTC:20300625T073000
DTEND;TZID=UTC:20300625T073000
DTSTAMP:20260419T152357
CREATED:20240703T214406Z
LAST-MODIFIED:20250902T221159Z
UID:10007747-1908603000-1908603000@www.cordovagc.gov
SUMMARY:Chippers Golf Club
DESCRIPTION:Ages: Open to all \nFees: (First time start up fees – $10 club membership\, $3 for hole in one fund) Weekly Fees:  Green & Cart Fee weekly \nDays: Every Tuesday \nTime: 7:30 a.m. \nHow to sign up: Show up on Tuesday morning or by contacting Dennis Cecil at 916-202-7950
URL:https://www.cordovagc.gov/event/chippers-golf-club/2030-06-25/
END:VEVENT
BEGIN:VEVENT
DTSTART;TZID=UTC:20300702T073000
DTEND;TZID=UTC:20300702T073000
DTSTAMP:20260419T152357
CREATED:20240703T214406Z
LAST-MODIFIED:20250902T221159Z
UID:10007748-1909207800-1909207800@www.cordovagc.gov
SUMMARY:Chippers Golf Club
DESCRIPTION:Ages: Open to all \nFees: (First time start up fees – $10 club membership\, $3 for hole in one fund) Weekly Fees:  Green & Cart Fee weekly \nDays: Every Tuesday \nTime: 7:30 a.m. \nHow to sign up: Show up on Tuesday morning or by contacting Dennis Cecil at 916-202-7950
URL:https://www.cordovagc.gov/event/chippers-golf-club/2030-07-02/
END:VEVENT
BEGIN:VEVENT
DTSTART;TZID=UTC:20300709T073000
DTEND;TZID=UTC:20300709T073000
DTSTAMP:20260419T152357
CREATED:20240703T214406Z
LAST-MODIFIED:20250902T221159Z
UID:10007749-1909812600-1909812600@www.cordovagc.gov
SUMMARY:Chippers Golf Club
DESCRIPTION:Ages: Open to all \nFees: (First time start up fees – $10 club membership\, $3 for hole in one fund) Weekly Fees:  Green & Cart Fee weekly \nDays: Every Tuesday \nTime: 7:30 a.m. \nHow to sign up: Show up on Tuesday morning or by contacting Dennis Cecil at 916-202-7950
URL:https://www.cordovagc.gov/event/chippers-golf-club/2030-07-09/
END:VEVENT
BEGIN:VEVENT
DTSTART;TZID=UTC:20300716T073000
DTEND;TZID=UTC:20300716T073000
DTSTAMP:20260419T152357
CREATED:20240703T214406Z
LAST-MODIFIED:20250902T221159Z
UID:10007750-1910417400-1910417400@www.cordovagc.gov
SUMMARY:Chippers Golf Club
DESCRIPTION:Ages: Open to all \nFees: (First time start up fees – $10 club membership\, $3 for hole in one fund) Weekly Fees:  Green & Cart Fee weekly \nDays: Every Tuesday \nTime: 7:30 a.m. \nHow to sign up: Show up on Tuesday morning or by contacting Dennis Cecil at 916-202-7950
URL:https://www.cordovagc.gov/event/chippers-golf-club/2030-07-16/
END:VEVENT
END:VCALENDAR