BEGIN:VCALENDAR
VERSION:2.0
PRODID:-//Cordova Golf Course - ECPv6.15.18//NONSGML v1.0//EN
CALSCALE:GREGORIAN
METHOD:PUBLISH
X-ORIGINAL-URL:https://www.cordovagc.gov
X-WR-CALDESC:Events for Cordova Golf Course
REFRESH-INTERVAL;VALUE=DURATION:PT1H
X-Robots-Tag:noindex
X-PUBLISHED-TTL:PT1H
BEGIN:VTIMEZONE
TZID:UTC
BEGIN:STANDARD
TZOFFSETFROM:+0000
TZOFFSETTO:+0000
TZNAME:UTC
DTSTART:20290101T000000
END:STANDARD
END:VTIMEZONE
BEGIN:VEVENT
DTSTART;TZID=UTC:20300611T073000
DTEND;TZID=UTC:20300611T073000
DTSTAMP:20260419T180805
CREATED:20240703T214406Z
LAST-MODIFIED:20250902T221159Z
UID:10007745-1907393400-1907393400@www.cordovagc.gov
SUMMARY:Chippers Golf Club
DESCRIPTION:Ages: Open to all \nFees: (First time start up fees – $10 club membership\, $3 for hole in one fund) Weekly Fees:  Green & Cart Fee weekly \nDays: Every Tuesday \nTime: 7:30 a.m. \nHow to sign up: Show up on Tuesday morning or by contacting Dennis Cecil at 916-202-7950
URL:https://www.cordovagc.gov/event/chippers-golf-club/2030-06-11/
END:VEVENT
BEGIN:VEVENT
DTSTART;TZID=UTC:20300618T073000
DTEND;TZID=UTC:20300618T073000
DTSTAMP:20260419T180805
CREATED:20240703T214406Z
LAST-MODIFIED:20250902T221159Z
UID:10007746-1907998200-1907998200@www.cordovagc.gov
SUMMARY:Chippers Golf Club
DESCRIPTION:Ages: Open to all \nFees: (First time start up fees – $10 club membership\, $3 for hole in one fund) Weekly Fees:  Green & Cart Fee weekly \nDays: Every Tuesday \nTime: 7:30 a.m. \nHow to sign up: Show up on Tuesday morning or by contacting Dennis Cecil at 916-202-7950
URL:https://www.cordovagc.gov/event/chippers-golf-club/2030-06-18/
END:VEVENT
BEGIN:VEVENT
DTSTART;TZID=UTC:20300625T073000
DTEND;TZID=UTC:20300625T073000
DTSTAMP:20260419T180805
CREATED:20240703T214406Z
LAST-MODIFIED:20250902T221159Z
UID:10007747-1908603000-1908603000@www.cordovagc.gov
SUMMARY:Chippers Golf Club
DESCRIPTION:Ages: Open to all \nFees: (First time start up fees – $10 club membership\, $3 for hole in one fund) Weekly Fees:  Green & Cart Fee weekly \nDays: Every Tuesday \nTime: 7:30 a.m. \nHow to sign up: Show up on Tuesday morning or by contacting Dennis Cecil at 916-202-7950
URL:https://www.cordovagc.gov/event/chippers-golf-club/2030-06-25/
END:VEVENT
BEGIN:VEVENT
DTSTART;TZID=UTC:20300702T073000
DTEND;TZID=UTC:20300702T073000
DTSTAMP:20260419T180805
CREATED:20240703T214406Z
LAST-MODIFIED:20250902T221159Z
UID:10007748-1909207800-1909207800@www.cordovagc.gov
SUMMARY:Chippers Golf Club
DESCRIPTION:Ages: Open to all \nFees: (First time start up fees – $10 club membership\, $3 for hole in one fund) Weekly Fees:  Green & Cart Fee weekly \nDays: Every Tuesday \nTime: 7:30 a.m. \nHow to sign up: Show up on Tuesday morning or by contacting Dennis Cecil at 916-202-7950
URL:https://www.cordovagc.gov/event/chippers-golf-club/2030-07-02/
END:VEVENT
BEGIN:VEVENT
DTSTART;TZID=UTC:20300709T073000
DTEND;TZID=UTC:20300709T073000
DTSTAMP:20260419T180805
CREATED:20240703T214406Z
LAST-MODIFIED:20250902T221159Z
UID:10007749-1909812600-1909812600@www.cordovagc.gov
SUMMARY:Chippers Golf Club
DESCRIPTION:Ages: Open to all \nFees: (First time start up fees – $10 club membership\, $3 for hole in one fund) Weekly Fees:  Green & Cart Fee weekly \nDays: Every Tuesday \nTime: 7:30 a.m. \nHow to sign up: Show up on Tuesday morning or by contacting Dennis Cecil at 916-202-7950
URL:https://www.cordovagc.gov/event/chippers-golf-club/2030-07-09/
END:VEVENT
BEGIN:VEVENT
DTSTART;TZID=UTC:20300716T073000
DTEND;TZID=UTC:20300716T073000
DTSTAMP:20260419T180805
CREATED:20240703T214406Z
LAST-MODIFIED:20250902T221159Z
UID:10007750-1910417400-1910417400@www.cordovagc.gov
SUMMARY:Chippers Golf Club
DESCRIPTION:Ages: Open to all \nFees: (First time start up fees – $10 club membership\, $3 for hole in one fund) Weekly Fees:  Green & Cart Fee weekly \nDays: Every Tuesday \nTime: 7:30 a.m. \nHow to sign up: Show up on Tuesday morning or by contacting Dennis Cecil at 916-202-7950
URL:https://www.cordovagc.gov/event/chippers-golf-club/2030-07-16/
END:VEVENT
BEGIN:VEVENT
DTSTART;TZID=UTC:20300723T073000
DTEND;TZID=UTC:20300723T073000
DTSTAMP:20260419T180805
CREATED:20240703T214406Z
LAST-MODIFIED:20250902T221159Z
UID:10007751-1911022200-1911022200@www.cordovagc.gov
SUMMARY:Chippers Golf Club
DESCRIPTION:Ages: Open to all \nFees: (First time start up fees – $10 club membership\, $3 for hole in one fund) Weekly Fees:  Green & Cart Fee weekly \nDays: Every Tuesday \nTime: 7:30 a.m. \nHow to sign up: Show up on Tuesday morning or by contacting Dennis Cecil at 916-202-7950
URL:https://www.cordovagc.gov/event/chippers-golf-club/2030-07-23/
END:VEVENT
BEGIN:VEVENT
DTSTART;TZID=UTC:20300730T073000
DTEND;TZID=UTC:20300730T073000
DTSTAMP:20260419T180805
CREATED:20240703T214406Z
LAST-MODIFIED:20250902T221159Z
UID:10007752-1911627000-1911627000@www.cordovagc.gov
SUMMARY:Chippers Golf Club
DESCRIPTION:Ages: Open to all \nFees: (First time start up fees – $10 club membership\, $3 for hole in one fund) Weekly Fees:  Green & Cart Fee weekly \nDays: Every Tuesday \nTime: 7:30 a.m. \nHow to sign up: Show up on Tuesday morning or by contacting Dennis Cecil at 916-202-7950
URL:https://www.cordovagc.gov/event/chippers-golf-club/2030-07-30/
END:VEVENT
BEGIN:VEVENT
DTSTART;TZID=UTC:20300806T073000
DTEND;TZID=UTC:20300806T073000
DTSTAMP:20260419T180805
CREATED:20240703T214406Z
LAST-MODIFIED:20250902T221159Z
UID:10007753-1912231800-1912231800@www.cordovagc.gov
SUMMARY:Chippers Golf Club
DESCRIPTION:Ages: Open to all \nFees: (First time start up fees – $10 club membership\, $3 for hole in one fund) Weekly Fees:  Green & Cart Fee weekly \nDays: Every Tuesday \nTime: 7:30 a.m. \nHow to sign up: Show up on Tuesday morning or by contacting Dennis Cecil at 916-202-7950
URL:https://www.cordovagc.gov/event/chippers-golf-club/2030-08-06/
END:VEVENT
BEGIN:VEVENT
DTSTART;TZID=UTC:20300813T073000
DTEND;TZID=UTC:20300813T073000
DTSTAMP:20260419T180805
CREATED:20240703T214406Z
LAST-MODIFIED:20250902T221159Z
UID:10007754-1912836600-1912836600@www.cordovagc.gov
SUMMARY:Chippers Golf Club
DESCRIPTION:Ages: Open to all \nFees: (First time start up fees – $10 club membership\, $3 for hole in one fund) Weekly Fees:  Green & Cart Fee weekly \nDays: Every Tuesday \nTime: 7:30 a.m. \nHow to sign up: Show up on Tuesday morning or by contacting Dennis Cecil at 916-202-7950
URL:https://www.cordovagc.gov/event/chippers-golf-club/2030-08-13/
END:VEVENT
BEGIN:VEVENT
DTSTART;TZID=UTC:20300820T073000
DTEND;TZID=UTC:20300820T073000
DTSTAMP:20260419T180805
CREATED:20240703T214406Z
LAST-MODIFIED:20250902T221159Z
UID:10007755-1913441400-1913441400@www.cordovagc.gov
SUMMARY:Chippers Golf Club
DESCRIPTION:Ages: Open to all \nFees: (First time start up fees – $10 club membership\, $3 for hole in one fund) Weekly Fees:  Green & Cart Fee weekly \nDays: Every Tuesday \nTime: 7:30 a.m. \nHow to sign up: Show up on Tuesday morning or by contacting Dennis Cecil at 916-202-7950
URL:https://www.cordovagc.gov/event/chippers-golf-club/2030-08-20/
END:VEVENT
BEGIN:VEVENT
DTSTART;TZID=UTC:20300827T073000
DTEND;TZID=UTC:20300827T073000
DTSTAMP:20260419T180805
CREATED:20240703T214406Z
LAST-MODIFIED:20250902T221159Z
UID:10007756-1914046200-1914046200@www.cordovagc.gov
SUMMARY:Chippers Golf Club
DESCRIPTION:Ages: Open to all \nFees: (First time start up fees – $10 club membership\, $3 for hole in one fund) Weekly Fees:  Green & Cart Fee weekly \nDays: Every Tuesday \nTime: 7:30 a.m. \nHow to sign up: Show up on Tuesday morning or by contacting Dennis Cecil at 916-202-7950
URL:https://www.cordovagc.gov/event/chippers-golf-club/2030-08-27/
END:VEVENT
END:VCALENDAR