BEGIN:VCALENDAR
VERSION:2.0
PRODID:-//Cordova Golf Course - ECPv6.15.18//NONSGML v1.0//EN
CALSCALE:GREGORIAN
METHOD:PUBLISH
X-ORIGINAL-URL:https://www.cordovagc.gov
X-WR-CALDESC:Events for Cordova Golf Course
REFRESH-INTERVAL;VALUE=DURATION:PT1H
X-Robots-Tag:noindex
X-PUBLISHED-TTL:PT1H
BEGIN:VTIMEZONE
TZID:UTC
BEGIN:STANDARD
TZOFFSETFROM:+0000
TZOFFSETTO:+0000
TZNAME:UTC
DTSTART:20290101T000000
END:STANDARD
END:VTIMEZONE
BEGIN:VEVENT
DTSTART;TZID=UTC:20300613T170000
DTEND;TZID=UTC:20300613T170000
DTSTAMP:20260421T065053
CREATED:20250902T221532Z
LAST-MODIFIED:20250902T221532Z
UID:10008006-1907600400-1907600400@www.cordovagc.gov
SUMMARY:Spark Golf League
DESCRIPTION:Spark Golf League is a 9-hole social golf league. Prior sign up is required on www.spark.golf
URL:https://www.cordovagc.gov/event/spark-golf-league/2030-06-13/
END:VEVENT
BEGIN:VEVENT
DTSTART;TZID=UTC:20300620T170000
DTEND;TZID=UTC:20300620T170000
DTSTAMP:20260421T065053
CREATED:20250902T221532Z
LAST-MODIFIED:20250902T221532Z
UID:10008007-1908205200-1908205200@www.cordovagc.gov
SUMMARY:Spark Golf League
DESCRIPTION:Spark Golf League is a 9-hole social golf league. Prior sign up is required on www.spark.golf
URL:https://www.cordovagc.gov/event/spark-golf-league/2030-06-20/
END:VEVENT
BEGIN:VEVENT
DTSTART;TZID=UTC:20300627T170000
DTEND;TZID=UTC:20300627T170000
DTSTAMP:20260421T065053
CREATED:20250902T221532Z
LAST-MODIFIED:20250902T221532Z
UID:10008008-1908810000-1908810000@www.cordovagc.gov
SUMMARY:Spark Golf League
DESCRIPTION:Spark Golf League is a 9-hole social golf league. Prior sign up is required on www.spark.golf
URL:https://www.cordovagc.gov/event/spark-golf-league/2030-06-27/
END:VEVENT
BEGIN:VEVENT
DTSTART;TZID=UTC:20300704T170000
DTEND;TZID=UTC:20300704T170000
DTSTAMP:20260421T065053
CREATED:20250902T221532Z
LAST-MODIFIED:20250902T221532Z
UID:10008009-1909414800-1909414800@www.cordovagc.gov
SUMMARY:Spark Golf League
DESCRIPTION:Spark Golf League is a 9-hole social golf league. Prior sign up is required on www.spark.golf
URL:https://www.cordovagc.gov/event/spark-golf-league/2030-07-04/
END:VEVENT
BEGIN:VEVENT
DTSTART;TZID=UTC:20300711T170000
DTEND;TZID=UTC:20300711T170000
DTSTAMP:20260421T065053
CREATED:20250902T221532Z
LAST-MODIFIED:20250902T221532Z
UID:10008010-1910019600-1910019600@www.cordovagc.gov
SUMMARY:Spark Golf League
DESCRIPTION:Spark Golf League is a 9-hole social golf league. Prior sign up is required on www.spark.golf
URL:https://www.cordovagc.gov/event/spark-golf-league/2030-07-11/
END:VEVENT
BEGIN:VEVENT
DTSTART;TZID=UTC:20300718T170000
DTEND;TZID=UTC:20300718T170000
DTSTAMP:20260421T065053
CREATED:20250902T221532Z
LAST-MODIFIED:20250902T221532Z
UID:10008011-1910624400-1910624400@www.cordovagc.gov
SUMMARY:Spark Golf League
DESCRIPTION:Spark Golf League is a 9-hole social golf league. Prior sign up is required on www.spark.golf
URL:https://www.cordovagc.gov/event/spark-golf-league/2030-07-18/
END:VEVENT
BEGIN:VEVENT
DTSTART;TZID=UTC:20300725T170000
DTEND;TZID=UTC:20300725T170000
DTSTAMP:20260421T065053
CREATED:20250902T221532Z
LAST-MODIFIED:20250902T221532Z
UID:10008012-1911229200-1911229200@www.cordovagc.gov
SUMMARY:Spark Golf League
DESCRIPTION:Spark Golf League is a 9-hole social golf league. Prior sign up is required on www.spark.golf
URL:https://www.cordovagc.gov/event/spark-golf-league/2030-07-25/
END:VEVENT
BEGIN:VEVENT
DTSTART;TZID=UTC:20300801T170000
DTEND;TZID=UTC:20300801T170000
DTSTAMP:20260421T065053
CREATED:20250902T221532Z
LAST-MODIFIED:20250902T221532Z
UID:10008013-1911834000-1911834000@www.cordovagc.gov
SUMMARY:Spark Golf League
DESCRIPTION:Spark Golf League is a 9-hole social golf league. Prior sign up is required on www.spark.golf
URL:https://www.cordovagc.gov/event/spark-golf-league/2030-08-01/
END:VEVENT
BEGIN:VEVENT
DTSTART;TZID=UTC:20300808T170000
DTEND;TZID=UTC:20300808T170000
DTSTAMP:20260421T065053
CREATED:20250902T221532Z
LAST-MODIFIED:20250902T221532Z
UID:10008014-1912438800-1912438800@www.cordovagc.gov
SUMMARY:Spark Golf League
DESCRIPTION:Spark Golf League is a 9-hole social golf league. Prior sign up is required on www.spark.golf
URL:https://www.cordovagc.gov/event/spark-golf-league/2030-08-08/
END:VEVENT
BEGIN:VEVENT
DTSTART;TZID=UTC:20300815T170000
DTEND;TZID=UTC:20300815T170000
DTSTAMP:20260421T065053
CREATED:20250902T221532Z
LAST-MODIFIED:20250902T221532Z
UID:10008015-1913043600-1913043600@www.cordovagc.gov
SUMMARY:Spark Golf League
DESCRIPTION:Spark Golf League is a 9-hole social golf league. Prior sign up is required on www.spark.golf
URL:https://www.cordovagc.gov/event/spark-golf-league/2030-08-15/
END:VEVENT
BEGIN:VEVENT
DTSTART;TZID=UTC:20300822T170000
DTEND;TZID=UTC:20300822T170000
DTSTAMP:20260421T065053
CREATED:20250902T221532Z
LAST-MODIFIED:20250902T221532Z
UID:10008016-1913648400-1913648400@www.cordovagc.gov
SUMMARY:Spark Golf League
DESCRIPTION:Spark Golf League is a 9-hole social golf league. Prior sign up is required on www.spark.golf
URL:https://www.cordovagc.gov/event/spark-golf-league/2030-08-22/
END:VEVENT
BEGIN:VEVENT
DTSTART;TZID=UTC:20300829T170000
DTEND;TZID=UTC:20300829T170000
DTSTAMP:20260421T065053
CREATED:20250902T221532Z
LAST-MODIFIED:20250902T221532Z
UID:10008017-1914253200-1914253200@www.cordovagc.gov
SUMMARY:Spark Golf League
DESCRIPTION:Spark Golf League is a 9-hole social golf league. Prior sign up is required on www.spark.golf
URL:https://www.cordovagc.gov/event/spark-golf-league/2030-08-29/
END:VEVENT
END:VCALENDAR