BEGIN:VCALENDAR
VERSION:2.0
PRODID:-//Cordova Golf Course - ECPv6.15.18//NONSGML v1.0//EN
CALSCALE:GREGORIAN
METHOD:PUBLISH
X-ORIGINAL-URL:https://www.cordovagc.gov
X-WR-CALDESC:Events for Cordova Golf Course
REFRESH-INTERVAL;VALUE=DURATION:PT1H
X-Robots-Tag:noindex
X-PUBLISHED-TTL:PT1H
BEGIN:VTIMEZONE
TZID:UTC
BEGIN:STANDARD
TZOFFSETFROM:+0000
TZOFFSETTO:+0000
TZNAME:UTC
DTSTART:20250101T000000
END:STANDARD
END:VTIMEZONE
BEGIN:VEVENT
DTSTART;TZID=UTC:20260603T170000
DTEND;TZID=UTC:20260603T200000
DTSTAMP:20260421T022727
CREATED:20241105T165724Z
LAST-MODIFIED:20251013T222810Z
UID:10005217-1780506000-1780516800@www.cordovagc.gov
SUMMARY:Lighted Driving Range
DESCRIPTION:Lighted Driving Range every Wednesday and Saturday starting November 6
URL:https://www.cordovagc.gov/event/lighted-driving-range-2/2026-06-03/
END:VEVENT
BEGIN:VEVENT
DTSTART;TZID=UTC:20260604T170000
DTEND;TZID=UTC:20260604T200000
DTSTAMP:20260421T022727
CREATED:20241105T165724Z
LAST-MODIFIED:20251013T222810Z
UID:10005218-1780592400-1780603200@www.cordovagc.gov
SUMMARY:Lighted Driving Range
DESCRIPTION:Lighted Driving Range every Wednesday and Saturday starting November 6
URL:https://www.cordovagc.gov/event/lighted-driving-range-2/2026-06-04/
END:VEVENT
BEGIN:VEVENT
DTSTART;TZID=UTC:20260605T170000
DTEND;TZID=UTC:20260605T200000
DTSTAMP:20260421T022727
CREATED:20241105T165724Z
LAST-MODIFIED:20251013T222810Z
UID:10005219-1780678800-1780689600@www.cordovagc.gov
SUMMARY:Lighted Driving Range
DESCRIPTION:Lighted Driving Range every Wednesday and Saturday starting November 6
URL:https://www.cordovagc.gov/event/lighted-driving-range-2/2026-06-05/
END:VEVENT
BEGIN:VEVENT
DTSTART;TZID=UTC:20260606T170000
DTEND;TZID=UTC:20260606T200000
DTSTAMP:20260421T022727
CREATED:20241105T165724Z
LAST-MODIFIED:20251013T222810Z
UID:10005220-1780765200-1780776000@www.cordovagc.gov
SUMMARY:Lighted Driving Range
DESCRIPTION:Lighted Driving Range every Wednesday and Saturday starting November 6
URL:https://www.cordovagc.gov/event/lighted-driving-range-2/2026-06-06/
END:VEVENT
BEGIN:VEVENT
DTSTART;TZID=UTC:20260610T170000
DTEND;TZID=UTC:20260610T200000
DTSTAMP:20260421T022727
CREATED:20241105T165724Z
LAST-MODIFIED:20251013T222810Z
UID:10005221-1781110800-1781121600@www.cordovagc.gov
SUMMARY:Lighted Driving Range
DESCRIPTION:Lighted Driving Range every Wednesday and Saturday starting November 6
URL:https://www.cordovagc.gov/event/lighted-driving-range-2/2026-06-10/
END:VEVENT
BEGIN:VEVENT
DTSTART;TZID=UTC:20260611T170000
DTEND;TZID=UTC:20260611T200000
DTSTAMP:20260421T022727
CREATED:20241105T165724Z
LAST-MODIFIED:20251013T222810Z
UID:10005222-1781197200-1781208000@www.cordovagc.gov
SUMMARY:Lighted Driving Range
DESCRIPTION:Lighted Driving Range every Wednesday and Saturday starting November 6
URL:https://www.cordovagc.gov/event/lighted-driving-range-2/2026-06-11/
END:VEVENT
BEGIN:VEVENT
DTSTART;TZID=UTC:20260612T170000
DTEND;TZID=UTC:20260612T200000
DTSTAMP:20260421T022727
CREATED:20241105T165724Z
LAST-MODIFIED:20251013T222810Z
UID:10005223-1781283600-1781294400@www.cordovagc.gov
SUMMARY:Lighted Driving Range
DESCRIPTION:Lighted Driving Range every Wednesday and Saturday starting November 6
URL:https://www.cordovagc.gov/event/lighted-driving-range-2/2026-06-12/
END:VEVENT
BEGIN:VEVENT
DTSTART;TZID=UTC:20260613T170000
DTEND;TZID=UTC:20260613T200000
DTSTAMP:20260421T022727
CREATED:20241105T165724Z
LAST-MODIFIED:20251013T222810Z
UID:10005224-1781370000-1781380800@www.cordovagc.gov
SUMMARY:Lighted Driving Range
DESCRIPTION:Lighted Driving Range every Wednesday and Saturday starting November 6
URL:https://www.cordovagc.gov/event/lighted-driving-range-2/2026-06-13/
END:VEVENT
BEGIN:VEVENT
DTSTART;TZID=UTC:20260617T170000
DTEND;TZID=UTC:20260617T200000
DTSTAMP:20260421T022727
CREATED:20241105T165724Z
LAST-MODIFIED:20251013T222810Z
UID:10005225-1781715600-1781726400@www.cordovagc.gov
SUMMARY:Lighted Driving Range
DESCRIPTION:Lighted Driving Range every Wednesday and Saturday starting November 6
URL:https://www.cordovagc.gov/event/lighted-driving-range-2/2026-06-17/
END:VEVENT
BEGIN:VEVENT
DTSTART;TZID=UTC:20260618T170000
DTEND;TZID=UTC:20260618T200000
DTSTAMP:20260421T022727
CREATED:20241105T165724Z
LAST-MODIFIED:20251013T222810Z
UID:10005226-1781802000-1781812800@www.cordovagc.gov
SUMMARY:Lighted Driving Range
DESCRIPTION:Lighted Driving Range every Wednesday and Saturday starting November 6
URL:https://www.cordovagc.gov/event/lighted-driving-range-2/2026-06-18/
END:VEVENT
BEGIN:VEVENT
DTSTART;TZID=UTC:20260619T170000
DTEND;TZID=UTC:20260619T200000
DTSTAMP:20260421T022727
CREATED:20241105T165724Z
LAST-MODIFIED:20251013T222810Z
UID:10005227-1781888400-1781899200@www.cordovagc.gov
SUMMARY:Lighted Driving Range
DESCRIPTION:Lighted Driving Range every Wednesday and Saturday starting November 6
URL:https://www.cordovagc.gov/event/lighted-driving-range-2/2026-06-19/
END:VEVENT
BEGIN:VEVENT
DTSTART;TZID=UTC:20260620T170000
DTEND;TZID=UTC:20260620T200000
DTSTAMP:20260421T022727
CREATED:20241105T165724Z
LAST-MODIFIED:20251013T222810Z
UID:10005228-1781974800-1781985600@www.cordovagc.gov
SUMMARY:Lighted Driving Range
DESCRIPTION:Lighted Driving Range every Wednesday and Saturday starting November 6
URL:https://www.cordovagc.gov/event/lighted-driving-range-2/2026-06-20/
END:VEVENT
BEGIN:VEVENT
DTSTART;TZID=UTC:20260624T170000
DTEND;TZID=UTC:20260624T200000
DTSTAMP:20260421T022727
CREATED:20241105T165724Z
LAST-MODIFIED:20251013T222810Z
UID:10005229-1782320400-1782331200@www.cordovagc.gov
SUMMARY:Lighted Driving Range
DESCRIPTION:Lighted Driving Range every Wednesday and Saturday starting November 6
URL:https://www.cordovagc.gov/event/lighted-driving-range-2/2026-06-24/
END:VEVENT
BEGIN:VEVENT
DTSTART;TZID=UTC:20260625T170000
DTEND;TZID=UTC:20260625T200000
DTSTAMP:20260421T022727
CREATED:20241105T165724Z
LAST-MODIFIED:20251013T222810Z
UID:10005230-1782406800-1782417600@www.cordovagc.gov
SUMMARY:Lighted Driving Range
DESCRIPTION:Lighted Driving Range every Wednesday and Saturday starting November 6
URL:https://www.cordovagc.gov/event/lighted-driving-range-2/2026-06-25/
END:VEVENT
BEGIN:VEVENT
DTSTART;TZID=UTC:20260626T170000
DTEND;TZID=UTC:20260626T200000
DTSTAMP:20260421T022727
CREATED:20241105T165724Z
LAST-MODIFIED:20251013T222810Z
UID:10005231-1782493200-1782504000@www.cordovagc.gov
SUMMARY:Lighted Driving Range
DESCRIPTION:Lighted Driving Range every Wednesday and Saturday starting November 6
URL:https://www.cordovagc.gov/event/lighted-driving-range-2/2026-06-26/
END:VEVENT
BEGIN:VEVENT
DTSTART;TZID=UTC:20260627T170000
DTEND;TZID=UTC:20260627T200000
DTSTAMP:20260421T022727
CREATED:20241105T165724Z
LAST-MODIFIED:20251013T222810Z
UID:10005232-1782579600-1782590400@www.cordovagc.gov
SUMMARY:Lighted Driving Range
DESCRIPTION:Lighted Driving Range every Wednesday and Saturday starting November 6
URL:https://www.cordovagc.gov/event/lighted-driving-range-2/2026-06-27/
END:VEVENT
BEGIN:VEVENT
DTSTART;TZID=UTC:20260701T170000
DTEND;TZID=UTC:20260701T200000
DTSTAMP:20260421T022727
CREATED:20241105T165724Z
LAST-MODIFIED:20251013T222810Z
UID:10005233-1782925200-1782936000@www.cordovagc.gov
SUMMARY:Lighted Driving Range
DESCRIPTION:Lighted Driving Range every Wednesday and Saturday starting November 6
URL:https://www.cordovagc.gov/event/lighted-driving-range-2/2026-07-01/
END:VEVENT
BEGIN:VEVENT
DTSTART;TZID=UTC:20260702T170000
DTEND;TZID=UTC:20260702T200000
DTSTAMP:20260421T022727
CREATED:20241105T165724Z
LAST-MODIFIED:20251013T222810Z
UID:10005234-1783011600-1783022400@www.cordovagc.gov
SUMMARY:Lighted Driving Range
DESCRIPTION:Lighted Driving Range every Wednesday and Saturday starting November 6
URL:https://www.cordovagc.gov/event/lighted-driving-range-2/2026-07-02/
END:VEVENT
BEGIN:VEVENT
DTSTART;TZID=UTC:20260703T170000
DTEND;TZID=UTC:20260703T200000
DTSTAMP:20260421T022727
CREATED:20241105T165724Z
LAST-MODIFIED:20251013T222810Z
UID:10005235-1783098000-1783108800@www.cordovagc.gov
SUMMARY:Lighted Driving Range
DESCRIPTION:Lighted Driving Range every Wednesday and Saturday starting November 6
URL:https://www.cordovagc.gov/event/lighted-driving-range-2/2026-07-03/
END:VEVENT
BEGIN:VEVENT
DTSTART;TZID=UTC:20260704T170000
DTEND;TZID=UTC:20260704T200000
DTSTAMP:20260421T022727
CREATED:20241105T165724Z
LAST-MODIFIED:20251013T222810Z
UID:10005236-1783184400-1783195200@www.cordovagc.gov
SUMMARY:Lighted Driving Range
DESCRIPTION:Lighted Driving Range every Wednesday and Saturday starting November 6
URL:https://www.cordovagc.gov/event/lighted-driving-range-2/2026-07-04/
END:VEVENT
BEGIN:VEVENT
DTSTART;TZID=UTC:20260708T170000
DTEND;TZID=UTC:20260708T200000
DTSTAMP:20260421T022727
CREATED:20241105T165724Z
LAST-MODIFIED:20251013T222810Z
UID:10005237-1783530000-1783540800@www.cordovagc.gov
SUMMARY:Lighted Driving Range
DESCRIPTION:Lighted Driving Range every Wednesday and Saturday starting November 6
URL:https://www.cordovagc.gov/event/lighted-driving-range-2/2026-07-08/
END:VEVENT
BEGIN:VEVENT
DTSTART;TZID=UTC:20260709T170000
DTEND;TZID=UTC:20260709T200000
DTSTAMP:20260421T022727
CREATED:20241105T165724Z
LAST-MODIFIED:20251013T222810Z
UID:10005238-1783616400-1783627200@www.cordovagc.gov
SUMMARY:Lighted Driving Range
DESCRIPTION:Lighted Driving Range every Wednesday and Saturday starting November 6
URL:https://www.cordovagc.gov/event/lighted-driving-range-2/2026-07-09/
END:VEVENT
BEGIN:VEVENT
DTSTART;TZID=UTC:20260710T170000
DTEND;TZID=UTC:20260710T200000
DTSTAMP:20260421T022727
CREATED:20241105T165724Z
LAST-MODIFIED:20251013T222810Z
UID:10005239-1783702800-1783713600@www.cordovagc.gov
SUMMARY:Lighted Driving Range
DESCRIPTION:Lighted Driving Range every Wednesday and Saturday starting November 6
URL:https://www.cordovagc.gov/event/lighted-driving-range-2/2026-07-10/
END:VEVENT
BEGIN:VEVENT
DTSTART;TZID=UTC:20260711T170000
DTEND;TZID=UTC:20260711T200000
DTSTAMP:20260421T022727
CREATED:20241105T165724Z
LAST-MODIFIED:20251013T222810Z
UID:10005240-1783789200-1783800000@www.cordovagc.gov
SUMMARY:Lighted Driving Range
DESCRIPTION:Lighted Driving Range every Wednesday and Saturday starting November 6
URL:https://www.cordovagc.gov/event/lighted-driving-range-2/2026-07-11/
END:VEVENT
BEGIN:VEVENT
DTSTART;TZID=UTC:20260715T170000
DTEND;TZID=UTC:20260715T200000
DTSTAMP:20260421T022727
CREATED:20241105T165724Z
LAST-MODIFIED:20251013T222810Z
UID:10005241-1784134800-1784145600@www.cordovagc.gov
SUMMARY:Lighted Driving Range
DESCRIPTION:Lighted Driving Range every Wednesday and Saturday starting November 6
URL:https://www.cordovagc.gov/event/lighted-driving-range-2/2026-07-15/
END:VEVENT
BEGIN:VEVENT
DTSTART;TZID=UTC:20260716T170000
DTEND;TZID=UTC:20260716T200000
DTSTAMP:20260421T022727
CREATED:20241105T165724Z
LAST-MODIFIED:20251013T222810Z
UID:10005242-1784221200-1784232000@www.cordovagc.gov
SUMMARY:Lighted Driving Range
DESCRIPTION:Lighted Driving Range every Wednesday and Saturday starting November 6
URL:https://www.cordovagc.gov/event/lighted-driving-range-2/2026-07-16/
END:VEVENT
BEGIN:VEVENT
DTSTART;TZID=UTC:20260717T170000
DTEND;TZID=UTC:20260717T200000
DTSTAMP:20260421T022727
CREATED:20241105T165724Z
LAST-MODIFIED:20251013T222810Z
UID:10005243-1784307600-1784318400@www.cordovagc.gov
SUMMARY:Lighted Driving Range
DESCRIPTION:Lighted Driving Range every Wednesday and Saturday starting November 6
URL:https://www.cordovagc.gov/event/lighted-driving-range-2/2026-07-17/
END:VEVENT
BEGIN:VEVENT
DTSTART;TZID=UTC:20260718T170000
DTEND;TZID=UTC:20260718T200000
DTSTAMP:20260421T022727
CREATED:20241105T165724Z
LAST-MODIFIED:20251013T222810Z
UID:10005244-1784394000-1784404800@www.cordovagc.gov
SUMMARY:Lighted Driving Range
DESCRIPTION:Lighted Driving Range every Wednesday and Saturday starting November 6
URL:https://www.cordovagc.gov/event/lighted-driving-range-2/2026-07-18/
END:VEVENT
BEGIN:VEVENT
DTSTART;TZID=UTC:20260722T170000
DTEND;TZID=UTC:20260722T200000
DTSTAMP:20260421T022727
CREATED:20241105T165724Z
LAST-MODIFIED:20251013T222810Z
UID:10005245-1784739600-1784750400@www.cordovagc.gov
SUMMARY:Lighted Driving Range
DESCRIPTION:Lighted Driving Range every Wednesday and Saturday starting November 6
URL:https://www.cordovagc.gov/event/lighted-driving-range-2/2026-07-22/
END:VEVENT
BEGIN:VEVENT
DTSTART;TZID=UTC:20260723T170000
DTEND;TZID=UTC:20260723T200000
DTSTAMP:20260421T022727
CREATED:20241105T165724Z
LAST-MODIFIED:20251013T222810Z
UID:10005246-1784826000-1784836800@www.cordovagc.gov
SUMMARY:Lighted Driving Range
DESCRIPTION:Lighted Driving Range every Wednesday and Saturday starting November 6
URL:https://www.cordovagc.gov/event/lighted-driving-range-2/2026-07-23/
END:VEVENT
END:VCALENDAR