BEGIN:VCALENDAR
VERSION:2.0
PRODID:-//Cordova Golf Course - ECPv6.15.18//NONSGML v1.0//EN
CALSCALE:GREGORIAN
METHOD:PUBLISH
X-ORIGINAL-URL:https://www.cordovagc.gov
X-WR-CALDESC:Events for Cordova Golf Course
REFRESH-INTERVAL;VALUE=DURATION:PT1H
X-Robots-Tag:noindex
X-PUBLISHED-TTL:PT1H
BEGIN:VTIMEZONE
TZID:UTC
BEGIN:STANDARD
TZOFFSETFROM:+0000
TZOFFSETTO:+0000
TZNAME:UTC
DTSTART:20250101T000000
END:STANDARD
END:VTIMEZONE
BEGIN:VEVENT
DTSTART;TZID=UTC:20261231T170000
DTEND;TZID=UTC:20261231T170000
DTSTAMP:20260420T105034
CREATED:20250902T221532Z
LAST-MODIFIED:20250902T221532Z
UID:10007826-1798736400-1798736400@www.cordovagc.gov
SUMMARY:Spark Golf League
DESCRIPTION:Spark Golf League is a 9-hole social golf league. Prior sign up is required on www.spark.golf
URL:https://www.cordovagc.gov/event/spark-golf-league/2026-12-31/
END:VEVENT
BEGIN:VEVENT
DTSTART;TZID=UTC:20270107T170000
DTEND;TZID=UTC:20270107T170000
DTSTAMP:20260420T105034
CREATED:20250902T221532Z
LAST-MODIFIED:20250902T221532Z
UID:10007827-1799341200-1799341200@www.cordovagc.gov
SUMMARY:Spark Golf League
DESCRIPTION:Spark Golf League is a 9-hole social golf league. Prior sign up is required on www.spark.golf
URL:https://www.cordovagc.gov/event/spark-golf-league/2027-01-07/
END:VEVENT
BEGIN:VEVENT
DTSTART;TZID=UTC:20270114T170000
DTEND;TZID=UTC:20270114T170000
DTSTAMP:20260420T105034
CREATED:20250902T221532Z
LAST-MODIFIED:20250902T221532Z
UID:10007828-1799946000-1799946000@www.cordovagc.gov
SUMMARY:Spark Golf League
DESCRIPTION:Spark Golf League is a 9-hole social golf league. Prior sign up is required on www.spark.golf
URL:https://www.cordovagc.gov/event/spark-golf-league/2027-01-14/
END:VEVENT
BEGIN:VEVENT
DTSTART;TZID=UTC:20270121T170000
DTEND;TZID=UTC:20270121T170000
DTSTAMP:20260420T105034
CREATED:20250902T221532Z
LAST-MODIFIED:20250902T221532Z
UID:10007829-1800550800-1800550800@www.cordovagc.gov
SUMMARY:Spark Golf League
DESCRIPTION:Spark Golf League is a 9-hole social golf league. Prior sign up is required on www.spark.golf
URL:https://www.cordovagc.gov/event/spark-golf-league/2027-01-21/
END:VEVENT
BEGIN:VEVENT
DTSTART;TZID=UTC:20270128T170000
DTEND;TZID=UTC:20270128T170000
DTSTAMP:20260420T105034
CREATED:20250902T221532Z
LAST-MODIFIED:20250902T221532Z
UID:10007830-1801155600-1801155600@www.cordovagc.gov
SUMMARY:Spark Golf League
DESCRIPTION:Spark Golf League is a 9-hole social golf league. Prior sign up is required on www.spark.golf
URL:https://www.cordovagc.gov/event/spark-golf-league/2027-01-28/
END:VEVENT
BEGIN:VEVENT
DTSTART;TZID=UTC:20270204T170000
DTEND;TZID=UTC:20270204T170000
DTSTAMP:20260420T105034
CREATED:20250902T221532Z
LAST-MODIFIED:20250902T221532Z
UID:10007831-1801760400-1801760400@www.cordovagc.gov
SUMMARY:Spark Golf League
DESCRIPTION:Spark Golf League is a 9-hole social golf league. Prior sign up is required on www.spark.golf
URL:https://www.cordovagc.gov/event/spark-golf-league/2027-02-04/
END:VEVENT
BEGIN:VEVENT
DTSTART;TZID=UTC:20270211T170000
DTEND;TZID=UTC:20270211T170000
DTSTAMP:20260420T105034
CREATED:20250902T221532Z
LAST-MODIFIED:20250902T221532Z
UID:10007832-1802365200-1802365200@www.cordovagc.gov
SUMMARY:Spark Golf League
DESCRIPTION:Spark Golf League is a 9-hole social golf league. Prior sign up is required on www.spark.golf
URL:https://www.cordovagc.gov/event/spark-golf-league/2027-02-11/
END:VEVENT
BEGIN:VEVENT
DTSTART;TZID=UTC:20270218T170000
DTEND;TZID=UTC:20270218T170000
DTSTAMP:20260420T105034
CREATED:20250902T221532Z
LAST-MODIFIED:20250902T221532Z
UID:10007833-1802970000-1802970000@www.cordovagc.gov
SUMMARY:Spark Golf League
DESCRIPTION:Spark Golf League is a 9-hole social golf league. Prior sign up is required on www.spark.golf
URL:https://www.cordovagc.gov/event/spark-golf-league/2027-02-18/
END:VEVENT
BEGIN:VEVENT
DTSTART;TZID=UTC:20270225T170000
DTEND;TZID=UTC:20270225T170000
DTSTAMP:20260420T105034
CREATED:20250902T221532Z
LAST-MODIFIED:20250902T221532Z
UID:10007834-1803574800-1803574800@www.cordovagc.gov
SUMMARY:Spark Golf League
DESCRIPTION:Spark Golf League is a 9-hole social golf league. Prior sign up is required on www.spark.golf
URL:https://www.cordovagc.gov/event/spark-golf-league/2027-02-25/
END:VEVENT
BEGIN:VEVENT
DTSTART;TZID=UTC:20270304T170000
DTEND;TZID=UTC:20270304T170000
DTSTAMP:20260420T105034
CREATED:20250902T221532Z
LAST-MODIFIED:20250902T221532Z
UID:10007835-1804179600-1804179600@www.cordovagc.gov
SUMMARY:Spark Golf League
DESCRIPTION:Spark Golf League is a 9-hole social golf league. Prior sign up is required on www.spark.golf
URL:https://www.cordovagc.gov/event/spark-golf-league/2027-03-04/
END:VEVENT
BEGIN:VEVENT
DTSTART;TZID=UTC:20270311T170000
DTEND;TZID=UTC:20270311T170000
DTSTAMP:20260420T105034
CREATED:20250902T221532Z
LAST-MODIFIED:20250902T221532Z
UID:10007836-1804784400-1804784400@www.cordovagc.gov
SUMMARY:Spark Golf League
DESCRIPTION:Spark Golf League is a 9-hole social golf league. Prior sign up is required on www.spark.golf
URL:https://www.cordovagc.gov/event/spark-golf-league/2027-03-11/
END:VEVENT
BEGIN:VEVENT
DTSTART;TZID=UTC:20270318T170000
DTEND;TZID=UTC:20270318T170000
DTSTAMP:20260420T105034
CREATED:20250902T221532Z
LAST-MODIFIED:20250902T221532Z
UID:10007837-1805389200-1805389200@www.cordovagc.gov
SUMMARY:Spark Golf League
DESCRIPTION:Spark Golf League is a 9-hole social golf league. Prior sign up is required on www.spark.golf
URL:https://www.cordovagc.gov/event/spark-golf-league/2027-03-18/
END:VEVENT
BEGIN:VEVENT
DTSTART;TZID=UTC:20270325T170000
DTEND;TZID=UTC:20270325T170000
DTSTAMP:20260420T105034
CREATED:20250902T221532Z
LAST-MODIFIED:20250902T221532Z
UID:10007838-1805994000-1805994000@www.cordovagc.gov
SUMMARY:Spark Golf League
DESCRIPTION:Spark Golf League is a 9-hole social golf league. Prior sign up is required on www.spark.golf
URL:https://www.cordovagc.gov/event/spark-golf-league/2027-03-25/
END:VEVENT
BEGIN:VEVENT
DTSTART;TZID=UTC:20270401T170000
DTEND;TZID=UTC:20270401T170000
DTSTAMP:20260420T105034
CREATED:20250902T221532Z
LAST-MODIFIED:20250902T221532Z
UID:10007839-1806598800-1806598800@www.cordovagc.gov
SUMMARY:Spark Golf League
DESCRIPTION:Spark Golf League is a 9-hole social golf league. Prior sign up is required on www.spark.golf
URL:https://www.cordovagc.gov/event/spark-golf-league/2027-04-01/
END:VEVENT
BEGIN:VEVENT
DTSTART;TZID=UTC:20270408T170000
DTEND;TZID=UTC:20270408T170000
DTSTAMP:20260420T105034
CREATED:20250902T221532Z
LAST-MODIFIED:20250902T221532Z
UID:10007840-1807203600-1807203600@www.cordovagc.gov
SUMMARY:Spark Golf League
DESCRIPTION:Spark Golf League is a 9-hole social golf league. Prior sign up is required on www.spark.golf
URL:https://www.cordovagc.gov/event/spark-golf-league/2027-04-08/
END:VEVENT
BEGIN:VEVENT
DTSTART;TZID=UTC:20270415T170000
DTEND;TZID=UTC:20270415T170000
DTSTAMP:20260420T105034
CREATED:20250902T221532Z
LAST-MODIFIED:20250902T221532Z
UID:10007841-1807808400-1807808400@www.cordovagc.gov
SUMMARY:Spark Golf League
DESCRIPTION:Spark Golf League is a 9-hole social golf league. Prior sign up is required on www.spark.golf
URL:https://www.cordovagc.gov/event/spark-golf-league/2027-04-15/
END:VEVENT
BEGIN:VEVENT
DTSTART;TZID=UTC:20270422T170000
DTEND;TZID=UTC:20270422T170000
DTSTAMP:20260420T105034
CREATED:20250902T221532Z
LAST-MODIFIED:20250902T221532Z
UID:10007842-1808413200-1808413200@www.cordovagc.gov
SUMMARY:Spark Golf League
DESCRIPTION:Spark Golf League is a 9-hole social golf league. Prior sign up is required on www.spark.golf
URL:https://www.cordovagc.gov/event/spark-golf-league/2027-04-22/
END:VEVENT
BEGIN:VEVENT
DTSTART;TZID=UTC:20270429T170000
DTEND;TZID=UTC:20270429T170000
DTSTAMP:20260420T105034
CREATED:20250902T221532Z
LAST-MODIFIED:20250902T221532Z
UID:10007843-1809018000-1809018000@www.cordovagc.gov
SUMMARY:Spark Golf League
DESCRIPTION:Spark Golf League is a 9-hole social golf league. Prior sign up is required on www.spark.golf
URL:https://www.cordovagc.gov/event/spark-golf-league/2027-04-29/
END:VEVENT
BEGIN:VEVENT
DTSTART;TZID=UTC:20270506T170000
DTEND;TZID=UTC:20270506T170000
DTSTAMP:20260420T105034
CREATED:20250902T221532Z
LAST-MODIFIED:20250902T221532Z
UID:10007844-1809622800-1809622800@www.cordovagc.gov
SUMMARY:Spark Golf League
DESCRIPTION:Spark Golf League is a 9-hole social golf league. Prior sign up is required on www.spark.golf
URL:https://www.cordovagc.gov/event/spark-golf-league/2027-05-06/
END:VEVENT
BEGIN:VEVENT
DTSTART;TZID=UTC:20270513T170000
DTEND;TZID=UTC:20270513T170000
DTSTAMP:20260420T105034
CREATED:20250902T221532Z
LAST-MODIFIED:20250902T221532Z
UID:10007845-1810227600-1810227600@www.cordovagc.gov
SUMMARY:Spark Golf League
DESCRIPTION:Spark Golf League is a 9-hole social golf league. Prior sign up is required on www.spark.golf
URL:https://www.cordovagc.gov/event/spark-golf-league/2027-05-13/
END:VEVENT
BEGIN:VEVENT
DTSTART;TZID=UTC:20270520T170000
DTEND;TZID=UTC:20270520T170000
DTSTAMP:20260420T105034
CREATED:20250902T221532Z
LAST-MODIFIED:20250902T221532Z
UID:10007846-1810832400-1810832400@www.cordovagc.gov
SUMMARY:Spark Golf League
DESCRIPTION:Spark Golf League is a 9-hole social golf league. Prior sign up is required on www.spark.golf
URL:https://www.cordovagc.gov/event/spark-golf-league/2027-05-20/
END:VEVENT
BEGIN:VEVENT
DTSTART;TZID=UTC:20270527T170000
DTEND;TZID=UTC:20270527T170000
DTSTAMP:20260420T105034
CREATED:20250902T221532Z
LAST-MODIFIED:20250902T221532Z
UID:10007847-1811437200-1811437200@www.cordovagc.gov
SUMMARY:Spark Golf League
DESCRIPTION:Spark Golf League is a 9-hole social golf league. Prior sign up is required on www.spark.golf
URL:https://www.cordovagc.gov/event/spark-golf-league/2027-05-27/
END:VEVENT
BEGIN:VEVENT
DTSTART;TZID=UTC:20270603T170000
DTEND;TZID=UTC:20270603T170000
DTSTAMP:20260420T105034
CREATED:20250902T221532Z
LAST-MODIFIED:20250902T221532Z
UID:10007848-1812042000-1812042000@www.cordovagc.gov
SUMMARY:Spark Golf League
DESCRIPTION:Spark Golf League is a 9-hole social golf league. Prior sign up is required on www.spark.golf
URL:https://www.cordovagc.gov/event/spark-golf-league/2027-06-03/
END:VEVENT
BEGIN:VEVENT
DTSTART;TZID=UTC:20270610T170000
DTEND;TZID=UTC:20270610T170000
DTSTAMP:20260420T105034
CREATED:20250902T221532Z
LAST-MODIFIED:20250902T221532Z
UID:10007849-1812646800-1812646800@www.cordovagc.gov
SUMMARY:Spark Golf League
DESCRIPTION:Spark Golf League is a 9-hole social golf league. Prior sign up is required on www.spark.golf
URL:https://www.cordovagc.gov/event/spark-golf-league/2027-06-10/
END:VEVENT
BEGIN:VEVENT
DTSTART;TZID=UTC:20270617T170000
DTEND;TZID=UTC:20270617T170000
DTSTAMP:20260420T105034
CREATED:20250902T221532Z
LAST-MODIFIED:20250902T221532Z
UID:10007850-1813251600-1813251600@www.cordovagc.gov
SUMMARY:Spark Golf League
DESCRIPTION:Spark Golf League is a 9-hole social golf league. Prior sign up is required on www.spark.golf
URL:https://www.cordovagc.gov/event/spark-golf-league/2027-06-17/
END:VEVENT
BEGIN:VEVENT
DTSTART;TZID=UTC:20270624T170000
DTEND;TZID=UTC:20270624T170000
DTSTAMP:20260420T105034
CREATED:20250902T221532Z
LAST-MODIFIED:20250902T221532Z
UID:10007851-1813856400-1813856400@www.cordovagc.gov
SUMMARY:Spark Golf League
DESCRIPTION:Spark Golf League is a 9-hole social golf league. Prior sign up is required on www.spark.golf
URL:https://www.cordovagc.gov/event/spark-golf-league/2027-06-24/
END:VEVENT
BEGIN:VEVENT
DTSTART;TZID=UTC:20270701T170000
DTEND;TZID=UTC:20270701T170000
DTSTAMP:20260420T105034
CREATED:20250902T221532Z
LAST-MODIFIED:20250902T221532Z
UID:10007852-1814461200-1814461200@www.cordovagc.gov
SUMMARY:Spark Golf League
DESCRIPTION:Spark Golf League is a 9-hole social golf league. Prior sign up is required on www.spark.golf
URL:https://www.cordovagc.gov/event/spark-golf-league/2027-07-01/
END:VEVENT
BEGIN:VEVENT
DTSTART;TZID=UTC:20270708T170000
DTEND;TZID=UTC:20270708T170000
DTSTAMP:20260420T105034
CREATED:20250902T221532Z
LAST-MODIFIED:20250902T221532Z
UID:10007853-1815066000-1815066000@www.cordovagc.gov
SUMMARY:Spark Golf League
DESCRIPTION:Spark Golf League is a 9-hole social golf league. Prior sign up is required on www.spark.golf
URL:https://www.cordovagc.gov/event/spark-golf-league/2027-07-08/
END:VEVENT
BEGIN:VEVENT
DTSTART;TZID=UTC:20270715T170000
DTEND;TZID=UTC:20270715T170000
DTSTAMP:20260420T105034
CREATED:20250902T221532Z
LAST-MODIFIED:20250902T221532Z
UID:10007854-1815670800-1815670800@www.cordovagc.gov
SUMMARY:Spark Golf League
DESCRIPTION:Spark Golf League is a 9-hole social golf league. Prior sign up is required on www.spark.golf
URL:https://www.cordovagc.gov/event/spark-golf-league/2027-07-15/
END:VEVENT
BEGIN:VEVENT
DTSTART;TZID=UTC:20270722T170000
DTEND;TZID=UTC:20270722T170000
DTSTAMP:20260420T105034
CREATED:20250902T221532Z
LAST-MODIFIED:20250902T221532Z
UID:10007855-1816275600-1816275600@www.cordovagc.gov
SUMMARY:Spark Golf League
DESCRIPTION:Spark Golf League is a 9-hole social golf league. Prior sign up is required on www.spark.golf
URL:https://www.cordovagc.gov/event/spark-golf-league/2027-07-22/
END:VEVENT
END:VCALENDAR