BEGIN:VCALENDAR
VERSION:2.0
PRODID:-//Cordova Golf Course - ECPv6.15.18//NONSGML v1.0//EN
CALSCALE:GREGORIAN
METHOD:PUBLISH
X-ORIGINAL-URL:https://www.cordovagc.gov
X-WR-CALDESC:Events for Cordova Golf Course
REFRESH-INTERVAL;VALUE=DURATION:PT1H
X-Robots-Tag:noindex
X-PUBLISHED-TTL:PT1H
BEGIN:VTIMEZONE
TZID:UTC
BEGIN:STANDARD
TZOFFSETFROM:+0000
TZOFFSETTO:+0000
TZNAME:UTC
DTSTART:20250101T000000
END:STANDARD
END:VTIMEZONE
BEGIN:VEVENT
DTSTART;TZID=UTC:20260715T170000
DTEND;TZID=UTC:20260715T200000
DTSTAMP:20260421T051343
CREATED:20241105T165724Z
LAST-MODIFIED:20251013T222810Z
UID:10005241-1784134800-1784145600@www.cordovagc.gov
SUMMARY:Lighted Driving Range
DESCRIPTION:Lighted Driving Range every Wednesday and Saturday starting November 6
URL:https://www.cordovagc.gov/event/lighted-driving-range-2/2026-07-15/
END:VEVENT
BEGIN:VEVENT
DTSTART;TZID=UTC:20260716T170000
DTEND;TZID=UTC:20260716T200000
DTSTAMP:20260421T051343
CREATED:20241105T165724Z
LAST-MODIFIED:20251013T222810Z
UID:10005242-1784221200-1784232000@www.cordovagc.gov
SUMMARY:Lighted Driving Range
DESCRIPTION:Lighted Driving Range every Wednesday and Saturday starting November 6
URL:https://www.cordovagc.gov/event/lighted-driving-range-2/2026-07-16/
END:VEVENT
BEGIN:VEVENT
DTSTART;TZID=UTC:20260717T170000
DTEND;TZID=UTC:20260717T200000
DTSTAMP:20260421T051343
CREATED:20241105T165724Z
LAST-MODIFIED:20251013T222810Z
UID:10005243-1784307600-1784318400@www.cordovagc.gov
SUMMARY:Lighted Driving Range
DESCRIPTION:Lighted Driving Range every Wednesday and Saturday starting November 6
URL:https://www.cordovagc.gov/event/lighted-driving-range-2/2026-07-17/
END:VEVENT
BEGIN:VEVENT
DTSTART;TZID=UTC:20260718T170000
DTEND;TZID=UTC:20260718T200000
DTSTAMP:20260421T051343
CREATED:20241105T165724Z
LAST-MODIFIED:20251013T222810Z
UID:10005244-1784394000-1784404800@www.cordovagc.gov
SUMMARY:Lighted Driving Range
DESCRIPTION:Lighted Driving Range every Wednesday and Saturday starting November 6
URL:https://www.cordovagc.gov/event/lighted-driving-range-2/2026-07-18/
END:VEVENT
BEGIN:VEVENT
DTSTART;TZID=UTC:20260722T170000
DTEND;TZID=UTC:20260722T200000
DTSTAMP:20260421T051343
CREATED:20241105T165724Z
LAST-MODIFIED:20251013T222810Z
UID:10005245-1784739600-1784750400@www.cordovagc.gov
SUMMARY:Lighted Driving Range
DESCRIPTION:Lighted Driving Range every Wednesday and Saturday starting November 6
URL:https://www.cordovagc.gov/event/lighted-driving-range-2/2026-07-22/
END:VEVENT
BEGIN:VEVENT
DTSTART;TZID=UTC:20260723T170000
DTEND;TZID=UTC:20260723T200000
DTSTAMP:20260421T051343
CREATED:20241105T165724Z
LAST-MODIFIED:20251013T222810Z
UID:10005246-1784826000-1784836800@www.cordovagc.gov
SUMMARY:Lighted Driving Range
DESCRIPTION:Lighted Driving Range every Wednesday and Saturday starting November 6
URL:https://www.cordovagc.gov/event/lighted-driving-range-2/2026-07-23/
END:VEVENT
BEGIN:VEVENT
DTSTART;TZID=UTC:20260724T170000
DTEND;TZID=UTC:20260724T200000
DTSTAMP:20260421T051343
CREATED:20241105T165724Z
LAST-MODIFIED:20251013T222810Z
UID:10005247-1784912400-1784923200@www.cordovagc.gov
SUMMARY:Lighted Driving Range
DESCRIPTION:Lighted Driving Range every Wednesday and Saturday starting November 6
URL:https://www.cordovagc.gov/event/lighted-driving-range-2/2026-07-24/
END:VEVENT
BEGIN:VEVENT
DTSTART;TZID=UTC:20260725T170000
DTEND;TZID=UTC:20260725T200000
DTSTAMP:20260421T051343
CREATED:20241105T165724Z
LAST-MODIFIED:20251013T222810Z
UID:10005248-1784998800-1785009600@www.cordovagc.gov
SUMMARY:Lighted Driving Range
DESCRIPTION:Lighted Driving Range every Wednesday and Saturday starting November 6
URL:https://www.cordovagc.gov/event/lighted-driving-range-2/2026-07-25/
END:VEVENT
BEGIN:VEVENT
DTSTART;TZID=UTC:20260729T170000
DTEND;TZID=UTC:20260729T200000
DTSTAMP:20260421T051343
CREATED:20241105T165724Z
LAST-MODIFIED:20251013T222810Z
UID:10005249-1785344400-1785355200@www.cordovagc.gov
SUMMARY:Lighted Driving Range
DESCRIPTION:Lighted Driving Range every Wednesday and Saturday starting November 6
URL:https://www.cordovagc.gov/event/lighted-driving-range-2/2026-07-29/
END:VEVENT
BEGIN:VEVENT
DTSTART;TZID=UTC:20260730T170000
DTEND;TZID=UTC:20260730T200000
DTSTAMP:20260421T051343
CREATED:20241105T165724Z
LAST-MODIFIED:20251013T222810Z
UID:10005250-1785430800-1785441600@www.cordovagc.gov
SUMMARY:Lighted Driving Range
DESCRIPTION:Lighted Driving Range every Wednesday and Saturday starting November 6
URL:https://www.cordovagc.gov/event/lighted-driving-range-2/2026-07-30/
END:VEVENT
BEGIN:VEVENT
DTSTART;TZID=UTC:20260731T170000
DTEND;TZID=UTC:20260731T200000
DTSTAMP:20260421T051343
CREATED:20241105T165724Z
LAST-MODIFIED:20251013T222810Z
UID:10005251-1785517200-1785528000@www.cordovagc.gov
SUMMARY:Lighted Driving Range
DESCRIPTION:Lighted Driving Range every Wednesday and Saturday starting November 6
URL:https://www.cordovagc.gov/event/lighted-driving-range-2/2026-07-31/
END:VEVENT
BEGIN:VEVENT
DTSTART;TZID=UTC:20260801T170000
DTEND;TZID=UTC:20260801T200000
DTSTAMP:20260421T051343
CREATED:20241105T165724Z
LAST-MODIFIED:20251013T222810Z
UID:10005252-1785603600-1785614400@www.cordovagc.gov
SUMMARY:Lighted Driving Range
DESCRIPTION:Lighted Driving Range every Wednesday and Saturday starting November 6
URL:https://www.cordovagc.gov/event/lighted-driving-range-2/2026-08-01/
END:VEVENT
BEGIN:VEVENT
DTSTART;TZID=UTC:20260805T170000
DTEND;TZID=UTC:20260805T200000
DTSTAMP:20260421T051343
CREATED:20241105T165724Z
LAST-MODIFIED:20251013T222810Z
UID:10005253-1785949200-1785960000@www.cordovagc.gov
SUMMARY:Lighted Driving Range
DESCRIPTION:Lighted Driving Range every Wednesday and Saturday starting November 6
URL:https://www.cordovagc.gov/event/lighted-driving-range-2/2026-08-05/
END:VEVENT
BEGIN:VEVENT
DTSTART;TZID=UTC:20260806T170000
DTEND;TZID=UTC:20260806T200000
DTSTAMP:20260421T051343
CREATED:20241105T165724Z
LAST-MODIFIED:20251013T222810Z
UID:10005254-1786035600-1786046400@www.cordovagc.gov
SUMMARY:Lighted Driving Range
DESCRIPTION:Lighted Driving Range every Wednesday and Saturday starting November 6
URL:https://www.cordovagc.gov/event/lighted-driving-range-2/2026-08-06/
END:VEVENT
BEGIN:VEVENT
DTSTART;TZID=UTC:20260807T170000
DTEND;TZID=UTC:20260807T200000
DTSTAMP:20260421T051343
CREATED:20241105T165724Z
LAST-MODIFIED:20251013T222810Z
UID:10005255-1786122000-1786132800@www.cordovagc.gov
SUMMARY:Lighted Driving Range
DESCRIPTION:Lighted Driving Range every Wednesday and Saturday starting November 6
URL:https://www.cordovagc.gov/event/lighted-driving-range-2/2026-08-07/
END:VEVENT
BEGIN:VEVENT
DTSTART;TZID=UTC:20260808T170000
DTEND;TZID=UTC:20260808T200000
DTSTAMP:20260421T051343
CREATED:20241105T165724Z
LAST-MODIFIED:20251013T222810Z
UID:10005256-1786208400-1786219200@www.cordovagc.gov
SUMMARY:Lighted Driving Range
DESCRIPTION:Lighted Driving Range every Wednesday and Saturday starting November 6
URL:https://www.cordovagc.gov/event/lighted-driving-range-2/2026-08-08/
END:VEVENT
BEGIN:VEVENT
DTSTART;TZID=UTC:20260812T170000
DTEND;TZID=UTC:20260812T200000
DTSTAMP:20260421T051343
CREATED:20241105T165724Z
LAST-MODIFIED:20251013T222810Z
UID:10005257-1786554000-1786564800@www.cordovagc.gov
SUMMARY:Lighted Driving Range
DESCRIPTION:Lighted Driving Range every Wednesday and Saturday starting November 6
URL:https://www.cordovagc.gov/event/lighted-driving-range-2/2026-08-12/
END:VEVENT
BEGIN:VEVENT
DTSTART;TZID=UTC:20260813T170000
DTEND;TZID=UTC:20260813T200000
DTSTAMP:20260421T051343
CREATED:20241105T165724Z
LAST-MODIFIED:20251013T222810Z
UID:10005258-1786640400-1786651200@www.cordovagc.gov
SUMMARY:Lighted Driving Range
DESCRIPTION:Lighted Driving Range every Wednesday and Saturday starting November 6
URL:https://www.cordovagc.gov/event/lighted-driving-range-2/2026-08-13/
END:VEVENT
BEGIN:VEVENT
DTSTART;TZID=UTC:20260814T170000
DTEND;TZID=UTC:20260814T200000
DTSTAMP:20260421T051343
CREATED:20241105T165724Z
LAST-MODIFIED:20251013T222810Z
UID:10005259-1786726800-1786737600@www.cordovagc.gov
SUMMARY:Lighted Driving Range
DESCRIPTION:Lighted Driving Range every Wednesday and Saturday starting November 6
URL:https://www.cordovagc.gov/event/lighted-driving-range-2/2026-08-14/
END:VEVENT
BEGIN:VEVENT
DTSTART;TZID=UTC:20260815T170000
DTEND;TZID=UTC:20260815T200000
DTSTAMP:20260421T051343
CREATED:20241105T165724Z
LAST-MODIFIED:20251013T222810Z
UID:10005260-1786813200-1786824000@www.cordovagc.gov
SUMMARY:Lighted Driving Range
DESCRIPTION:Lighted Driving Range every Wednesday and Saturday starting November 6
URL:https://www.cordovagc.gov/event/lighted-driving-range-2/2026-08-15/
END:VEVENT
BEGIN:VEVENT
DTSTART;TZID=UTC:20260819T170000
DTEND;TZID=UTC:20260819T200000
DTSTAMP:20260421T051343
CREATED:20241105T165724Z
LAST-MODIFIED:20251013T222810Z
UID:10005261-1787158800-1787169600@www.cordovagc.gov
SUMMARY:Lighted Driving Range
DESCRIPTION:Lighted Driving Range every Wednesday and Saturday starting November 6
URL:https://www.cordovagc.gov/event/lighted-driving-range-2/2026-08-19/
END:VEVENT
BEGIN:VEVENT
DTSTART;TZID=UTC:20260820T170000
DTEND;TZID=UTC:20260820T200000
DTSTAMP:20260421T051343
CREATED:20241105T165724Z
LAST-MODIFIED:20251013T222810Z
UID:10005262-1787245200-1787256000@www.cordovagc.gov
SUMMARY:Lighted Driving Range
DESCRIPTION:Lighted Driving Range every Wednesday and Saturday starting November 6
URL:https://www.cordovagc.gov/event/lighted-driving-range-2/2026-08-20/
END:VEVENT
BEGIN:VEVENT
DTSTART;TZID=UTC:20260821T170000
DTEND;TZID=UTC:20260821T200000
DTSTAMP:20260421T051343
CREATED:20241105T165724Z
LAST-MODIFIED:20251013T222810Z
UID:10005263-1787331600-1787342400@www.cordovagc.gov
SUMMARY:Lighted Driving Range
DESCRIPTION:Lighted Driving Range every Wednesday and Saturday starting November 6
URL:https://www.cordovagc.gov/event/lighted-driving-range-2/2026-08-21/
END:VEVENT
BEGIN:VEVENT
DTSTART;TZID=UTC:20260822T170000
DTEND;TZID=UTC:20260822T200000
DTSTAMP:20260421T051343
CREATED:20241105T165724Z
LAST-MODIFIED:20251013T222810Z
UID:10005264-1787418000-1787428800@www.cordovagc.gov
SUMMARY:Lighted Driving Range
DESCRIPTION:Lighted Driving Range every Wednesday and Saturday starting November 6
URL:https://www.cordovagc.gov/event/lighted-driving-range-2/2026-08-22/
END:VEVENT
BEGIN:VEVENT
DTSTART;TZID=UTC:20260826T170000
DTEND;TZID=UTC:20260826T200000
DTSTAMP:20260421T051343
CREATED:20241105T165724Z
LAST-MODIFIED:20251013T222810Z
UID:10005265-1787763600-1787774400@www.cordovagc.gov
SUMMARY:Lighted Driving Range
DESCRIPTION:Lighted Driving Range every Wednesday and Saturday starting November 6
URL:https://www.cordovagc.gov/event/lighted-driving-range-2/2026-08-26/
END:VEVENT
BEGIN:VEVENT
DTSTART;TZID=UTC:20260827T170000
DTEND;TZID=UTC:20260827T200000
DTSTAMP:20260421T051343
CREATED:20241105T165724Z
LAST-MODIFIED:20251013T222810Z
UID:10005266-1787850000-1787860800@www.cordovagc.gov
SUMMARY:Lighted Driving Range
DESCRIPTION:Lighted Driving Range every Wednesday and Saturday starting November 6
URL:https://www.cordovagc.gov/event/lighted-driving-range-2/2026-08-27/
END:VEVENT
BEGIN:VEVENT
DTSTART;TZID=UTC:20260828T170000
DTEND;TZID=UTC:20260828T200000
DTSTAMP:20260421T051343
CREATED:20241105T165724Z
LAST-MODIFIED:20251013T222810Z
UID:10005267-1787936400-1787947200@www.cordovagc.gov
SUMMARY:Lighted Driving Range
DESCRIPTION:Lighted Driving Range every Wednesday and Saturday starting November 6
URL:https://www.cordovagc.gov/event/lighted-driving-range-2/2026-08-28/
END:VEVENT
BEGIN:VEVENT
DTSTART;TZID=UTC:20260829T170000
DTEND;TZID=UTC:20260829T200000
DTSTAMP:20260421T051343
CREATED:20241105T165724Z
LAST-MODIFIED:20251013T222810Z
UID:10005268-1788022800-1788033600@www.cordovagc.gov
SUMMARY:Lighted Driving Range
DESCRIPTION:Lighted Driving Range every Wednesday and Saturday starting November 6
URL:https://www.cordovagc.gov/event/lighted-driving-range-2/2026-08-29/
END:VEVENT
BEGIN:VEVENT
DTSTART;TZID=UTC:20260902T170000
DTEND;TZID=UTC:20260902T200000
DTSTAMP:20260421T051343
CREATED:20241105T165724Z
LAST-MODIFIED:20251013T222810Z
UID:10005269-1788368400-1788379200@www.cordovagc.gov
SUMMARY:Lighted Driving Range
DESCRIPTION:Lighted Driving Range every Wednesday and Saturday starting November 6
URL:https://www.cordovagc.gov/event/lighted-driving-range-2/2026-09-02/
END:VEVENT
BEGIN:VEVENT
DTSTART;TZID=UTC:20260903T170000
DTEND;TZID=UTC:20260903T200000
DTSTAMP:20260421T051343
CREATED:20241105T165724Z
LAST-MODIFIED:20251013T222810Z
UID:10005270-1788454800-1788465600@www.cordovagc.gov
SUMMARY:Lighted Driving Range
DESCRIPTION:Lighted Driving Range every Wednesday and Saturday starting November 6
URL:https://www.cordovagc.gov/event/lighted-driving-range-2/2026-09-03/
END:VEVENT
END:VCALENDAR