BEGIN:VCALENDAR
VERSION:2.0
PRODID:-//Cordova Golf Course - ECPv6.15.18//NONSGML v1.0//EN
CALSCALE:GREGORIAN
METHOD:PUBLISH
X-ORIGINAL-URL:https://www.cordovagc.gov
X-WR-CALDESC:Events for Cordova Golf Course
REFRESH-INTERVAL;VALUE=DURATION:PT1H
X-Robots-Tag:noindex
X-PUBLISHED-TTL:PT1H
BEGIN:VTIMEZONE
TZID:UTC
BEGIN:STANDARD
TZOFFSETFROM:+0000
TZOFFSETTO:+0000
TZNAME:UTC
DTSTART:20260101T000000
END:STANDARD
END:VTIMEZONE
BEGIN:VEVENT
DTSTART;TZID=UTC:20270617T170000
DTEND;TZID=UTC:20270617T170000
DTSTAMP:20260420T133241
CREATED:20250902T221532Z
LAST-MODIFIED:20250902T221532Z
UID:10007850-1813251600-1813251600@www.cordovagc.gov
SUMMARY:Spark Golf League
DESCRIPTION:Spark Golf League is a 9-hole social golf league. Prior sign up is required on www.spark.golf
URL:https://www.cordovagc.gov/event/spark-golf-league/2027-06-17/
END:VEVENT
BEGIN:VEVENT
DTSTART;TZID=UTC:20270624T170000
DTEND;TZID=UTC:20270624T170000
DTSTAMP:20260420T133241
CREATED:20250902T221532Z
LAST-MODIFIED:20250902T221532Z
UID:10007851-1813856400-1813856400@www.cordovagc.gov
SUMMARY:Spark Golf League
DESCRIPTION:Spark Golf League is a 9-hole social golf league. Prior sign up is required on www.spark.golf
URL:https://www.cordovagc.gov/event/spark-golf-league/2027-06-24/
END:VEVENT
BEGIN:VEVENT
DTSTART;TZID=UTC:20270701T170000
DTEND;TZID=UTC:20270701T170000
DTSTAMP:20260420T133241
CREATED:20250902T221532Z
LAST-MODIFIED:20250902T221532Z
UID:10007852-1814461200-1814461200@www.cordovagc.gov
SUMMARY:Spark Golf League
DESCRIPTION:Spark Golf League is a 9-hole social golf league. Prior sign up is required on www.spark.golf
URL:https://www.cordovagc.gov/event/spark-golf-league/2027-07-01/
END:VEVENT
BEGIN:VEVENT
DTSTART;TZID=UTC:20270708T170000
DTEND;TZID=UTC:20270708T170000
DTSTAMP:20260420T133241
CREATED:20250902T221532Z
LAST-MODIFIED:20250902T221532Z
UID:10007853-1815066000-1815066000@www.cordovagc.gov
SUMMARY:Spark Golf League
DESCRIPTION:Spark Golf League is a 9-hole social golf league. Prior sign up is required on www.spark.golf
URL:https://www.cordovagc.gov/event/spark-golf-league/2027-07-08/
END:VEVENT
BEGIN:VEVENT
DTSTART;TZID=UTC:20270715T170000
DTEND;TZID=UTC:20270715T170000
DTSTAMP:20260420T133241
CREATED:20250902T221532Z
LAST-MODIFIED:20250902T221532Z
UID:10007854-1815670800-1815670800@www.cordovagc.gov
SUMMARY:Spark Golf League
DESCRIPTION:Spark Golf League is a 9-hole social golf league. Prior sign up is required on www.spark.golf
URL:https://www.cordovagc.gov/event/spark-golf-league/2027-07-15/
END:VEVENT
BEGIN:VEVENT
DTSTART;TZID=UTC:20270722T170000
DTEND;TZID=UTC:20270722T170000
DTSTAMP:20260420T133241
CREATED:20250902T221532Z
LAST-MODIFIED:20250902T221532Z
UID:10007855-1816275600-1816275600@www.cordovagc.gov
SUMMARY:Spark Golf League
DESCRIPTION:Spark Golf League is a 9-hole social golf league. Prior sign up is required on www.spark.golf
URL:https://www.cordovagc.gov/event/spark-golf-league/2027-07-22/
END:VEVENT
BEGIN:VEVENT
DTSTART;TZID=UTC:20270729T170000
DTEND;TZID=UTC:20270729T170000
DTSTAMP:20260420T133241
CREATED:20250902T221532Z
LAST-MODIFIED:20250902T221532Z
UID:10007856-1816880400-1816880400@www.cordovagc.gov
SUMMARY:Spark Golf League
DESCRIPTION:Spark Golf League is a 9-hole social golf league. Prior sign up is required on www.spark.golf
URL:https://www.cordovagc.gov/event/spark-golf-league/2027-07-29/
END:VEVENT
BEGIN:VEVENT
DTSTART;TZID=UTC:20270805T170000
DTEND;TZID=UTC:20270805T170000
DTSTAMP:20260420T133241
CREATED:20250902T221532Z
LAST-MODIFIED:20250902T221532Z
UID:10007857-1817485200-1817485200@www.cordovagc.gov
SUMMARY:Spark Golf League
DESCRIPTION:Spark Golf League is a 9-hole social golf league. Prior sign up is required on www.spark.golf
URL:https://www.cordovagc.gov/event/spark-golf-league/2027-08-05/
END:VEVENT
BEGIN:VEVENT
DTSTART;TZID=UTC:20270812T170000
DTEND;TZID=UTC:20270812T170000
DTSTAMP:20260420T133241
CREATED:20250902T221532Z
LAST-MODIFIED:20250902T221532Z
UID:10007858-1818090000-1818090000@www.cordovagc.gov
SUMMARY:Spark Golf League
DESCRIPTION:Spark Golf League is a 9-hole social golf league. Prior sign up is required on www.spark.golf
URL:https://www.cordovagc.gov/event/spark-golf-league/2027-08-12/
END:VEVENT
BEGIN:VEVENT
DTSTART;TZID=UTC:20270819T170000
DTEND;TZID=UTC:20270819T170000
DTSTAMP:20260420T133241
CREATED:20250902T221532Z
LAST-MODIFIED:20250902T221532Z
UID:10007859-1818694800-1818694800@www.cordovagc.gov
SUMMARY:Spark Golf League
DESCRIPTION:Spark Golf League is a 9-hole social golf league. Prior sign up is required on www.spark.golf
URL:https://www.cordovagc.gov/event/spark-golf-league/2027-08-19/
END:VEVENT
BEGIN:VEVENT
DTSTART;TZID=UTC:20270826T170000
DTEND;TZID=UTC:20270826T170000
DTSTAMP:20260420T133241
CREATED:20250902T221532Z
LAST-MODIFIED:20250902T221532Z
UID:10007860-1819299600-1819299600@www.cordovagc.gov
SUMMARY:Spark Golf League
DESCRIPTION:Spark Golf League is a 9-hole social golf league. Prior sign up is required on www.spark.golf
URL:https://www.cordovagc.gov/event/spark-golf-league/2027-08-26/
END:VEVENT
BEGIN:VEVENT
DTSTART;TZID=UTC:20270902T170000
DTEND;TZID=UTC:20270902T170000
DTSTAMP:20260420T133241
CREATED:20250902T221532Z
LAST-MODIFIED:20250902T221532Z
UID:10007861-1819904400-1819904400@www.cordovagc.gov
SUMMARY:Spark Golf League
DESCRIPTION:Spark Golf League is a 9-hole social golf league. Prior sign up is required on www.spark.golf
URL:https://www.cordovagc.gov/event/spark-golf-league/2027-09-02/
END:VEVENT
BEGIN:VEVENT
DTSTART;TZID=UTC:20270909T170000
DTEND;TZID=UTC:20270909T170000
DTSTAMP:20260420T133241
CREATED:20250902T221532Z
LAST-MODIFIED:20250902T221532Z
UID:10007862-1820509200-1820509200@www.cordovagc.gov
SUMMARY:Spark Golf League
DESCRIPTION:Spark Golf League is a 9-hole social golf league. Prior sign up is required on www.spark.golf
URL:https://www.cordovagc.gov/event/spark-golf-league/2027-09-09/
END:VEVENT
BEGIN:VEVENT
DTSTART;TZID=UTC:20270916T170000
DTEND;TZID=UTC:20270916T170000
DTSTAMP:20260420T133241
CREATED:20250902T221532Z
LAST-MODIFIED:20250902T221532Z
UID:10007863-1821114000-1821114000@www.cordovagc.gov
SUMMARY:Spark Golf League
DESCRIPTION:Spark Golf League is a 9-hole social golf league. Prior sign up is required on www.spark.golf
URL:https://www.cordovagc.gov/event/spark-golf-league/2027-09-16/
END:VEVENT
BEGIN:VEVENT
DTSTART;TZID=UTC:20270923T170000
DTEND;TZID=UTC:20270923T170000
DTSTAMP:20260420T133241
CREATED:20250902T221532Z
LAST-MODIFIED:20250902T221532Z
UID:10007864-1821718800-1821718800@www.cordovagc.gov
SUMMARY:Spark Golf League
DESCRIPTION:Spark Golf League is a 9-hole social golf league. Prior sign up is required on www.spark.golf
URL:https://www.cordovagc.gov/event/spark-golf-league/2027-09-23/
END:VEVENT
BEGIN:VEVENT
DTSTART;TZID=UTC:20270930T170000
DTEND;TZID=UTC:20270930T170000
DTSTAMP:20260420T133241
CREATED:20250902T221532Z
LAST-MODIFIED:20250902T221532Z
UID:10007865-1822323600-1822323600@www.cordovagc.gov
SUMMARY:Spark Golf League
DESCRIPTION:Spark Golf League is a 9-hole social golf league. Prior sign up is required on www.spark.golf
URL:https://www.cordovagc.gov/event/spark-golf-league/2027-09-30/
END:VEVENT
BEGIN:VEVENT
DTSTART;TZID=UTC:20271007T170000
DTEND;TZID=UTC:20271007T170000
DTSTAMP:20260420T133241
CREATED:20250902T221532Z
LAST-MODIFIED:20250902T221532Z
UID:10007866-1822928400-1822928400@www.cordovagc.gov
SUMMARY:Spark Golf League
DESCRIPTION:Spark Golf League is a 9-hole social golf league. Prior sign up is required on www.spark.golf
URL:https://www.cordovagc.gov/event/spark-golf-league/2027-10-07/
END:VEVENT
BEGIN:VEVENT
DTSTART;TZID=UTC:20271014T170000
DTEND;TZID=UTC:20271014T170000
DTSTAMP:20260420T133241
CREATED:20250902T221532Z
LAST-MODIFIED:20250902T221532Z
UID:10007867-1823533200-1823533200@www.cordovagc.gov
SUMMARY:Spark Golf League
DESCRIPTION:Spark Golf League is a 9-hole social golf league. Prior sign up is required on www.spark.golf
URL:https://www.cordovagc.gov/event/spark-golf-league/2027-10-14/
END:VEVENT
BEGIN:VEVENT
DTSTART;TZID=UTC:20271021T170000
DTEND;TZID=UTC:20271021T170000
DTSTAMP:20260420T133241
CREATED:20250902T221532Z
LAST-MODIFIED:20250902T221532Z
UID:10007868-1824138000-1824138000@www.cordovagc.gov
SUMMARY:Spark Golf League
DESCRIPTION:Spark Golf League is a 9-hole social golf league. Prior sign up is required on www.spark.golf
URL:https://www.cordovagc.gov/event/spark-golf-league/2027-10-21/
END:VEVENT
BEGIN:VEVENT
DTSTART;TZID=UTC:20271028T170000
DTEND;TZID=UTC:20271028T170000
DTSTAMP:20260420T133241
CREATED:20250902T221532Z
LAST-MODIFIED:20250902T221532Z
UID:10007869-1824742800-1824742800@www.cordovagc.gov
SUMMARY:Spark Golf League
DESCRIPTION:Spark Golf League is a 9-hole social golf league. Prior sign up is required on www.spark.golf
URL:https://www.cordovagc.gov/event/spark-golf-league/2027-10-28/
END:VEVENT
BEGIN:VEVENT
DTSTART;TZID=UTC:20271104T170000
DTEND;TZID=UTC:20271104T170000
DTSTAMP:20260420T133241
CREATED:20250902T221532Z
LAST-MODIFIED:20250902T221532Z
UID:10007870-1825347600-1825347600@www.cordovagc.gov
SUMMARY:Spark Golf League
DESCRIPTION:Spark Golf League is a 9-hole social golf league. Prior sign up is required on www.spark.golf
URL:https://www.cordovagc.gov/event/spark-golf-league/2027-11-04/
END:VEVENT
BEGIN:VEVENT
DTSTART;TZID=UTC:20271111T170000
DTEND;TZID=UTC:20271111T170000
DTSTAMP:20260420T133241
CREATED:20250902T221532Z
LAST-MODIFIED:20250902T221532Z
UID:10007871-1825952400-1825952400@www.cordovagc.gov
SUMMARY:Spark Golf League
DESCRIPTION:Spark Golf League is a 9-hole social golf league. Prior sign up is required on www.spark.golf
URL:https://www.cordovagc.gov/event/spark-golf-league/2027-11-11/
END:VEVENT
BEGIN:VEVENT
DTSTART;TZID=UTC:20271118T170000
DTEND;TZID=UTC:20271118T170000
DTSTAMP:20260420T133241
CREATED:20250902T221532Z
LAST-MODIFIED:20250902T221532Z
UID:10007872-1826557200-1826557200@www.cordovagc.gov
SUMMARY:Spark Golf League
DESCRIPTION:Spark Golf League is a 9-hole social golf league. Prior sign up is required on www.spark.golf
URL:https://www.cordovagc.gov/event/spark-golf-league/2027-11-18/
END:VEVENT
BEGIN:VEVENT
DTSTART;TZID=UTC:20271125T170000
DTEND;TZID=UTC:20271125T170000
DTSTAMP:20260420T133241
CREATED:20250902T221532Z
LAST-MODIFIED:20250902T221532Z
UID:10007873-1827162000-1827162000@www.cordovagc.gov
SUMMARY:Spark Golf League
DESCRIPTION:Spark Golf League is a 9-hole social golf league. Prior sign up is required on www.spark.golf
URL:https://www.cordovagc.gov/event/spark-golf-league/2027-11-25/
END:VEVENT
BEGIN:VEVENT
DTSTART;TZID=UTC:20271202T170000
DTEND;TZID=UTC:20271202T170000
DTSTAMP:20260420T133241
CREATED:20250902T221532Z
LAST-MODIFIED:20250902T221532Z
UID:10007874-1827766800-1827766800@www.cordovagc.gov
SUMMARY:Spark Golf League
DESCRIPTION:Spark Golf League is a 9-hole social golf league. Prior sign up is required on www.spark.golf
URL:https://www.cordovagc.gov/event/spark-golf-league/2027-12-02/
END:VEVENT
BEGIN:VEVENT
DTSTART;TZID=UTC:20271209T170000
DTEND;TZID=UTC:20271209T170000
DTSTAMP:20260420T133241
CREATED:20250902T221532Z
LAST-MODIFIED:20250902T221532Z
UID:10007875-1828371600-1828371600@www.cordovagc.gov
SUMMARY:Spark Golf League
DESCRIPTION:Spark Golf League is a 9-hole social golf league. Prior sign up is required on www.spark.golf
URL:https://www.cordovagc.gov/event/spark-golf-league/2027-12-09/
END:VEVENT
BEGIN:VEVENT
DTSTART;TZID=UTC:20271216T170000
DTEND;TZID=UTC:20271216T170000
DTSTAMP:20260420T133241
CREATED:20250902T221532Z
LAST-MODIFIED:20250902T221532Z
UID:10007876-1828976400-1828976400@www.cordovagc.gov
SUMMARY:Spark Golf League
DESCRIPTION:Spark Golf League is a 9-hole social golf league. Prior sign up is required on www.spark.golf
URL:https://www.cordovagc.gov/event/spark-golf-league/2027-12-16/
END:VEVENT
BEGIN:VEVENT
DTSTART;TZID=UTC:20271223T170000
DTEND;TZID=UTC:20271223T170000
DTSTAMP:20260420T133241
CREATED:20250902T221532Z
LAST-MODIFIED:20250902T221532Z
UID:10007877-1829581200-1829581200@www.cordovagc.gov
SUMMARY:Spark Golf League
DESCRIPTION:Spark Golf League is a 9-hole social golf league. Prior sign up is required on www.spark.golf
URL:https://www.cordovagc.gov/event/spark-golf-league/2027-12-23/
END:VEVENT
BEGIN:VEVENT
DTSTART;TZID=UTC:20271230T170000
DTEND;TZID=UTC:20271230T170000
DTSTAMP:20260420T133241
CREATED:20250902T221532Z
LAST-MODIFIED:20250902T221532Z
UID:10007878-1830186000-1830186000@www.cordovagc.gov
SUMMARY:Spark Golf League
DESCRIPTION:Spark Golf League is a 9-hole social golf league. Prior sign up is required on www.spark.golf
URL:https://www.cordovagc.gov/event/spark-golf-league/2027-12-30/
END:VEVENT
BEGIN:VEVENT
DTSTART;TZID=UTC:20280106T170000
DTEND;TZID=UTC:20280106T170000
DTSTAMP:20260420T133241
CREATED:20250902T221532Z
LAST-MODIFIED:20250902T221532Z
UID:10007879-1830790800-1830790800@www.cordovagc.gov
SUMMARY:Spark Golf League
DESCRIPTION:Spark Golf League is a 9-hole social golf league. Prior sign up is required on www.spark.golf
URL:https://www.cordovagc.gov/event/spark-golf-league/2028-01-06/
END:VEVENT
END:VCALENDAR