BEGIN:VCALENDAR
VERSION:2.0
PRODID:-//Cordova Golf Course - ECPv6.15.18//NONSGML v1.0//EN
CALSCALE:GREGORIAN
METHOD:PUBLISH
X-ORIGINAL-URL:https://www.cordovagc.gov
X-WR-CALDESC:Events for Cordova Golf Course
REFRESH-INTERVAL;VALUE=DURATION:PT1H
X-Robots-Tag:noindex
X-PUBLISHED-TTL:PT1H
BEGIN:VTIMEZONE
TZID:UTC
BEGIN:STANDARD
TZOFFSETFROM:+0000
TZOFFSETTO:+0000
TZNAME:UTC
DTSTART:20250101T000000
END:STANDARD
END:VTIMEZONE
BEGIN:VEVENT
DTSTART;TZID=UTC:20260826T170000
DTEND;TZID=UTC:20260826T200000
DTSTAMP:20260421T082223
CREATED:20241105T165724Z
LAST-MODIFIED:20251013T222810Z
UID:10005265-1787763600-1787774400@www.cordovagc.gov
SUMMARY:Lighted Driving Range
DESCRIPTION:Lighted Driving Range every Wednesday and Saturday starting November 6
URL:https://www.cordovagc.gov/event/lighted-driving-range-2/2026-08-26/
END:VEVENT
BEGIN:VEVENT
DTSTART;TZID=UTC:20260827T170000
DTEND;TZID=UTC:20260827T200000
DTSTAMP:20260421T082223
CREATED:20241105T165724Z
LAST-MODIFIED:20251013T222810Z
UID:10005266-1787850000-1787860800@www.cordovagc.gov
SUMMARY:Lighted Driving Range
DESCRIPTION:Lighted Driving Range every Wednesday and Saturday starting November 6
URL:https://www.cordovagc.gov/event/lighted-driving-range-2/2026-08-27/
END:VEVENT
BEGIN:VEVENT
DTSTART;TZID=UTC:20260828T170000
DTEND;TZID=UTC:20260828T200000
DTSTAMP:20260421T082223
CREATED:20241105T165724Z
LAST-MODIFIED:20251013T222810Z
UID:10005267-1787936400-1787947200@www.cordovagc.gov
SUMMARY:Lighted Driving Range
DESCRIPTION:Lighted Driving Range every Wednesday and Saturday starting November 6
URL:https://www.cordovagc.gov/event/lighted-driving-range-2/2026-08-28/
END:VEVENT
BEGIN:VEVENT
DTSTART;TZID=UTC:20260829T170000
DTEND;TZID=UTC:20260829T200000
DTSTAMP:20260421T082223
CREATED:20241105T165724Z
LAST-MODIFIED:20251013T222810Z
UID:10005268-1788022800-1788033600@www.cordovagc.gov
SUMMARY:Lighted Driving Range
DESCRIPTION:Lighted Driving Range every Wednesday and Saturday starting November 6
URL:https://www.cordovagc.gov/event/lighted-driving-range-2/2026-08-29/
END:VEVENT
BEGIN:VEVENT
DTSTART;TZID=UTC:20260902T170000
DTEND;TZID=UTC:20260902T200000
DTSTAMP:20260421T082223
CREATED:20241105T165724Z
LAST-MODIFIED:20251013T222810Z
UID:10005269-1788368400-1788379200@www.cordovagc.gov
SUMMARY:Lighted Driving Range
DESCRIPTION:Lighted Driving Range every Wednesday and Saturday starting November 6
URL:https://www.cordovagc.gov/event/lighted-driving-range-2/2026-09-02/
END:VEVENT
BEGIN:VEVENT
DTSTART;TZID=UTC:20260903T170000
DTEND;TZID=UTC:20260903T200000
DTSTAMP:20260421T082223
CREATED:20241105T165724Z
LAST-MODIFIED:20251013T222810Z
UID:10005270-1788454800-1788465600@www.cordovagc.gov
SUMMARY:Lighted Driving Range
DESCRIPTION:Lighted Driving Range every Wednesday and Saturday starting November 6
URL:https://www.cordovagc.gov/event/lighted-driving-range-2/2026-09-03/
END:VEVENT
BEGIN:VEVENT
DTSTART;TZID=UTC:20260904T170000
DTEND;TZID=UTC:20260904T200000
DTSTAMP:20260421T082223
CREATED:20241105T165724Z
LAST-MODIFIED:20251013T222810Z
UID:10005271-1788541200-1788552000@www.cordovagc.gov
SUMMARY:Lighted Driving Range
DESCRIPTION:Lighted Driving Range every Wednesday and Saturday starting November 6
URL:https://www.cordovagc.gov/event/lighted-driving-range-2/2026-09-04/
END:VEVENT
BEGIN:VEVENT
DTSTART;TZID=UTC:20260905T170000
DTEND;TZID=UTC:20260905T200000
DTSTAMP:20260421T082223
CREATED:20241105T165724Z
LAST-MODIFIED:20251013T222810Z
UID:10005272-1788627600-1788638400@www.cordovagc.gov
SUMMARY:Lighted Driving Range
DESCRIPTION:Lighted Driving Range every Wednesday and Saturday starting November 6
URL:https://www.cordovagc.gov/event/lighted-driving-range-2/2026-09-05/
END:VEVENT
BEGIN:VEVENT
DTSTART;TZID=UTC:20260909T170000
DTEND;TZID=UTC:20260909T200000
DTSTAMP:20260421T082223
CREATED:20241105T165724Z
LAST-MODIFIED:20251013T222810Z
UID:10005273-1788973200-1788984000@www.cordovagc.gov
SUMMARY:Lighted Driving Range
DESCRIPTION:Lighted Driving Range every Wednesday and Saturday starting November 6
URL:https://www.cordovagc.gov/event/lighted-driving-range-2/2026-09-09/
END:VEVENT
BEGIN:VEVENT
DTSTART;TZID=UTC:20260910T170000
DTEND;TZID=UTC:20260910T200000
DTSTAMP:20260421T082223
CREATED:20241105T165724Z
LAST-MODIFIED:20251013T222810Z
UID:10005274-1789059600-1789070400@www.cordovagc.gov
SUMMARY:Lighted Driving Range
DESCRIPTION:Lighted Driving Range every Wednesday and Saturday starting November 6
URL:https://www.cordovagc.gov/event/lighted-driving-range-2/2026-09-10/
END:VEVENT
BEGIN:VEVENT
DTSTART;TZID=UTC:20260911T170000
DTEND;TZID=UTC:20260911T200000
DTSTAMP:20260421T082223
CREATED:20241105T165724Z
LAST-MODIFIED:20251013T222810Z
UID:10005275-1789146000-1789156800@www.cordovagc.gov
SUMMARY:Lighted Driving Range
DESCRIPTION:Lighted Driving Range every Wednesday and Saturday starting November 6
URL:https://www.cordovagc.gov/event/lighted-driving-range-2/2026-09-11/
END:VEVENT
BEGIN:VEVENT
DTSTART;TZID=UTC:20260912T170000
DTEND;TZID=UTC:20260912T200000
DTSTAMP:20260421T082223
CREATED:20241105T165724Z
LAST-MODIFIED:20251013T222810Z
UID:10005276-1789232400-1789243200@www.cordovagc.gov
SUMMARY:Lighted Driving Range
DESCRIPTION:Lighted Driving Range every Wednesday and Saturday starting November 6
URL:https://www.cordovagc.gov/event/lighted-driving-range-2/2026-09-12/
END:VEVENT
BEGIN:VEVENT
DTSTART;TZID=UTC:20260916T170000
DTEND;TZID=UTC:20260916T200000
DTSTAMP:20260421T082223
CREATED:20241105T165724Z
LAST-MODIFIED:20251013T222810Z
UID:10005277-1789578000-1789588800@www.cordovagc.gov
SUMMARY:Lighted Driving Range
DESCRIPTION:Lighted Driving Range every Wednesday and Saturday starting November 6
URL:https://www.cordovagc.gov/event/lighted-driving-range-2/2026-09-16/
END:VEVENT
BEGIN:VEVENT
DTSTART;TZID=UTC:20260917T170000
DTEND;TZID=UTC:20260917T200000
DTSTAMP:20260421T082223
CREATED:20241105T165724Z
LAST-MODIFIED:20251013T222810Z
UID:10005278-1789664400-1789675200@www.cordovagc.gov
SUMMARY:Lighted Driving Range
DESCRIPTION:Lighted Driving Range every Wednesday and Saturday starting November 6
URL:https://www.cordovagc.gov/event/lighted-driving-range-2/2026-09-17/
END:VEVENT
BEGIN:VEVENT
DTSTART;TZID=UTC:20260918T170000
DTEND;TZID=UTC:20260918T200000
DTSTAMP:20260421T082223
CREATED:20241105T165724Z
LAST-MODIFIED:20251013T222810Z
UID:10005279-1789750800-1789761600@www.cordovagc.gov
SUMMARY:Lighted Driving Range
DESCRIPTION:Lighted Driving Range every Wednesday and Saturday starting November 6
URL:https://www.cordovagc.gov/event/lighted-driving-range-2/2026-09-18/
END:VEVENT
BEGIN:VEVENT
DTSTART;TZID=UTC:20260919T170000
DTEND;TZID=UTC:20260919T200000
DTSTAMP:20260421T082223
CREATED:20241105T165724Z
LAST-MODIFIED:20251013T222810Z
UID:10005280-1789837200-1789848000@www.cordovagc.gov
SUMMARY:Lighted Driving Range
DESCRIPTION:Lighted Driving Range every Wednesday and Saturday starting November 6
URL:https://www.cordovagc.gov/event/lighted-driving-range-2/2026-09-19/
END:VEVENT
BEGIN:VEVENT
DTSTART;TZID=UTC:20260923T170000
DTEND;TZID=UTC:20260923T200000
DTSTAMP:20260421T082223
CREATED:20241105T165724Z
LAST-MODIFIED:20251013T222810Z
UID:10005281-1790182800-1790193600@www.cordovagc.gov
SUMMARY:Lighted Driving Range
DESCRIPTION:Lighted Driving Range every Wednesday and Saturday starting November 6
URL:https://www.cordovagc.gov/event/lighted-driving-range-2/2026-09-23/
END:VEVENT
BEGIN:VEVENT
DTSTART;TZID=UTC:20260924T170000
DTEND;TZID=UTC:20260924T200000
DTSTAMP:20260421T082223
CREATED:20241105T165724Z
LAST-MODIFIED:20251013T222810Z
UID:10005282-1790269200-1790280000@www.cordovagc.gov
SUMMARY:Lighted Driving Range
DESCRIPTION:Lighted Driving Range every Wednesday and Saturday starting November 6
URL:https://www.cordovagc.gov/event/lighted-driving-range-2/2026-09-24/
END:VEVENT
BEGIN:VEVENT
DTSTART;TZID=UTC:20260925T170000
DTEND;TZID=UTC:20260925T200000
DTSTAMP:20260421T082223
CREATED:20241105T165724Z
LAST-MODIFIED:20251013T222810Z
UID:10005283-1790355600-1790366400@www.cordovagc.gov
SUMMARY:Lighted Driving Range
DESCRIPTION:Lighted Driving Range every Wednesday and Saturday starting November 6
URL:https://www.cordovagc.gov/event/lighted-driving-range-2/2026-09-25/
END:VEVENT
BEGIN:VEVENT
DTSTART;TZID=UTC:20260926T170000
DTEND;TZID=UTC:20260926T200000
DTSTAMP:20260421T082223
CREATED:20241105T165724Z
LAST-MODIFIED:20251013T222810Z
UID:10005284-1790442000-1790452800@www.cordovagc.gov
SUMMARY:Lighted Driving Range
DESCRIPTION:Lighted Driving Range every Wednesday and Saturday starting November 6
URL:https://www.cordovagc.gov/event/lighted-driving-range-2/2026-09-26/
END:VEVENT
BEGIN:VEVENT
DTSTART;TZID=UTC:20260930T170000
DTEND;TZID=UTC:20260930T200000
DTSTAMP:20260421T082223
CREATED:20241105T165724Z
LAST-MODIFIED:20251013T222810Z
UID:10005285-1790787600-1790798400@www.cordovagc.gov
SUMMARY:Lighted Driving Range
DESCRIPTION:Lighted Driving Range every Wednesday and Saturday starting November 6
URL:https://www.cordovagc.gov/event/lighted-driving-range-2/2026-09-30/
END:VEVENT
BEGIN:VEVENT
DTSTART;TZID=UTC:20261001T170000
DTEND;TZID=UTC:20261001T200000
DTSTAMP:20260421T082224
CREATED:20241105T165724Z
LAST-MODIFIED:20251013T222810Z
UID:10005286-1790874000-1790884800@www.cordovagc.gov
SUMMARY:Lighted Driving Range
DESCRIPTION:Lighted Driving Range every Wednesday and Saturday starting November 6
URL:https://www.cordovagc.gov/event/lighted-driving-range-2/2026-10-01/
END:VEVENT
BEGIN:VEVENT
DTSTART;TZID=UTC:20261002T170000
DTEND;TZID=UTC:20261002T200000
DTSTAMP:20260421T082224
CREATED:20241105T165724Z
LAST-MODIFIED:20251013T222810Z
UID:10005287-1790960400-1790971200@www.cordovagc.gov
SUMMARY:Lighted Driving Range
DESCRIPTION:Lighted Driving Range every Wednesday and Saturday starting November 6
URL:https://www.cordovagc.gov/event/lighted-driving-range-2/2026-10-02/
END:VEVENT
BEGIN:VEVENT
DTSTART;TZID=UTC:20261003T170000
DTEND;TZID=UTC:20261003T200000
DTSTAMP:20260421T082224
CREATED:20241105T165724Z
LAST-MODIFIED:20251013T222810Z
UID:10005288-1791046800-1791057600@www.cordovagc.gov
SUMMARY:Lighted Driving Range
DESCRIPTION:Lighted Driving Range every Wednesday and Saturday starting November 6
URL:https://www.cordovagc.gov/event/lighted-driving-range-2/2026-10-03/
END:VEVENT
BEGIN:VEVENT
DTSTART;TZID=UTC:20261007T170000
DTEND;TZID=UTC:20261007T200000
DTSTAMP:20260421T082224
CREATED:20241105T165724Z
LAST-MODIFIED:20251013T222810Z
UID:10005289-1791392400-1791403200@www.cordovagc.gov
SUMMARY:Lighted Driving Range
DESCRIPTION:Lighted Driving Range every Wednesday and Saturday starting November 6
URL:https://www.cordovagc.gov/event/lighted-driving-range-2/2026-10-07/
END:VEVENT
BEGIN:VEVENT
DTSTART;TZID=UTC:20261008T170000
DTEND;TZID=UTC:20261008T200000
DTSTAMP:20260421T082224
CREATED:20241105T165724Z
LAST-MODIFIED:20251013T222810Z
UID:10005290-1791478800-1791489600@www.cordovagc.gov
SUMMARY:Lighted Driving Range
DESCRIPTION:Lighted Driving Range every Wednesday and Saturday starting November 6
URL:https://www.cordovagc.gov/event/lighted-driving-range-2/2026-10-08/
END:VEVENT
BEGIN:VEVENT
DTSTART;TZID=UTC:20261009T170000
DTEND;TZID=UTC:20261009T200000
DTSTAMP:20260421T082224
CREATED:20241105T165724Z
LAST-MODIFIED:20251013T222810Z
UID:10005291-1791565200-1791576000@www.cordovagc.gov
SUMMARY:Lighted Driving Range
DESCRIPTION:Lighted Driving Range every Wednesday and Saturday starting November 6
URL:https://www.cordovagc.gov/event/lighted-driving-range-2/2026-10-09/
END:VEVENT
BEGIN:VEVENT
DTSTART;TZID=UTC:20261010T170000
DTEND;TZID=UTC:20261010T200000
DTSTAMP:20260421T082224
CREATED:20241105T165724Z
LAST-MODIFIED:20251013T222810Z
UID:10005292-1791651600-1791662400@www.cordovagc.gov
SUMMARY:Lighted Driving Range
DESCRIPTION:Lighted Driving Range every Wednesday and Saturday starting November 6
URL:https://www.cordovagc.gov/event/lighted-driving-range-2/2026-10-10/
END:VEVENT
BEGIN:VEVENT
DTSTART;TZID=UTC:20261014T170000
DTEND;TZID=UTC:20261014T200000
DTSTAMP:20260421T082224
CREATED:20241105T165724Z
LAST-MODIFIED:20251013T222810Z
UID:10005293-1791997200-1792008000@www.cordovagc.gov
SUMMARY:Lighted Driving Range
DESCRIPTION:Lighted Driving Range every Wednesday and Saturday starting November 6
URL:https://www.cordovagc.gov/event/lighted-driving-range-2/2026-10-14/
END:VEVENT
BEGIN:VEVENT
DTSTART;TZID=UTC:20261015T170000
DTEND;TZID=UTC:20261015T200000
DTSTAMP:20260421T082224
CREATED:20241105T165724Z
LAST-MODIFIED:20251013T222810Z
UID:10005294-1792083600-1792094400@www.cordovagc.gov
SUMMARY:Lighted Driving Range
DESCRIPTION:Lighted Driving Range every Wednesday and Saturday starting November 6
URL:https://www.cordovagc.gov/event/lighted-driving-range-2/2026-10-15/
END:VEVENT
END:VCALENDAR