BEGIN:VCALENDAR
VERSION:2.0
PRODID:-//Cordova Golf Course - ECPv6.15.18//NONSGML v1.0//EN
CALSCALE:GREGORIAN
METHOD:PUBLISH
X-WR-CALNAME:Cordova Golf Course
X-ORIGINAL-URL:https://www.cordovagc.gov
X-WR-CALDESC:Events for Cordova Golf Course
REFRESH-INTERVAL;VALUE=DURATION:PT1H
X-Robots-Tag:noindex
X-PUBLISHED-TTL:PT1H
BEGIN:VTIMEZONE
TZID:UTC
BEGIN:STANDARD
TZOFFSETFROM:+0000
TZOFFSETTO:+0000
TZNAME:UTC
DTSTART:20260101T000000
END:STANDARD
END:VTIMEZONE
BEGIN:VEVENT
DTSTART;TZID=UTC:20271201T170000
DTEND;TZID=UTC:20271201T200000
DTSTAMP:20260419T140231
CREATED:20241105T165724Z
LAST-MODIFIED:20251013T222810Z
UID:10005529-1827680400-1827691200@www.cordovagc.gov
SUMMARY:Lighted Driving Range
DESCRIPTION:Lighted Driving Range every Wednesday and Saturday starting November 6
URL:https://www.cordovagc.gov/event/lighted-driving-range-2/2027-12-01/
END:VEVENT
BEGIN:VEVENT
DTSTART;TZID=UTC:20271202T070000
DTEND;TZID=UTC:20271202T070000
DTSTAMP:20260419T140231
CREATED:20240703T221613Z
LAST-MODIFIED:20260221T002124Z
UID:10008258-1827730800-1827730800@www.cordovagc.gov
SUMMARY:Cordova Senior Group
DESCRIPTION:Ages: Open to all \nFees: Green & Cart Fee \nDays: Every Thursday \nTime: 7:00 a.m. \nHow to sign up: Calling Ken Pearson at 916-635-7270
URL:https://www.cordovagc.gov/event/pearson-group/2027-12-02/
END:VEVENT
BEGIN:VEVENT
DTSTART;TZID=UTC:20271202T073000
DTEND;TZID=UTC:20271202T073000
DTSTAMP:20260419T140231
CREATED:20240703T221851Z
LAST-MODIFIED:20240703T221851Z
UID:10002434-1827732600-1827732600@www.cordovagc.gov
SUMMARY:Bandits
DESCRIPTION:Ages: Open to all \nFees: (First time start up fees – $10 club membership\, $3 for hole in one fund) Weekly Fees:  Green & Cart Fee weekly \nDays: Every Thursday \nTime: 7:30 a.m. \nHow to sign up: Show up on Tuesday morning or by contacting Dennis Cecil at 916-202-7950
URL:https://www.cordovagc.gov/event/bandits/2027-12-02/
END:VEVENT
BEGIN:VEVENT
DTSTART;TZID=UTC:20271202T170000
DTEND;TZID=UTC:20271202T170000
DTSTAMP:20260419T140231
CREATED:20250902T221532Z
LAST-MODIFIED:20250902T221532Z
UID:10007874-1827766800-1827766800@www.cordovagc.gov
SUMMARY:Spark Golf League
DESCRIPTION:Spark Golf League is a 9-hole social golf league. Prior sign up is required on www.spark.golf
URL:https://www.cordovagc.gov/event/spark-golf-league/2027-12-02/
END:VEVENT
BEGIN:VEVENT
DTSTART;TZID=UTC:20271202T170000
DTEND;TZID=UTC:20271202T200000
DTSTAMP:20260419T140231
CREATED:20241105T165724Z
LAST-MODIFIED:20251013T222810Z
UID:10005530-1827766800-1827777600@www.cordovagc.gov
SUMMARY:Lighted Driving Range
DESCRIPTION:Lighted Driving Range every Wednesday and Saturday starting November 6
URL:https://www.cordovagc.gov/event/lighted-driving-range-2/2027-12-02/
END:VEVENT
BEGIN:VEVENT
DTSTART;TZID=UTC:20271203T170000
DTEND;TZID=UTC:20271203T200000
DTSTAMP:20260419T140231
CREATED:20241105T165724Z
LAST-MODIFIED:20251013T222810Z
UID:10005531-1827853200-1827864000@www.cordovagc.gov
SUMMARY:Lighted Driving Range
DESCRIPTION:Lighted Driving Range every Wednesday and Saturday starting November 6
URL:https://www.cordovagc.gov/event/lighted-driving-range-2/2027-12-03/
END:VEVENT
BEGIN:VEVENT
DTSTART;TZID=UTC:20271204T170000
DTEND;TZID=UTC:20271204T200000
DTSTAMP:20260419T140231
CREATED:20241105T165724Z
LAST-MODIFIED:20251013T222810Z
UID:10005532-1827939600-1827950400@www.cordovagc.gov
SUMMARY:Lighted Driving Range
DESCRIPTION:Lighted Driving Range every Wednesday and Saturday starting November 6
URL:https://www.cordovagc.gov/event/lighted-driving-range-2/2027-12-04/
END:VEVENT
BEGIN:VEVENT
DTSTART;TZID=UTC:20271207T073000
DTEND;TZID=UTC:20271207T073000
DTSTAMP:20260419T140231
CREATED:20240703T214406Z
LAST-MODIFIED:20250902T221159Z
UID:10007614-1828164600-1828164600@www.cordovagc.gov
SUMMARY:Chippers Golf Club
DESCRIPTION:Ages: Open to all \nFees: (First time start up fees – $10 club membership\, $3 for hole in one fund) Weekly Fees:  Green & Cart Fee weekly \nDays: Every Tuesday \nTime: 7:30 a.m. \nHow to sign up: Show up on Tuesday morning or by contacting Dennis Cecil at 916-202-7950
URL:https://www.cordovagc.gov/event/chippers-golf-club/2027-12-07/
END:VEVENT
BEGIN:VEVENT
DTSTART;TZID=UTC:20271208T170000
DTEND;TZID=UTC:20271208T200000
DTSTAMP:20260419T140231
CREATED:20241105T165724Z
LAST-MODIFIED:20251013T222810Z
UID:10005533-1828285200-1828296000@www.cordovagc.gov
SUMMARY:Lighted Driving Range
DESCRIPTION:Lighted Driving Range every Wednesday and Saturday starting November 6
URL:https://www.cordovagc.gov/event/lighted-driving-range-2/2027-12-08/
END:VEVENT
BEGIN:VEVENT
DTSTART;TZID=UTC:20271209T070000
DTEND;TZID=UTC:20271209T070000
DTSTAMP:20260419T140231
CREATED:20240703T221613Z
LAST-MODIFIED:20260221T002124Z
UID:10008259-1828335600-1828335600@www.cordovagc.gov
SUMMARY:Cordova Senior Group
DESCRIPTION:Ages: Open to all \nFees: Green & Cart Fee \nDays: Every Thursday \nTime: 7:00 a.m. \nHow to sign up: Calling Ken Pearson at 916-635-7270
URL:https://www.cordovagc.gov/event/pearson-group/2027-12-09/
END:VEVENT
BEGIN:VEVENT
DTSTART;TZID=UTC:20271209T073000
DTEND;TZID=UTC:20271209T073000
DTSTAMP:20260419T140232
CREATED:20240703T221851Z
LAST-MODIFIED:20240703T221851Z
UID:10002435-1828337400-1828337400@www.cordovagc.gov
SUMMARY:Bandits
DESCRIPTION:Ages: Open to all \nFees: (First time start up fees – $10 club membership\, $3 for hole in one fund) Weekly Fees:  Green & Cart Fee weekly \nDays: Every Thursday \nTime: 7:30 a.m. \nHow to sign up: Show up on Tuesday morning or by contacting Dennis Cecil at 916-202-7950
URL:https://www.cordovagc.gov/event/bandits/2027-12-09/
END:VEVENT
BEGIN:VEVENT
DTSTART;TZID=UTC:20271209T170000
DTEND;TZID=UTC:20271209T170000
DTSTAMP:20260419T140232
CREATED:20250902T221532Z
LAST-MODIFIED:20250902T221532Z
UID:10007875-1828371600-1828371600@www.cordovagc.gov
SUMMARY:Spark Golf League
DESCRIPTION:Spark Golf League is a 9-hole social golf league. Prior sign up is required on www.spark.golf
URL:https://www.cordovagc.gov/event/spark-golf-league/2027-12-09/
END:VEVENT
BEGIN:VEVENT
DTSTART;TZID=UTC:20271209T170000
DTEND;TZID=UTC:20271209T200000
DTSTAMP:20260419T140232
CREATED:20241105T165724Z
LAST-MODIFIED:20251013T222810Z
UID:10005534-1828371600-1828382400@www.cordovagc.gov
SUMMARY:Lighted Driving Range
DESCRIPTION:Lighted Driving Range every Wednesday and Saturday starting November 6
URL:https://www.cordovagc.gov/event/lighted-driving-range-2/2027-12-09/
END:VEVENT
BEGIN:VEVENT
DTSTART;TZID=UTC:20271210T170000
DTEND;TZID=UTC:20271210T200000
DTSTAMP:20260419T140232
CREATED:20241105T165724Z
LAST-MODIFIED:20251013T222810Z
UID:10005535-1828458000-1828468800@www.cordovagc.gov
SUMMARY:Lighted Driving Range
DESCRIPTION:Lighted Driving Range every Wednesday and Saturday starting November 6
URL:https://www.cordovagc.gov/event/lighted-driving-range-2/2027-12-10/
END:VEVENT
BEGIN:VEVENT
DTSTART;TZID=UTC:20271211T170000
DTEND;TZID=UTC:20271211T200000
DTSTAMP:20260419T140232
CREATED:20241105T165724Z
LAST-MODIFIED:20251013T222810Z
UID:10005536-1828544400-1828555200@www.cordovagc.gov
SUMMARY:Lighted Driving Range
DESCRIPTION:Lighted Driving Range every Wednesday and Saturday starting November 6
URL:https://www.cordovagc.gov/event/lighted-driving-range-2/2027-12-11/
END:VEVENT
BEGIN:VEVENT
DTSTART;TZID=UTC:20271214T073000
DTEND;TZID=UTC:20271214T073000
DTSTAMP:20260419T140232
CREATED:20240703T214406Z
LAST-MODIFIED:20250902T221159Z
UID:10007615-1828769400-1828769400@www.cordovagc.gov
SUMMARY:Chippers Golf Club
DESCRIPTION:Ages: Open to all \nFees: (First time start up fees – $10 club membership\, $3 for hole in one fund) Weekly Fees:  Green & Cart Fee weekly \nDays: Every Tuesday \nTime: 7:30 a.m. \nHow to sign up: Show up on Tuesday morning or by contacting Dennis Cecil at 916-202-7950
URL:https://www.cordovagc.gov/event/chippers-golf-club/2027-12-14/
END:VEVENT
BEGIN:VEVENT
DTSTART;TZID=UTC:20271215T170000
DTEND;TZID=UTC:20271215T200000
DTSTAMP:20260419T140232
CREATED:20241105T165724Z
LAST-MODIFIED:20251013T222810Z
UID:10005537-1828890000-1828900800@www.cordovagc.gov
SUMMARY:Lighted Driving Range
DESCRIPTION:Lighted Driving Range every Wednesday and Saturday starting November 6
URL:https://www.cordovagc.gov/event/lighted-driving-range-2/2027-12-15/
END:VEVENT
BEGIN:VEVENT
DTSTART;TZID=UTC:20271216T070000
DTEND;TZID=UTC:20271216T070000
DTSTAMP:20260419T140232
CREATED:20240703T221613Z
LAST-MODIFIED:20260221T002124Z
UID:10008260-1828940400-1828940400@www.cordovagc.gov
SUMMARY:Cordova Senior Group
DESCRIPTION:Ages: Open to all \nFees: Green & Cart Fee \nDays: Every Thursday \nTime: 7:00 a.m. \nHow to sign up: Calling Ken Pearson at 916-635-7270
URL:https://www.cordovagc.gov/event/pearson-group/2027-12-16/
END:VEVENT
BEGIN:VEVENT
DTSTART;TZID=UTC:20271216T073000
DTEND;TZID=UTC:20271216T073000
DTSTAMP:20260419T140232
CREATED:20240703T221851Z
LAST-MODIFIED:20240703T221851Z
UID:10002436-1828942200-1828942200@www.cordovagc.gov
SUMMARY:Bandits
DESCRIPTION:Ages: Open to all \nFees: (First time start up fees – $10 club membership\, $3 for hole in one fund) Weekly Fees:  Green & Cart Fee weekly \nDays: Every Thursday \nTime: 7:30 a.m. \nHow to sign up: Show up on Tuesday morning or by contacting Dennis Cecil at 916-202-7950
URL:https://www.cordovagc.gov/event/bandits/2027-12-16/
END:VEVENT
BEGIN:VEVENT
DTSTART;TZID=UTC:20271216T170000
DTEND;TZID=UTC:20271216T170000
DTSTAMP:20260419T140232
CREATED:20250902T221532Z
LAST-MODIFIED:20250902T221532Z
UID:10007876-1828976400-1828976400@www.cordovagc.gov
SUMMARY:Spark Golf League
DESCRIPTION:Spark Golf League is a 9-hole social golf league. Prior sign up is required on www.spark.golf
URL:https://www.cordovagc.gov/event/spark-golf-league/2027-12-16/
END:VEVENT
BEGIN:VEVENT
DTSTART;TZID=UTC:20271216T170000
DTEND;TZID=UTC:20271216T200000
DTSTAMP:20260419T140232
CREATED:20241105T165724Z
LAST-MODIFIED:20251013T222810Z
UID:10005538-1828976400-1828987200@www.cordovagc.gov
SUMMARY:Lighted Driving Range
DESCRIPTION:Lighted Driving Range every Wednesday and Saturday starting November 6
URL:https://www.cordovagc.gov/event/lighted-driving-range-2/2027-12-16/
END:VEVENT
BEGIN:VEVENT
DTSTART;TZID=UTC:20271217T170000
DTEND;TZID=UTC:20271217T200000
DTSTAMP:20260419T140232
CREATED:20241105T165724Z
LAST-MODIFIED:20251013T222810Z
UID:10005539-1829062800-1829073600@www.cordovagc.gov
SUMMARY:Lighted Driving Range
DESCRIPTION:Lighted Driving Range every Wednesday and Saturday starting November 6
URL:https://www.cordovagc.gov/event/lighted-driving-range-2/2027-12-17/
END:VEVENT
BEGIN:VEVENT
DTSTART;TZID=UTC:20271218T170000
DTEND;TZID=UTC:20271218T200000
DTSTAMP:20260419T140232
CREATED:20241105T165724Z
LAST-MODIFIED:20251013T222810Z
UID:10005540-1829149200-1829160000@www.cordovagc.gov
SUMMARY:Lighted Driving Range
DESCRIPTION:Lighted Driving Range every Wednesday and Saturday starting November 6
URL:https://www.cordovagc.gov/event/lighted-driving-range-2/2027-12-18/
END:VEVENT
BEGIN:VEVENT
DTSTART;TZID=UTC:20271221T073000
DTEND;TZID=UTC:20271221T073000
DTSTAMP:20260419T140232
CREATED:20240703T214406Z
LAST-MODIFIED:20250902T221159Z
UID:10007616-1829374200-1829374200@www.cordovagc.gov
SUMMARY:Chippers Golf Club
DESCRIPTION:Ages: Open to all \nFees: (First time start up fees – $10 club membership\, $3 for hole in one fund) Weekly Fees:  Green & Cart Fee weekly \nDays: Every Tuesday \nTime: 7:30 a.m. \nHow to sign up: Show up on Tuesday morning or by contacting Dennis Cecil at 916-202-7950
URL:https://www.cordovagc.gov/event/chippers-golf-club/2027-12-21/
END:VEVENT
BEGIN:VEVENT
DTSTART;TZID=UTC:20271222T170000
DTEND;TZID=UTC:20271222T200000
DTSTAMP:20260419T140232
CREATED:20241105T165724Z
LAST-MODIFIED:20251013T222810Z
UID:10005541-1829494800-1829505600@www.cordovagc.gov
SUMMARY:Lighted Driving Range
DESCRIPTION:Lighted Driving Range every Wednesday and Saturday starting November 6
URL:https://www.cordovagc.gov/event/lighted-driving-range-2/2027-12-22/
END:VEVENT
BEGIN:VEVENT
DTSTART;TZID=UTC:20271223T070000
DTEND;TZID=UTC:20271223T070000
DTSTAMP:20260419T140232
CREATED:20240703T221613Z
LAST-MODIFIED:20260221T002124Z
UID:10008261-1829545200-1829545200@www.cordovagc.gov
SUMMARY:Cordova Senior Group
DESCRIPTION:Ages: Open to all \nFees: Green & Cart Fee \nDays: Every Thursday \nTime: 7:00 a.m. \nHow to sign up: Calling Ken Pearson at 916-635-7270
URL:https://www.cordovagc.gov/event/pearson-group/2027-12-23/
END:VEVENT
BEGIN:VEVENT
DTSTART;TZID=UTC:20271223T073000
DTEND;TZID=UTC:20271223T073000
DTSTAMP:20260419T140232
CREATED:20240703T221851Z
LAST-MODIFIED:20240703T221851Z
UID:10002437-1829547000-1829547000@www.cordovagc.gov
SUMMARY:Bandits
DESCRIPTION:Ages: Open to all \nFees: (First time start up fees – $10 club membership\, $3 for hole in one fund) Weekly Fees:  Green & Cart Fee weekly \nDays: Every Thursday \nTime: 7:30 a.m. \nHow to sign up: Show up on Tuesday morning or by contacting Dennis Cecil at 916-202-7950
URL:https://www.cordovagc.gov/event/bandits/2027-12-23/
END:VEVENT
BEGIN:VEVENT
DTSTART;TZID=UTC:20271223T170000
DTEND;TZID=UTC:20271223T170000
DTSTAMP:20260419T140232
CREATED:20250902T221532Z
LAST-MODIFIED:20250902T221532Z
UID:10007877-1829581200-1829581200@www.cordovagc.gov
SUMMARY:Spark Golf League
DESCRIPTION:Spark Golf League is a 9-hole social golf league. Prior sign up is required on www.spark.golf
URL:https://www.cordovagc.gov/event/spark-golf-league/2027-12-23/
END:VEVENT
BEGIN:VEVENT
DTSTART;TZID=UTC:20271223T170000
DTEND;TZID=UTC:20271223T200000
DTSTAMP:20260419T140232
CREATED:20241105T165724Z
LAST-MODIFIED:20251013T222810Z
UID:10005542-1829581200-1829592000@www.cordovagc.gov
SUMMARY:Lighted Driving Range
DESCRIPTION:Lighted Driving Range every Wednesday and Saturday starting November 6
URL:https://www.cordovagc.gov/event/lighted-driving-range-2/2027-12-23/
END:VEVENT
BEGIN:VEVENT
DTSTART;TZID=UTC:20271224T170000
DTEND;TZID=UTC:20271224T200000
DTSTAMP:20260419T140232
CREATED:20241105T165724Z
LAST-MODIFIED:20251013T222810Z
UID:10005543-1829667600-1829678400@www.cordovagc.gov
SUMMARY:Lighted Driving Range
DESCRIPTION:Lighted Driving Range every Wednesday and Saturday starting November 6
URL:https://www.cordovagc.gov/event/lighted-driving-range-2/2027-12-24/
END:VEVENT
END:VCALENDAR