BEGIN:VCALENDAR
VERSION:2.0
PRODID:-//Cordova Golf Course - ECPv6.15.18//NONSGML v1.0//EN
CALSCALE:GREGORIAN
METHOD:PUBLISH
X-WR-CALNAME:Cordova Golf Course
X-ORIGINAL-URL:https://www.cordovagc.gov
X-WR-CALDESC:Events for Cordova Golf Course
REFRESH-INTERVAL;VALUE=DURATION:PT1H
X-Robots-Tag:noindex
X-PUBLISHED-TTL:PT1H
BEGIN:VTIMEZONE
TZID:UTC
BEGIN:STANDARD
TZOFFSETFROM:+0000
TZOFFSETTO:+0000
TZNAME:UTC
DTSTART:20270101T000000
END:STANDARD
END:VTIMEZONE
BEGIN:VEVENT
DTSTART;TZID=UTC:20280201T073000
DTEND;TZID=UTC:20280201T073000
DTSTAMP:20260419T164851
CREATED:20240703T214406Z
LAST-MODIFIED:20250902T221159Z
UID:10007622-1833003000-1833003000@www.cordovagc.gov
SUMMARY:Chippers Golf Club
DESCRIPTION:Ages: Open to all \nFees: (First time start up fees – $10 club membership\, $3 for hole in one fund) Weekly Fees:  Green & Cart Fee weekly \nDays: Every Tuesday \nTime: 7:30 a.m. \nHow to sign up: Show up on Tuesday morning or by contacting Dennis Cecil at 916-202-7950
URL:https://www.cordovagc.gov/event/chippers-golf-club/2028-02-01/
END:VEVENT
BEGIN:VEVENT
DTSTART;TZID=UTC:20280202T170000
DTEND;TZID=UTC:20280202T200000
DTSTAMP:20260419T164851
CREATED:20241105T165724Z
LAST-MODIFIED:20251013T222810Z
UID:10005565-1833123600-1833134400@www.cordovagc.gov
SUMMARY:Lighted Driving Range
DESCRIPTION:Lighted Driving Range every Wednesday and Saturday starting November 6
URL:https://www.cordovagc.gov/event/lighted-driving-range-2/2028-02-02/
END:VEVENT
BEGIN:VEVENT
DTSTART;TZID=UTC:20280203T070000
DTEND;TZID=UTC:20280203T070000
DTSTAMP:20260419T164851
CREATED:20240703T221613Z
LAST-MODIFIED:20260221T002124Z
UID:10008267-1833174000-1833174000@www.cordovagc.gov
SUMMARY:Cordova Senior Group
DESCRIPTION:Ages: Open to all \nFees: Green & Cart Fee \nDays: Every Thursday \nTime: 7:00 a.m. \nHow to sign up: Calling Ken Pearson at 916-635-7270
URL:https://www.cordovagc.gov/event/pearson-group/2028-02-03/
END:VEVENT
BEGIN:VEVENT
DTSTART;TZID=UTC:20280203T073000
DTEND;TZID=UTC:20280203T073000
DTSTAMP:20260419T164851
CREATED:20240703T221851Z
LAST-MODIFIED:20240703T221851Z
UID:10002443-1833175800-1833175800@www.cordovagc.gov
SUMMARY:Bandits
DESCRIPTION:Ages: Open to all \nFees: (First time start up fees – $10 club membership\, $3 for hole in one fund) Weekly Fees:  Green & Cart Fee weekly \nDays: Every Thursday \nTime: 7:30 a.m. \nHow to sign up: Show up on Tuesday morning or by contacting Dennis Cecil at 916-202-7950
URL:https://www.cordovagc.gov/event/bandits/2028-02-03/
END:VEVENT
BEGIN:VEVENT
DTSTART;TZID=UTC:20280203T170000
DTEND;TZID=UTC:20280203T170000
DTSTAMP:20260419T164851
CREATED:20250902T221532Z
LAST-MODIFIED:20250902T221532Z
UID:10007883-1833210000-1833210000@www.cordovagc.gov
SUMMARY:Spark Golf League
DESCRIPTION:Spark Golf League is a 9-hole social golf league. Prior sign up is required on www.spark.golf
URL:https://www.cordovagc.gov/event/spark-golf-league/2028-02-03/
END:VEVENT
BEGIN:VEVENT
DTSTART;TZID=UTC:20280203T170000
DTEND;TZID=UTC:20280203T200000
DTSTAMP:20260419T164851
CREATED:20241105T165724Z
LAST-MODIFIED:20251013T222810Z
UID:10005566-1833210000-1833220800@www.cordovagc.gov
SUMMARY:Lighted Driving Range
DESCRIPTION:Lighted Driving Range every Wednesday and Saturday starting November 6
URL:https://www.cordovagc.gov/event/lighted-driving-range-2/2028-02-03/
END:VEVENT
BEGIN:VEVENT
DTSTART;TZID=UTC:20280204T170000
DTEND;TZID=UTC:20280204T200000
DTSTAMP:20260419T164851
CREATED:20241105T165724Z
LAST-MODIFIED:20251013T222810Z
UID:10005567-1833296400-1833307200@www.cordovagc.gov
SUMMARY:Lighted Driving Range
DESCRIPTION:Lighted Driving Range every Wednesday and Saturday starting November 6
URL:https://www.cordovagc.gov/event/lighted-driving-range-2/2028-02-04/
END:VEVENT
BEGIN:VEVENT
DTSTART;TZID=UTC:20280205T170000
DTEND;TZID=UTC:20280205T200000
DTSTAMP:20260419T164851
CREATED:20241105T165724Z
LAST-MODIFIED:20251013T222810Z
UID:10005568-1833382800-1833393600@www.cordovagc.gov
SUMMARY:Lighted Driving Range
DESCRIPTION:Lighted Driving Range every Wednesday and Saturday starting November 6
URL:https://www.cordovagc.gov/event/lighted-driving-range-2/2028-02-05/
END:VEVENT
BEGIN:VEVENT
DTSTART;TZID=UTC:20280208T073000
DTEND;TZID=UTC:20280208T073000
DTSTAMP:20260419T164851
CREATED:20240703T214406Z
LAST-MODIFIED:20250902T221159Z
UID:10007623-1833607800-1833607800@www.cordovagc.gov
SUMMARY:Chippers Golf Club
DESCRIPTION:Ages: Open to all \nFees: (First time start up fees – $10 club membership\, $3 for hole in one fund) Weekly Fees:  Green & Cart Fee weekly \nDays: Every Tuesday \nTime: 7:30 a.m. \nHow to sign up: Show up on Tuesday morning or by contacting Dennis Cecil at 916-202-7950
URL:https://www.cordovagc.gov/event/chippers-golf-club/2028-02-08/
END:VEVENT
BEGIN:VEVENT
DTSTART;TZID=UTC:20280209T170000
DTEND;TZID=UTC:20280209T200000
DTSTAMP:20260419T164851
CREATED:20241105T165724Z
LAST-MODIFIED:20251013T222810Z
UID:10005569-1833728400-1833739200@www.cordovagc.gov
SUMMARY:Lighted Driving Range
DESCRIPTION:Lighted Driving Range every Wednesday and Saturday starting November 6
URL:https://www.cordovagc.gov/event/lighted-driving-range-2/2028-02-09/
END:VEVENT
BEGIN:VEVENT
DTSTART;TZID=UTC:20280210T070000
DTEND;TZID=UTC:20280210T070000
DTSTAMP:20260419T164851
CREATED:20240703T221613Z
LAST-MODIFIED:20260221T002124Z
UID:10008268-1833778800-1833778800@www.cordovagc.gov
SUMMARY:Cordova Senior Group
DESCRIPTION:Ages: Open to all \nFees: Green & Cart Fee \nDays: Every Thursday \nTime: 7:00 a.m. \nHow to sign up: Calling Ken Pearson at 916-635-7270
URL:https://www.cordovagc.gov/event/pearson-group/2028-02-10/
END:VEVENT
BEGIN:VEVENT
DTSTART;TZID=UTC:20280210T073000
DTEND;TZID=UTC:20280210T073000
DTSTAMP:20260419T164851
CREATED:20240703T221851Z
LAST-MODIFIED:20240703T221851Z
UID:10002444-1833780600-1833780600@www.cordovagc.gov
SUMMARY:Bandits
DESCRIPTION:Ages: Open to all \nFees: (First time start up fees – $10 club membership\, $3 for hole in one fund) Weekly Fees:  Green & Cart Fee weekly \nDays: Every Thursday \nTime: 7:30 a.m. \nHow to sign up: Show up on Tuesday morning or by contacting Dennis Cecil at 916-202-7950
URL:https://www.cordovagc.gov/event/bandits/2028-02-10/
END:VEVENT
BEGIN:VEVENT
DTSTART;TZID=UTC:20280210T170000
DTEND;TZID=UTC:20280210T170000
DTSTAMP:20260419T164851
CREATED:20250902T221532Z
LAST-MODIFIED:20250902T221532Z
UID:10007884-1833814800-1833814800@www.cordovagc.gov
SUMMARY:Spark Golf League
DESCRIPTION:Spark Golf League is a 9-hole social golf league. Prior sign up is required on www.spark.golf
URL:https://www.cordovagc.gov/event/spark-golf-league/2028-02-10/
END:VEVENT
BEGIN:VEVENT
DTSTART;TZID=UTC:20280210T170000
DTEND;TZID=UTC:20280210T200000
DTSTAMP:20260419T164851
CREATED:20241105T165724Z
LAST-MODIFIED:20251013T222810Z
UID:10005570-1833814800-1833825600@www.cordovagc.gov
SUMMARY:Lighted Driving Range
DESCRIPTION:Lighted Driving Range every Wednesday and Saturday starting November 6
URL:https://www.cordovagc.gov/event/lighted-driving-range-2/2028-02-10/
END:VEVENT
BEGIN:VEVENT
DTSTART;TZID=UTC:20280211T170000
DTEND;TZID=UTC:20280211T200000
DTSTAMP:20260419T164851
CREATED:20241105T165724Z
LAST-MODIFIED:20251013T222810Z
UID:10005571-1833901200-1833912000@www.cordovagc.gov
SUMMARY:Lighted Driving Range
DESCRIPTION:Lighted Driving Range every Wednesday and Saturday starting November 6
URL:https://www.cordovagc.gov/event/lighted-driving-range-2/2028-02-11/
END:VEVENT
BEGIN:VEVENT
DTSTART;TZID=UTC:20280212T170000
DTEND;TZID=UTC:20280212T200000
DTSTAMP:20260419T164851
CREATED:20241105T165724Z
LAST-MODIFIED:20251013T222810Z
UID:10005572-1833987600-1833998400@www.cordovagc.gov
SUMMARY:Lighted Driving Range
DESCRIPTION:Lighted Driving Range every Wednesday and Saturday starting November 6
URL:https://www.cordovagc.gov/event/lighted-driving-range-2/2028-02-12/
END:VEVENT
BEGIN:VEVENT
DTSTART;TZID=UTC:20280215T073000
DTEND;TZID=UTC:20280215T073000
DTSTAMP:20260419T164851
CREATED:20240703T214406Z
LAST-MODIFIED:20250902T221159Z
UID:10007624-1834212600-1834212600@www.cordovagc.gov
SUMMARY:Chippers Golf Club
DESCRIPTION:Ages: Open to all \nFees: (First time start up fees – $10 club membership\, $3 for hole in one fund) Weekly Fees:  Green & Cart Fee weekly \nDays: Every Tuesday \nTime: 7:30 a.m. \nHow to sign up: Show up on Tuesday morning or by contacting Dennis Cecil at 916-202-7950
URL:https://www.cordovagc.gov/event/chippers-golf-club/2028-02-15/
END:VEVENT
BEGIN:VEVENT
DTSTART;TZID=UTC:20280216T170000
DTEND;TZID=UTC:20280216T200000
DTSTAMP:20260419T164851
CREATED:20241105T165724Z
LAST-MODIFIED:20251013T222810Z
UID:10005573-1834333200-1834344000@www.cordovagc.gov
SUMMARY:Lighted Driving Range
DESCRIPTION:Lighted Driving Range every Wednesday and Saturday starting November 6
URL:https://www.cordovagc.gov/event/lighted-driving-range-2/2028-02-16/
END:VEVENT
BEGIN:VEVENT
DTSTART;TZID=UTC:20280217T070000
DTEND;TZID=UTC:20280217T070000
DTSTAMP:20260419T164851
CREATED:20240703T221613Z
LAST-MODIFIED:20260221T002124Z
UID:10008269-1834383600-1834383600@www.cordovagc.gov
SUMMARY:Cordova Senior Group
DESCRIPTION:Ages: Open to all \nFees: Green & Cart Fee \nDays: Every Thursday \nTime: 7:00 a.m. \nHow to sign up: Calling Ken Pearson at 916-635-7270
URL:https://www.cordovagc.gov/event/pearson-group/2028-02-17/
END:VEVENT
BEGIN:VEVENT
DTSTART;TZID=UTC:20280217T073000
DTEND;TZID=UTC:20280217T073000
DTSTAMP:20260419T164851
CREATED:20240703T221851Z
LAST-MODIFIED:20240703T221851Z
UID:10002445-1834385400-1834385400@www.cordovagc.gov
SUMMARY:Bandits
DESCRIPTION:Ages: Open to all \nFees: (First time start up fees – $10 club membership\, $3 for hole in one fund) Weekly Fees:  Green & Cart Fee weekly \nDays: Every Thursday \nTime: 7:30 a.m. \nHow to sign up: Show up on Tuesday morning or by contacting Dennis Cecil at 916-202-7950
URL:https://www.cordovagc.gov/event/bandits/2028-02-17/
END:VEVENT
BEGIN:VEVENT
DTSTART;TZID=UTC:20280217T170000
DTEND;TZID=UTC:20280217T170000
DTSTAMP:20260419T164851
CREATED:20250902T221532Z
LAST-MODIFIED:20250902T221532Z
UID:10007885-1834419600-1834419600@www.cordovagc.gov
SUMMARY:Spark Golf League
DESCRIPTION:Spark Golf League is a 9-hole social golf league. Prior sign up is required on www.spark.golf
URL:https://www.cordovagc.gov/event/spark-golf-league/2028-02-17/
END:VEVENT
BEGIN:VEVENT
DTSTART;TZID=UTC:20280217T170000
DTEND;TZID=UTC:20280217T200000
DTSTAMP:20260419T164851
CREATED:20241105T165724Z
LAST-MODIFIED:20251013T222810Z
UID:10005574-1834419600-1834430400@www.cordovagc.gov
SUMMARY:Lighted Driving Range
DESCRIPTION:Lighted Driving Range every Wednesday and Saturday starting November 6
URL:https://www.cordovagc.gov/event/lighted-driving-range-2/2028-02-17/
END:VEVENT
BEGIN:VEVENT
DTSTART;TZID=UTC:20280218T170000
DTEND;TZID=UTC:20280218T200000
DTSTAMP:20260419T164851
CREATED:20241105T165724Z
LAST-MODIFIED:20251013T222810Z
UID:10005575-1834506000-1834516800@www.cordovagc.gov
SUMMARY:Lighted Driving Range
DESCRIPTION:Lighted Driving Range every Wednesday and Saturday starting November 6
URL:https://www.cordovagc.gov/event/lighted-driving-range-2/2028-02-18/
END:VEVENT
BEGIN:VEVENT
DTSTART;TZID=UTC:20280219T170000
DTEND;TZID=UTC:20280219T200000
DTSTAMP:20260419T164851
CREATED:20241105T165724Z
LAST-MODIFIED:20251013T222810Z
UID:10005576-1834592400-1834603200@www.cordovagc.gov
SUMMARY:Lighted Driving Range
DESCRIPTION:Lighted Driving Range every Wednesday and Saturday starting November 6
URL:https://www.cordovagc.gov/event/lighted-driving-range-2/2028-02-19/
END:VEVENT
BEGIN:VEVENT
DTSTART;TZID=UTC:20280222T073000
DTEND;TZID=UTC:20280222T073000
DTSTAMP:20260419T164851
CREATED:20240703T214406Z
LAST-MODIFIED:20250902T221159Z
UID:10007625-1834817400-1834817400@www.cordovagc.gov
SUMMARY:Chippers Golf Club
DESCRIPTION:Ages: Open to all \nFees: (First time start up fees – $10 club membership\, $3 for hole in one fund) Weekly Fees:  Green & Cart Fee weekly \nDays: Every Tuesday \nTime: 7:30 a.m. \nHow to sign up: Show up on Tuesday morning or by contacting Dennis Cecil at 916-202-7950
URL:https://www.cordovagc.gov/event/chippers-golf-club/2028-02-22/
END:VEVENT
BEGIN:VEVENT
DTSTART;TZID=UTC:20280223T170000
DTEND;TZID=UTC:20280223T200000
DTSTAMP:20260419T164851
CREATED:20241105T165724Z
LAST-MODIFIED:20251013T222810Z
UID:10005577-1834938000-1834948800@www.cordovagc.gov
SUMMARY:Lighted Driving Range
DESCRIPTION:Lighted Driving Range every Wednesday and Saturday starting November 6
URL:https://www.cordovagc.gov/event/lighted-driving-range-2/2028-02-23/
END:VEVENT
BEGIN:VEVENT
DTSTART;TZID=UTC:20280224T070000
DTEND;TZID=UTC:20280224T070000
DTSTAMP:20260419T164851
CREATED:20240703T221613Z
LAST-MODIFIED:20260221T002124Z
UID:10008270-1834988400-1834988400@www.cordovagc.gov
SUMMARY:Cordova Senior Group
DESCRIPTION:Ages: Open to all \nFees: Green & Cart Fee \nDays: Every Thursday \nTime: 7:00 a.m. \nHow to sign up: Calling Ken Pearson at 916-635-7270
URL:https://www.cordovagc.gov/event/pearson-group/2028-02-24/
END:VEVENT
BEGIN:VEVENT
DTSTART;TZID=UTC:20280224T073000
DTEND;TZID=UTC:20280224T073000
DTSTAMP:20260419T164851
CREATED:20240703T221851Z
LAST-MODIFIED:20240703T221851Z
UID:10002446-1834990200-1834990200@www.cordovagc.gov
SUMMARY:Bandits
DESCRIPTION:Ages: Open to all \nFees: (First time start up fees – $10 club membership\, $3 for hole in one fund) Weekly Fees:  Green & Cart Fee weekly \nDays: Every Thursday \nTime: 7:30 a.m. \nHow to sign up: Show up on Tuesday morning or by contacting Dennis Cecil at 916-202-7950
URL:https://www.cordovagc.gov/event/bandits/2028-02-24/
END:VEVENT
BEGIN:VEVENT
DTSTART;TZID=UTC:20280224T170000
DTEND;TZID=UTC:20280224T170000
DTSTAMP:20260419T164851
CREATED:20250902T221532Z
LAST-MODIFIED:20250902T221532Z
UID:10007886-1835024400-1835024400@www.cordovagc.gov
SUMMARY:Spark Golf League
DESCRIPTION:Spark Golf League is a 9-hole social golf league. Prior sign up is required on www.spark.golf
URL:https://www.cordovagc.gov/event/spark-golf-league/2028-02-24/
END:VEVENT
BEGIN:VEVENT
DTSTART;TZID=UTC:20280224T170000
DTEND;TZID=UTC:20280224T200000
DTSTAMP:20260419T164851
CREATED:20241105T165724Z
LAST-MODIFIED:20251013T222810Z
UID:10005578-1835024400-1835035200@www.cordovagc.gov
SUMMARY:Lighted Driving Range
DESCRIPTION:Lighted Driving Range every Wednesday and Saturday starting November 6
URL:https://www.cordovagc.gov/event/lighted-driving-range-2/2028-02-24/
END:VEVENT
END:VCALENDAR