BEGIN:VCALENDAR
VERSION:2.0
PRODID:-//Cordova Golf Course - ECPv6.15.18//NONSGML v1.0//EN
CALSCALE:GREGORIAN
METHOD:PUBLISH
X-WR-CALNAME:Cordova Golf Course
X-ORIGINAL-URL:https://www.cordovagc.gov
X-WR-CALDESC:Events for Cordova Golf Course
REFRESH-INTERVAL;VALUE=DURATION:PT1H
X-Robots-Tag:noindex
X-PUBLISHED-TTL:PT1H
BEGIN:VTIMEZONE
TZID:UTC
BEGIN:STANDARD
TZOFFSETFROM:+0000
TZOFFSETTO:+0000
TZNAME:UTC
DTSTART:20270101T000000
END:STANDARD
END:VTIMEZONE
BEGIN:VEVENT
DTSTART;TZID=UTC:20280502T073000
DTEND;TZID=UTC:20280502T073000
DTSTAMP:20260419T204223
CREATED:20240703T214406Z
LAST-MODIFIED:20250902T221159Z
UID:10007635-1840865400-1840865400@www.cordovagc.gov
SUMMARY:Chippers Golf Club
DESCRIPTION:Ages: Open to all \nFees: (First time start up fees – $10 club membership\, $3 for hole in one fund) Weekly Fees:  Green & Cart Fee weekly \nDays: Every Tuesday \nTime: 7:30 a.m. \nHow to sign up: Show up on Tuesday morning or by contacting Dennis Cecil at 916-202-7950
URL:https://www.cordovagc.gov/event/chippers-golf-club/2028-05-02/
END:VEVENT
BEGIN:VEVENT
DTSTART;TZID=UTC:20280503T170000
DTEND;TZID=UTC:20280503T200000
DTSTAMP:20260419T204223
CREATED:20241105T165724Z
LAST-MODIFIED:20251013T222810Z
UID:10005617-1840986000-1840996800@www.cordovagc.gov
SUMMARY:Lighted Driving Range
DESCRIPTION:Lighted Driving Range every Wednesday and Saturday starting November 6
URL:https://www.cordovagc.gov/event/lighted-driving-range-2/2028-05-03/
END:VEVENT
BEGIN:VEVENT
DTSTART;TZID=UTC:20280504T070000
DTEND;TZID=UTC:20280504T070000
DTSTAMP:20260419T204223
CREATED:20240703T221613Z
LAST-MODIFIED:20260221T002124Z
UID:10008280-1841036400-1841036400@www.cordovagc.gov
SUMMARY:Cordova Senior Group
DESCRIPTION:Ages: Open to all \nFees: Green & Cart Fee \nDays: Every Thursday \nTime: 7:00 a.m. \nHow to sign up: Calling Ken Pearson at 916-635-7270
URL:https://www.cordovagc.gov/event/pearson-group/2028-05-04/
END:VEVENT
BEGIN:VEVENT
DTSTART;TZID=UTC:20280504T073000
DTEND;TZID=UTC:20280504T073000
DTSTAMP:20260419T204223
CREATED:20240703T221851Z
LAST-MODIFIED:20240703T221851Z
UID:10002456-1841038200-1841038200@www.cordovagc.gov
SUMMARY:Bandits
DESCRIPTION:Ages: Open to all \nFees: (First time start up fees – $10 club membership\, $3 for hole in one fund) Weekly Fees:  Green & Cart Fee weekly \nDays: Every Thursday \nTime: 7:30 a.m. \nHow to sign up: Show up on Tuesday morning or by contacting Dennis Cecil at 916-202-7950
URL:https://www.cordovagc.gov/event/bandits/2028-05-04/
END:VEVENT
BEGIN:VEVENT
DTSTART;TZID=UTC:20280504T170000
DTEND;TZID=UTC:20280504T170000
DTSTAMP:20260419T204223
CREATED:20250902T221532Z
LAST-MODIFIED:20250902T221532Z
UID:10007896-1841072400-1841072400@www.cordovagc.gov
SUMMARY:Spark Golf League
DESCRIPTION:Spark Golf League is a 9-hole social golf league. Prior sign up is required on www.spark.golf
URL:https://www.cordovagc.gov/event/spark-golf-league/2028-05-04/
END:VEVENT
BEGIN:VEVENT
DTSTART;TZID=UTC:20280504T170000
DTEND;TZID=UTC:20280504T200000
DTSTAMP:20260419T204223
CREATED:20241105T165724Z
LAST-MODIFIED:20251013T222810Z
UID:10005618-1841072400-1841083200@www.cordovagc.gov
SUMMARY:Lighted Driving Range
DESCRIPTION:Lighted Driving Range every Wednesday and Saturday starting November 6
URL:https://www.cordovagc.gov/event/lighted-driving-range-2/2028-05-04/
END:VEVENT
BEGIN:VEVENT
DTSTART;TZID=UTC:20280505T170000
DTEND;TZID=UTC:20280505T200000
DTSTAMP:20260419T204223
CREATED:20241105T165724Z
LAST-MODIFIED:20251013T222810Z
UID:10005619-1841158800-1841169600@www.cordovagc.gov
SUMMARY:Lighted Driving Range
DESCRIPTION:Lighted Driving Range every Wednesday and Saturday starting November 6
URL:https://www.cordovagc.gov/event/lighted-driving-range-2/2028-05-05/
END:VEVENT
BEGIN:VEVENT
DTSTART;TZID=UTC:20280506T170000
DTEND;TZID=UTC:20280506T200000
DTSTAMP:20260419T204223
CREATED:20241105T165724Z
LAST-MODIFIED:20251013T222810Z
UID:10005620-1841245200-1841256000@www.cordovagc.gov
SUMMARY:Lighted Driving Range
DESCRIPTION:Lighted Driving Range every Wednesday and Saturday starting November 6
URL:https://www.cordovagc.gov/event/lighted-driving-range-2/2028-05-06/
END:VEVENT
BEGIN:VEVENT
DTSTART;TZID=UTC:20280509T073000
DTEND;TZID=UTC:20280509T073000
DTSTAMP:20260419T204223
CREATED:20240703T214406Z
LAST-MODIFIED:20250902T221159Z
UID:10007636-1841470200-1841470200@www.cordovagc.gov
SUMMARY:Chippers Golf Club
DESCRIPTION:Ages: Open to all \nFees: (First time start up fees – $10 club membership\, $3 for hole in one fund) Weekly Fees:  Green & Cart Fee weekly \nDays: Every Tuesday \nTime: 7:30 a.m. \nHow to sign up: Show up on Tuesday morning or by contacting Dennis Cecil at 916-202-7950
URL:https://www.cordovagc.gov/event/chippers-golf-club/2028-05-09/
END:VEVENT
BEGIN:VEVENT
DTSTART;TZID=UTC:20280510T170000
DTEND;TZID=UTC:20280510T200000
DTSTAMP:20260419T204223
CREATED:20241105T165724Z
LAST-MODIFIED:20251013T222810Z
UID:10005621-1841590800-1841601600@www.cordovagc.gov
SUMMARY:Lighted Driving Range
DESCRIPTION:Lighted Driving Range every Wednesday and Saturday starting November 6
URL:https://www.cordovagc.gov/event/lighted-driving-range-2/2028-05-10/
END:VEVENT
BEGIN:VEVENT
DTSTART;TZID=UTC:20280511T070000
DTEND;TZID=UTC:20280511T070000
DTSTAMP:20260419T204223
CREATED:20240703T221613Z
LAST-MODIFIED:20260221T002124Z
UID:10008281-1841641200-1841641200@www.cordovagc.gov
SUMMARY:Cordova Senior Group
DESCRIPTION:Ages: Open to all \nFees: Green & Cart Fee \nDays: Every Thursday \nTime: 7:00 a.m. \nHow to sign up: Calling Ken Pearson at 916-635-7270
URL:https://www.cordovagc.gov/event/pearson-group/2028-05-11/
END:VEVENT
BEGIN:VEVENT
DTSTART;TZID=UTC:20280511T073000
DTEND;TZID=UTC:20280511T073000
DTSTAMP:20260419T204223
CREATED:20240703T221851Z
LAST-MODIFIED:20240703T221851Z
UID:10002457-1841643000-1841643000@www.cordovagc.gov
SUMMARY:Bandits
DESCRIPTION:Ages: Open to all \nFees: (First time start up fees – $10 club membership\, $3 for hole in one fund) Weekly Fees:  Green & Cart Fee weekly \nDays: Every Thursday \nTime: 7:30 a.m. \nHow to sign up: Show up on Tuesday morning or by contacting Dennis Cecil at 916-202-7950
URL:https://www.cordovagc.gov/event/bandits/2028-05-11/
END:VEVENT
BEGIN:VEVENT
DTSTART;TZID=UTC:20280511T170000
DTEND;TZID=UTC:20280511T170000
DTSTAMP:20260419T204223
CREATED:20250902T221532Z
LAST-MODIFIED:20250902T221532Z
UID:10007897-1841677200-1841677200@www.cordovagc.gov
SUMMARY:Spark Golf League
DESCRIPTION:Spark Golf League is a 9-hole social golf league. Prior sign up is required on www.spark.golf
URL:https://www.cordovagc.gov/event/spark-golf-league/2028-05-11/
END:VEVENT
BEGIN:VEVENT
DTSTART;TZID=UTC:20280511T170000
DTEND;TZID=UTC:20280511T200000
DTSTAMP:20260419T204223
CREATED:20241105T165724Z
LAST-MODIFIED:20251013T222810Z
UID:10005622-1841677200-1841688000@www.cordovagc.gov
SUMMARY:Lighted Driving Range
DESCRIPTION:Lighted Driving Range every Wednesday and Saturday starting November 6
URL:https://www.cordovagc.gov/event/lighted-driving-range-2/2028-05-11/
END:VEVENT
BEGIN:VEVENT
DTSTART;TZID=UTC:20280512T170000
DTEND;TZID=UTC:20280512T200000
DTSTAMP:20260419T204223
CREATED:20241105T165724Z
LAST-MODIFIED:20251013T222810Z
UID:10005623-1841763600-1841774400@www.cordovagc.gov
SUMMARY:Lighted Driving Range
DESCRIPTION:Lighted Driving Range every Wednesday and Saturday starting November 6
URL:https://www.cordovagc.gov/event/lighted-driving-range-2/2028-05-12/
END:VEVENT
BEGIN:VEVENT
DTSTART;TZID=UTC:20280513T170000
DTEND;TZID=UTC:20280513T200000
DTSTAMP:20260419T204223
CREATED:20241105T165724Z
LAST-MODIFIED:20251013T222810Z
UID:10005624-1841850000-1841860800@www.cordovagc.gov
SUMMARY:Lighted Driving Range
DESCRIPTION:Lighted Driving Range every Wednesday and Saturday starting November 6
URL:https://www.cordovagc.gov/event/lighted-driving-range-2/2028-05-13/
END:VEVENT
BEGIN:VEVENT
DTSTART;TZID=UTC:20280516T073000
DTEND;TZID=UTC:20280516T073000
DTSTAMP:20260419T204223
CREATED:20240703T214406Z
LAST-MODIFIED:20250902T221159Z
UID:10007637-1842075000-1842075000@www.cordovagc.gov
SUMMARY:Chippers Golf Club
DESCRIPTION:Ages: Open to all \nFees: (First time start up fees – $10 club membership\, $3 for hole in one fund) Weekly Fees:  Green & Cart Fee weekly \nDays: Every Tuesday \nTime: 7:30 a.m. \nHow to sign up: Show up on Tuesday morning or by contacting Dennis Cecil at 916-202-7950
URL:https://www.cordovagc.gov/event/chippers-golf-club/2028-05-16/
END:VEVENT
BEGIN:VEVENT
DTSTART;TZID=UTC:20280517T170000
DTEND;TZID=UTC:20280517T200000
DTSTAMP:20260419T204223
CREATED:20241105T165724Z
LAST-MODIFIED:20251013T222810Z
UID:10005625-1842195600-1842206400@www.cordovagc.gov
SUMMARY:Lighted Driving Range
DESCRIPTION:Lighted Driving Range every Wednesday and Saturday starting November 6
URL:https://www.cordovagc.gov/event/lighted-driving-range-2/2028-05-17/
END:VEVENT
BEGIN:VEVENT
DTSTART;TZID=UTC:20280518T070000
DTEND;TZID=UTC:20280518T070000
DTSTAMP:20260419T204223
CREATED:20240703T221613Z
LAST-MODIFIED:20260221T002124Z
UID:10008282-1842246000-1842246000@www.cordovagc.gov
SUMMARY:Cordova Senior Group
DESCRIPTION:Ages: Open to all \nFees: Green & Cart Fee \nDays: Every Thursday \nTime: 7:00 a.m. \nHow to sign up: Calling Ken Pearson at 916-635-7270
URL:https://www.cordovagc.gov/event/pearson-group/2028-05-18/
END:VEVENT
BEGIN:VEVENT
DTSTART;TZID=UTC:20280518T073000
DTEND;TZID=UTC:20280518T073000
DTSTAMP:20260419T204223
CREATED:20240703T221851Z
LAST-MODIFIED:20240703T221851Z
UID:10002458-1842247800-1842247800@www.cordovagc.gov
SUMMARY:Bandits
DESCRIPTION:Ages: Open to all \nFees: (First time start up fees – $10 club membership\, $3 for hole in one fund) Weekly Fees:  Green & Cart Fee weekly \nDays: Every Thursday \nTime: 7:30 a.m. \nHow to sign up: Show up on Tuesday morning or by contacting Dennis Cecil at 916-202-7950
URL:https://www.cordovagc.gov/event/bandits/2028-05-18/
END:VEVENT
BEGIN:VEVENT
DTSTART;TZID=UTC:20280518T170000
DTEND;TZID=UTC:20280518T170000
DTSTAMP:20260419T204223
CREATED:20250902T221532Z
LAST-MODIFIED:20250902T221532Z
UID:10007898-1842282000-1842282000@www.cordovagc.gov
SUMMARY:Spark Golf League
DESCRIPTION:Spark Golf League is a 9-hole social golf league. Prior sign up is required on www.spark.golf
URL:https://www.cordovagc.gov/event/spark-golf-league/2028-05-18/
END:VEVENT
BEGIN:VEVENT
DTSTART;TZID=UTC:20280518T170000
DTEND;TZID=UTC:20280518T200000
DTSTAMP:20260419T204223
CREATED:20241105T165724Z
LAST-MODIFIED:20251013T222810Z
UID:10005626-1842282000-1842292800@www.cordovagc.gov
SUMMARY:Lighted Driving Range
DESCRIPTION:Lighted Driving Range every Wednesday and Saturday starting November 6
URL:https://www.cordovagc.gov/event/lighted-driving-range-2/2028-05-18/
END:VEVENT
BEGIN:VEVENT
DTSTART;TZID=UTC:20280519T170000
DTEND;TZID=UTC:20280519T200000
DTSTAMP:20260419T204223
CREATED:20241105T165724Z
LAST-MODIFIED:20251013T222810Z
UID:10005627-1842368400-1842379200@www.cordovagc.gov
SUMMARY:Lighted Driving Range
DESCRIPTION:Lighted Driving Range every Wednesday and Saturday starting November 6
URL:https://www.cordovagc.gov/event/lighted-driving-range-2/2028-05-19/
END:VEVENT
BEGIN:VEVENT
DTSTART;TZID=UTC:20280520T170000
DTEND;TZID=UTC:20280520T200000
DTSTAMP:20260419T204223
CREATED:20241105T165724Z
LAST-MODIFIED:20251013T222810Z
UID:10005628-1842454800-1842465600@www.cordovagc.gov
SUMMARY:Lighted Driving Range
DESCRIPTION:Lighted Driving Range every Wednesday and Saturday starting November 6
URL:https://www.cordovagc.gov/event/lighted-driving-range-2/2028-05-20/
END:VEVENT
BEGIN:VEVENT
DTSTART;TZID=UTC:20280523T073000
DTEND;TZID=UTC:20280523T073000
DTSTAMP:20260419T204223
CREATED:20240703T214406Z
LAST-MODIFIED:20250902T221159Z
UID:10007638-1842679800-1842679800@www.cordovagc.gov
SUMMARY:Chippers Golf Club
DESCRIPTION:Ages: Open to all \nFees: (First time start up fees – $10 club membership\, $3 for hole in one fund) Weekly Fees:  Green & Cart Fee weekly \nDays: Every Tuesday \nTime: 7:30 a.m. \nHow to sign up: Show up on Tuesday morning or by contacting Dennis Cecil at 916-202-7950
URL:https://www.cordovagc.gov/event/chippers-golf-club/2028-05-23/
END:VEVENT
BEGIN:VEVENT
DTSTART;TZID=UTC:20280524T170000
DTEND;TZID=UTC:20280524T200000
DTSTAMP:20260419T204223
CREATED:20241105T165724Z
LAST-MODIFIED:20251013T222810Z
UID:10005629-1842800400-1842811200@www.cordovagc.gov
SUMMARY:Lighted Driving Range
DESCRIPTION:Lighted Driving Range every Wednesday and Saturday starting November 6
URL:https://www.cordovagc.gov/event/lighted-driving-range-2/2028-05-24/
END:VEVENT
BEGIN:VEVENT
DTSTART;TZID=UTC:20280525T070000
DTEND;TZID=UTC:20280525T070000
DTSTAMP:20260419T204223
CREATED:20240703T221613Z
LAST-MODIFIED:20260221T002124Z
UID:10008283-1842850800-1842850800@www.cordovagc.gov
SUMMARY:Cordova Senior Group
DESCRIPTION:Ages: Open to all \nFees: Green & Cart Fee \nDays: Every Thursday \nTime: 7:00 a.m. \nHow to sign up: Calling Ken Pearson at 916-635-7270
URL:https://www.cordovagc.gov/event/pearson-group/2028-05-25/
END:VEVENT
BEGIN:VEVENT
DTSTART;TZID=UTC:20280525T073000
DTEND;TZID=UTC:20280525T073000
DTSTAMP:20260419T204223
CREATED:20240703T221851Z
LAST-MODIFIED:20240703T221851Z
UID:10002459-1842852600-1842852600@www.cordovagc.gov
SUMMARY:Bandits
DESCRIPTION:Ages: Open to all \nFees: (First time start up fees – $10 club membership\, $3 for hole in one fund) Weekly Fees:  Green & Cart Fee weekly \nDays: Every Thursday \nTime: 7:30 a.m. \nHow to sign up: Show up on Tuesday morning or by contacting Dennis Cecil at 916-202-7950
URL:https://www.cordovagc.gov/event/bandits/2028-05-25/
END:VEVENT
BEGIN:VEVENT
DTSTART;TZID=UTC:20280525T170000
DTEND;TZID=UTC:20280525T170000
DTSTAMP:20260419T204223
CREATED:20250902T221532Z
LAST-MODIFIED:20250902T221532Z
UID:10007899-1842886800-1842886800@www.cordovagc.gov
SUMMARY:Spark Golf League
DESCRIPTION:Spark Golf League is a 9-hole social golf league. Prior sign up is required on www.spark.golf
URL:https://www.cordovagc.gov/event/spark-golf-league/2028-05-25/
END:VEVENT
BEGIN:VEVENT
DTSTART;TZID=UTC:20280525T170000
DTEND;TZID=UTC:20280525T200000
DTSTAMP:20260419T204223
CREATED:20241105T165724Z
LAST-MODIFIED:20251013T222810Z
UID:10005630-1842886800-1842897600@www.cordovagc.gov
SUMMARY:Lighted Driving Range
DESCRIPTION:Lighted Driving Range every Wednesday and Saturday starting November 6
URL:https://www.cordovagc.gov/event/lighted-driving-range-2/2028-05-25/
END:VEVENT
END:VCALENDAR