BEGIN:VCALENDAR
VERSION:2.0
PRODID:-//Cordova Golf Course - ECPv6.15.18//NONSGML v1.0//EN
CALSCALE:GREGORIAN
METHOD:PUBLISH
X-WR-CALNAME:Cordova Golf Course
X-ORIGINAL-URL:https://www.cordovagc.gov
X-WR-CALDESC:Events for Cordova Golf Course
REFRESH-INTERVAL;VALUE=DURATION:PT1H
X-Robots-Tag:noindex
X-PUBLISHED-TTL:PT1H
BEGIN:VTIMEZONE
TZID:UTC
BEGIN:STANDARD
TZOFFSETFROM:+0000
TZOFFSETTO:+0000
TZNAME:UTC
DTSTART:20270101T000000
END:STANDARD
END:VTIMEZONE
BEGIN:VEVENT
DTSTART;TZID=UTC:20280601T070000
DTEND;TZID=UTC:20280601T070000
DTSTAMP:20260419T215342
CREATED:20240703T221613Z
LAST-MODIFIED:20260221T002124Z
UID:10008284-1843455600-1843455600@www.cordovagc.gov
SUMMARY:Cordova Senior Group
DESCRIPTION:Ages: Open to all \nFees: Green & Cart Fee \nDays: Every Thursday \nTime: 7:00 a.m. \nHow to sign up: Calling Ken Pearson at 916-635-7270
URL:https://www.cordovagc.gov/event/pearson-group/2028-06-01/
END:VEVENT
BEGIN:VEVENT
DTSTART;TZID=UTC:20280601T073000
DTEND;TZID=UTC:20280601T073000
DTSTAMP:20260419T215342
CREATED:20240703T221851Z
LAST-MODIFIED:20240703T221851Z
UID:10002460-1843457400-1843457400@www.cordovagc.gov
SUMMARY:Bandits
DESCRIPTION:Ages: Open to all \nFees: (First time start up fees – $10 club membership\, $3 for hole in one fund) Weekly Fees:  Green & Cart Fee weekly \nDays: Every Thursday \nTime: 7:30 a.m. \nHow to sign up: Show up on Tuesday morning or by contacting Dennis Cecil at 916-202-7950
URL:https://www.cordovagc.gov/event/bandits/2028-06-01/
END:VEVENT
BEGIN:VEVENT
DTSTART;TZID=UTC:20280601T170000
DTEND;TZID=UTC:20280601T170000
DTSTAMP:20260419T215342
CREATED:20250902T221532Z
LAST-MODIFIED:20250902T221532Z
UID:10007900-1843491600-1843491600@www.cordovagc.gov
SUMMARY:Spark Golf League
DESCRIPTION:Spark Golf League is a 9-hole social golf league. Prior sign up is required on www.spark.golf
URL:https://www.cordovagc.gov/event/spark-golf-league/2028-06-01/
END:VEVENT
BEGIN:VEVENT
DTSTART;TZID=UTC:20280601T170000
DTEND;TZID=UTC:20280601T200000
DTSTAMP:20260419T215342
CREATED:20241105T165724Z
LAST-MODIFIED:20251013T222810Z
UID:10005634-1843491600-1843502400@www.cordovagc.gov
SUMMARY:Lighted Driving Range
DESCRIPTION:Lighted Driving Range every Wednesday and Saturday starting November 6
URL:https://www.cordovagc.gov/event/lighted-driving-range-2/2028-06-01/
END:VEVENT
BEGIN:VEVENT
DTSTART;TZID=UTC:20280602T170000
DTEND;TZID=UTC:20280602T200000
DTSTAMP:20260419T215342
CREATED:20241105T165724Z
LAST-MODIFIED:20251013T222810Z
UID:10005635-1843578000-1843588800@www.cordovagc.gov
SUMMARY:Lighted Driving Range
DESCRIPTION:Lighted Driving Range every Wednesday and Saturday starting November 6
URL:https://www.cordovagc.gov/event/lighted-driving-range-2/2028-06-02/
END:VEVENT
BEGIN:VEVENT
DTSTART;TZID=UTC:20280603T170000
DTEND;TZID=UTC:20280603T200000
DTSTAMP:20260419T215342
CREATED:20241105T165724Z
LAST-MODIFIED:20251013T222810Z
UID:10005636-1843664400-1843675200@www.cordovagc.gov
SUMMARY:Lighted Driving Range
DESCRIPTION:Lighted Driving Range every Wednesday and Saturday starting November 6
URL:https://www.cordovagc.gov/event/lighted-driving-range-2/2028-06-03/
END:VEVENT
BEGIN:VEVENT
DTSTART;TZID=UTC:20280606T073000
DTEND;TZID=UTC:20280606T073000
DTSTAMP:20260419T215342
CREATED:20240703T214406Z
LAST-MODIFIED:20250902T221159Z
UID:10007640-1843889400-1843889400@www.cordovagc.gov
SUMMARY:Chippers Golf Club
DESCRIPTION:Ages: Open to all \nFees: (First time start up fees – $10 club membership\, $3 for hole in one fund) Weekly Fees:  Green & Cart Fee weekly \nDays: Every Tuesday \nTime: 7:30 a.m. \nHow to sign up: Show up on Tuesday morning or by contacting Dennis Cecil at 916-202-7950
URL:https://www.cordovagc.gov/event/chippers-golf-club/2028-06-06/
END:VEVENT
BEGIN:VEVENT
DTSTART;TZID=UTC:20280607T170000
DTEND;TZID=UTC:20280607T200000
DTSTAMP:20260419T215342
CREATED:20241105T165724Z
LAST-MODIFIED:20251013T222810Z
UID:10005637-1844010000-1844020800@www.cordovagc.gov
SUMMARY:Lighted Driving Range
DESCRIPTION:Lighted Driving Range every Wednesday and Saturday starting November 6
URL:https://www.cordovagc.gov/event/lighted-driving-range-2/2028-06-07/
END:VEVENT
BEGIN:VEVENT
DTSTART;TZID=UTC:20280608T070000
DTEND;TZID=UTC:20280608T070000
DTSTAMP:20260419T215342
CREATED:20240703T221613Z
LAST-MODIFIED:20260221T002124Z
UID:10008285-1844060400-1844060400@www.cordovagc.gov
SUMMARY:Cordova Senior Group
DESCRIPTION:Ages: Open to all \nFees: Green & Cart Fee \nDays: Every Thursday \nTime: 7:00 a.m. \nHow to sign up: Calling Ken Pearson at 916-635-7270
URL:https://www.cordovagc.gov/event/pearson-group/2028-06-08/
END:VEVENT
BEGIN:VEVENT
DTSTART;TZID=UTC:20280608T073000
DTEND;TZID=UTC:20280608T073000
DTSTAMP:20260419T215342
CREATED:20240703T221851Z
LAST-MODIFIED:20240703T221851Z
UID:10002461-1844062200-1844062200@www.cordovagc.gov
SUMMARY:Bandits
DESCRIPTION:Ages: Open to all \nFees: (First time start up fees – $10 club membership\, $3 for hole in one fund) Weekly Fees:  Green & Cart Fee weekly \nDays: Every Thursday \nTime: 7:30 a.m. \nHow to sign up: Show up on Tuesday morning or by contacting Dennis Cecil at 916-202-7950
URL:https://www.cordovagc.gov/event/bandits/2028-06-08/
END:VEVENT
BEGIN:VEVENT
DTSTART;TZID=UTC:20280608T170000
DTEND;TZID=UTC:20280608T170000
DTSTAMP:20260419T215342
CREATED:20250902T221532Z
LAST-MODIFIED:20250902T221532Z
UID:10007901-1844096400-1844096400@www.cordovagc.gov
SUMMARY:Spark Golf League
DESCRIPTION:Spark Golf League is a 9-hole social golf league. Prior sign up is required on www.spark.golf
URL:https://www.cordovagc.gov/event/spark-golf-league/2028-06-08/
END:VEVENT
BEGIN:VEVENT
DTSTART;TZID=UTC:20280608T170000
DTEND;TZID=UTC:20280608T200000
DTSTAMP:20260419T215342
CREATED:20241105T165724Z
LAST-MODIFIED:20251013T222810Z
UID:10005638-1844096400-1844107200@www.cordovagc.gov
SUMMARY:Lighted Driving Range
DESCRIPTION:Lighted Driving Range every Wednesday and Saturday starting November 6
URL:https://www.cordovagc.gov/event/lighted-driving-range-2/2028-06-08/
END:VEVENT
BEGIN:VEVENT
DTSTART;TZID=UTC:20280609T170000
DTEND;TZID=UTC:20280609T200000
DTSTAMP:20260419T215342
CREATED:20241105T165724Z
LAST-MODIFIED:20251013T222810Z
UID:10005639-1844182800-1844193600@www.cordovagc.gov
SUMMARY:Lighted Driving Range
DESCRIPTION:Lighted Driving Range every Wednesday and Saturday starting November 6
URL:https://www.cordovagc.gov/event/lighted-driving-range-2/2028-06-09/
END:VEVENT
BEGIN:VEVENT
DTSTART;TZID=UTC:20280610T170000
DTEND;TZID=UTC:20280610T200000
DTSTAMP:20260419T215342
CREATED:20241105T165724Z
LAST-MODIFIED:20251013T222810Z
UID:10005640-1844269200-1844280000@www.cordovagc.gov
SUMMARY:Lighted Driving Range
DESCRIPTION:Lighted Driving Range every Wednesday and Saturday starting November 6
URL:https://www.cordovagc.gov/event/lighted-driving-range-2/2028-06-10/
END:VEVENT
BEGIN:VEVENT
DTSTART;TZID=UTC:20280613T073000
DTEND;TZID=UTC:20280613T073000
DTSTAMP:20260419T215342
CREATED:20240703T214406Z
LAST-MODIFIED:20250902T221159Z
UID:10007641-1844494200-1844494200@www.cordovagc.gov
SUMMARY:Chippers Golf Club
DESCRIPTION:Ages: Open to all \nFees: (First time start up fees – $10 club membership\, $3 for hole in one fund) Weekly Fees:  Green & Cart Fee weekly \nDays: Every Tuesday \nTime: 7:30 a.m. \nHow to sign up: Show up on Tuesday morning or by contacting Dennis Cecil at 916-202-7950
URL:https://www.cordovagc.gov/event/chippers-golf-club/2028-06-13/
END:VEVENT
BEGIN:VEVENT
DTSTART;TZID=UTC:20280614T170000
DTEND;TZID=UTC:20280614T200000
DTSTAMP:20260419T215342
CREATED:20241105T165724Z
LAST-MODIFIED:20251013T222810Z
UID:10005641-1844614800-1844625600@www.cordovagc.gov
SUMMARY:Lighted Driving Range
DESCRIPTION:Lighted Driving Range every Wednesday and Saturday starting November 6
URL:https://www.cordovagc.gov/event/lighted-driving-range-2/2028-06-14/
END:VEVENT
BEGIN:VEVENT
DTSTART;TZID=UTC:20280615T070000
DTEND;TZID=UTC:20280615T070000
DTSTAMP:20260419T215342
CREATED:20240703T221613Z
LAST-MODIFIED:20260221T002124Z
UID:10008286-1844665200-1844665200@www.cordovagc.gov
SUMMARY:Cordova Senior Group
DESCRIPTION:Ages: Open to all \nFees: Green & Cart Fee \nDays: Every Thursday \nTime: 7:00 a.m. \nHow to sign up: Calling Ken Pearson at 916-635-7270
URL:https://www.cordovagc.gov/event/pearson-group/2028-06-15/
END:VEVENT
BEGIN:VEVENT
DTSTART;TZID=UTC:20280615T073000
DTEND;TZID=UTC:20280615T073000
DTSTAMP:20260419T215342
CREATED:20240703T221851Z
LAST-MODIFIED:20240703T221851Z
UID:10002462-1844667000-1844667000@www.cordovagc.gov
SUMMARY:Bandits
DESCRIPTION:Ages: Open to all \nFees: (First time start up fees – $10 club membership\, $3 for hole in one fund) Weekly Fees:  Green & Cart Fee weekly \nDays: Every Thursday \nTime: 7:30 a.m. \nHow to sign up: Show up on Tuesday morning or by contacting Dennis Cecil at 916-202-7950
URL:https://www.cordovagc.gov/event/bandits/2028-06-15/
END:VEVENT
BEGIN:VEVENT
DTSTART;TZID=UTC:20280615T170000
DTEND;TZID=UTC:20280615T170000
DTSTAMP:20260419T215342
CREATED:20250902T221532Z
LAST-MODIFIED:20250902T221532Z
UID:10007902-1844701200-1844701200@www.cordovagc.gov
SUMMARY:Spark Golf League
DESCRIPTION:Spark Golf League is a 9-hole social golf league. Prior sign up is required on www.spark.golf
URL:https://www.cordovagc.gov/event/spark-golf-league/2028-06-15/
END:VEVENT
BEGIN:VEVENT
DTSTART;TZID=UTC:20280615T170000
DTEND;TZID=UTC:20280615T200000
DTSTAMP:20260419T215342
CREATED:20241105T165724Z
LAST-MODIFIED:20251013T222810Z
UID:10005642-1844701200-1844712000@www.cordovagc.gov
SUMMARY:Lighted Driving Range
DESCRIPTION:Lighted Driving Range every Wednesday and Saturday starting November 6
URL:https://www.cordovagc.gov/event/lighted-driving-range-2/2028-06-15/
END:VEVENT
BEGIN:VEVENT
DTSTART;TZID=UTC:20280616T170000
DTEND;TZID=UTC:20280616T200000
DTSTAMP:20260419T215342
CREATED:20241105T165724Z
LAST-MODIFIED:20251013T222810Z
UID:10005643-1844787600-1844798400@www.cordovagc.gov
SUMMARY:Lighted Driving Range
DESCRIPTION:Lighted Driving Range every Wednesday and Saturday starting November 6
URL:https://www.cordovagc.gov/event/lighted-driving-range-2/2028-06-16/
END:VEVENT
BEGIN:VEVENT
DTSTART;TZID=UTC:20280617T170000
DTEND;TZID=UTC:20280617T200000
DTSTAMP:20260419T215342
CREATED:20241105T165724Z
LAST-MODIFIED:20251013T222810Z
UID:10005644-1844874000-1844884800@www.cordovagc.gov
SUMMARY:Lighted Driving Range
DESCRIPTION:Lighted Driving Range every Wednesday and Saturday starting November 6
URL:https://www.cordovagc.gov/event/lighted-driving-range-2/2028-06-17/
END:VEVENT
BEGIN:VEVENT
DTSTART;TZID=UTC:20280620T073000
DTEND;TZID=UTC:20280620T073000
DTSTAMP:20260419T215342
CREATED:20240703T214406Z
LAST-MODIFIED:20250902T221159Z
UID:10007642-1845099000-1845099000@www.cordovagc.gov
SUMMARY:Chippers Golf Club
DESCRIPTION:Ages: Open to all \nFees: (First time start up fees – $10 club membership\, $3 for hole in one fund) Weekly Fees:  Green & Cart Fee weekly \nDays: Every Tuesday \nTime: 7:30 a.m. \nHow to sign up: Show up on Tuesday morning or by contacting Dennis Cecil at 916-202-7950
URL:https://www.cordovagc.gov/event/chippers-golf-club/2028-06-20/
END:VEVENT
BEGIN:VEVENT
DTSTART;TZID=UTC:20280621T170000
DTEND;TZID=UTC:20280621T200000
DTSTAMP:20260419T215342
CREATED:20241105T165724Z
LAST-MODIFIED:20251013T222810Z
UID:10005645-1845219600-1845230400@www.cordovagc.gov
SUMMARY:Lighted Driving Range
DESCRIPTION:Lighted Driving Range every Wednesday and Saturday starting November 6
URL:https://www.cordovagc.gov/event/lighted-driving-range-2/2028-06-21/
END:VEVENT
BEGIN:VEVENT
DTSTART;TZID=UTC:20280622T070000
DTEND;TZID=UTC:20280622T070000
DTSTAMP:20260419T215342
CREATED:20240703T221613Z
LAST-MODIFIED:20260221T002124Z
UID:10008287-1845270000-1845270000@www.cordovagc.gov
SUMMARY:Cordova Senior Group
DESCRIPTION:Ages: Open to all \nFees: Green & Cart Fee \nDays: Every Thursday \nTime: 7:00 a.m. \nHow to sign up: Calling Ken Pearson at 916-635-7270
URL:https://www.cordovagc.gov/event/pearson-group/2028-06-22/
END:VEVENT
BEGIN:VEVENT
DTSTART;TZID=UTC:20280622T073000
DTEND;TZID=UTC:20280622T073000
DTSTAMP:20260419T215342
CREATED:20240703T221851Z
LAST-MODIFIED:20240703T221851Z
UID:10002463-1845271800-1845271800@www.cordovagc.gov
SUMMARY:Bandits
DESCRIPTION:Ages: Open to all \nFees: (First time start up fees – $10 club membership\, $3 for hole in one fund) Weekly Fees:  Green & Cart Fee weekly \nDays: Every Thursday \nTime: 7:30 a.m. \nHow to sign up: Show up on Tuesday morning or by contacting Dennis Cecil at 916-202-7950
URL:https://www.cordovagc.gov/event/bandits/2028-06-22/
END:VEVENT
BEGIN:VEVENT
DTSTART;TZID=UTC:20280622T170000
DTEND;TZID=UTC:20280622T170000
DTSTAMP:20260419T215342
CREATED:20250902T221532Z
LAST-MODIFIED:20250902T221532Z
UID:10007903-1845306000-1845306000@www.cordovagc.gov
SUMMARY:Spark Golf League
DESCRIPTION:Spark Golf League is a 9-hole social golf league. Prior sign up is required on www.spark.golf
URL:https://www.cordovagc.gov/event/spark-golf-league/2028-06-22/
END:VEVENT
BEGIN:VEVENT
DTSTART;TZID=UTC:20280622T170000
DTEND;TZID=UTC:20280622T200000
DTSTAMP:20260419T215342
CREATED:20241105T165724Z
LAST-MODIFIED:20251013T222810Z
UID:10005646-1845306000-1845316800@www.cordovagc.gov
SUMMARY:Lighted Driving Range
DESCRIPTION:Lighted Driving Range every Wednesday and Saturday starting November 6
URL:https://www.cordovagc.gov/event/lighted-driving-range-2/2028-06-22/
END:VEVENT
BEGIN:VEVENT
DTSTART;TZID=UTC:20280623T170000
DTEND;TZID=UTC:20280623T200000
DTSTAMP:20260419T215342
CREATED:20241105T165724Z
LAST-MODIFIED:20251013T222810Z
UID:10005647-1845392400-1845403200@www.cordovagc.gov
SUMMARY:Lighted Driving Range
DESCRIPTION:Lighted Driving Range every Wednesday and Saturday starting November 6
URL:https://www.cordovagc.gov/event/lighted-driving-range-2/2028-06-23/
END:VEVENT
BEGIN:VEVENT
DTSTART;TZID=UTC:20280624T170000
DTEND;TZID=UTC:20280624T200000
DTSTAMP:20260419T215342
CREATED:20241105T165724Z
LAST-MODIFIED:20251013T222810Z
UID:10005648-1845478800-1845489600@www.cordovagc.gov
SUMMARY:Lighted Driving Range
DESCRIPTION:Lighted Driving Range every Wednesday and Saturday starting November 6
URL:https://www.cordovagc.gov/event/lighted-driving-range-2/2028-06-24/
END:VEVENT
END:VCALENDAR