BEGIN:VCALENDAR
VERSION:2.0
PRODID:-//Cordova Golf Course - ECPv6.15.18//NONSGML v1.0//EN
CALSCALE:GREGORIAN
METHOD:PUBLISH
X-WR-CALNAME:Cordova Golf Course
X-ORIGINAL-URL:https://www.cordovagc.gov
X-WR-CALDESC:Events for Cordova Golf Course
REFRESH-INTERVAL;VALUE=DURATION:PT1H
X-Robots-Tag:noindex
X-PUBLISHED-TTL:PT1H
BEGIN:VTIMEZONE
TZID:UTC
BEGIN:STANDARD
TZOFFSETFROM:+0000
TZOFFSETTO:+0000
TZNAME:UTC
DTSTART:20270101T000000
END:STANDARD
END:VTIMEZONE
BEGIN:VEVENT
DTSTART;TZID=UTC:20280901T170000
DTEND;TZID=UTC:20280901T200000
DTSTAMP:20260420T013836
CREATED:20241105T165724Z
LAST-MODIFIED:20251013T222810Z
UID:10005687-1851440400-1851451200@www.cordovagc.gov
SUMMARY:Lighted Driving Range
DESCRIPTION:Lighted Driving Range every Wednesday and Saturday starting November 6
URL:https://www.cordovagc.gov/event/lighted-driving-range-2/2028-09-01/
END:VEVENT
BEGIN:VEVENT
DTSTART;TZID=UTC:20280902T170000
DTEND;TZID=UTC:20280902T200000
DTSTAMP:20260420T013836
CREATED:20241105T165724Z
LAST-MODIFIED:20251013T222810Z
UID:10005688-1851526800-1851537600@www.cordovagc.gov
SUMMARY:Lighted Driving Range
DESCRIPTION:Lighted Driving Range every Wednesday and Saturday starting November 6
URL:https://www.cordovagc.gov/event/lighted-driving-range-2/2028-09-02/
END:VEVENT
BEGIN:VEVENT
DTSTART;TZID=UTC:20280905T073000
DTEND;TZID=UTC:20280905T073000
DTSTAMP:20260420T013836
CREATED:20240703T214406Z
LAST-MODIFIED:20250902T221159Z
UID:10007653-1851751800-1851751800@www.cordovagc.gov
SUMMARY:Chippers Golf Club
DESCRIPTION:Ages: Open to all \nFees: (First time start up fees – $10 club membership\, $3 for hole in one fund) Weekly Fees:  Green & Cart Fee weekly \nDays: Every Tuesday \nTime: 7:30 a.m. \nHow to sign up: Show up on Tuesday morning or by contacting Dennis Cecil at 916-202-7950
URL:https://www.cordovagc.gov/event/chippers-golf-club/2028-09-05/
END:VEVENT
BEGIN:VEVENT
DTSTART;TZID=UTC:20280906T170000
DTEND;TZID=UTC:20280906T200000
DTSTAMP:20260420T013836
CREATED:20241105T165724Z
LAST-MODIFIED:20251013T222810Z
UID:10005689-1851872400-1851883200@www.cordovagc.gov
SUMMARY:Lighted Driving Range
DESCRIPTION:Lighted Driving Range every Wednesday and Saturday starting November 6
URL:https://www.cordovagc.gov/event/lighted-driving-range-2/2028-09-06/
END:VEVENT
BEGIN:VEVENT
DTSTART;TZID=UTC:20280907T070000
DTEND;TZID=UTC:20280907T070000
DTSTAMP:20260420T013836
CREATED:20240703T221613Z
LAST-MODIFIED:20260221T002124Z
UID:10008298-1851922800-1851922800@www.cordovagc.gov
SUMMARY:Cordova Senior Group
DESCRIPTION:Ages: Open to all \nFees: Green & Cart Fee \nDays: Every Thursday \nTime: 7:00 a.m. \nHow to sign up: Calling Ken Pearson at 916-635-7270
URL:https://www.cordovagc.gov/event/pearson-group/2028-09-07/
END:VEVENT
BEGIN:VEVENT
DTSTART;TZID=UTC:20280907T073000
DTEND;TZID=UTC:20280907T073000
DTSTAMP:20260420T013836
CREATED:20240703T221851Z
LAST-MODIFIED:20240703T221851Z
UID:10002474-1851924600-1851924600@www.cordovagc.gov
SUMMARY:Bandits
DESCRIPTION:Ages: Open to all \nFees: (First time start up fees – $10 club membership\, $3 for hole in one fund) Weekly Fees:  Green & Cart Fee weekly \nDays: Every Thursday \nTime: 7:30 a.m. \nHow to sign up: Show up on Tuesday morning or by contacting Dennis Cecil at 916-202-7950
URL:https://www.cordovagc.gov/event/bandits/2028-09-07/
END:VEVENT
BEGIN:VEVENT
DTSTART;TZID=UTC:20280907T170000
DTEND;TZID=UTC:20280907T170000
DTSTAMP:20260420T013836
CREATED:20250902T221532Z
LAST-MODIFIED:20250902T221532Z
UID:10007914-1851958800-1851958800@www.cordovagc.gov
SUMMARY:Spark Golf League
DESCRIPTION:Spark Golf League is a 9-hole social golf league. Prior sign up is required on www.spark.golf
URL:https://www.cordovagc.gov/event/spark-golf-league/2028-09-07/
END:VEVENT
BEGIN:VEVENT
DTSTART;TZID=UTC:20280907T170000
DTEND;TZID=UTC:20280907T200000
DTSTAMP:20260420T013836
CREATED:20241105T165724Z
LAST-MODIFIED:20251013T222810Z
UID:10005690-1851958800-1851969600@www.cordovagc.gov
SUMMARY:Lighted Driving Range
DESCRIPTION:Lighted Driving Range every Wednesday and Saturday starting November 6
URL:https://www.cordovagc.gov/event/lighted-driving-range-2/2028-09-07/
END:VEVENT
BEGIN:VEVENT
DTSTART;TZID=UTC:20280908T170000
DTEND;TZID=UTC:20280908T200000
DTSTAMP:20260420T013836
CREATED:20241105T165724Z
LAST-MODIFIED:20251013T222810Z
UID:10005691-1852045200-1852056000@www.cordovagc.gov
SUMMARY:Lighted Driving Range
DESCRIPTION:Lighted Driving Range every Wednesday and Saturday starting November 6
URL:https://www.cordovagc.gov/event/lighted-driving-range-2/2028-09-08/
END:VEVENT
BEGIN:VEVENT
DTSTART;TZID=UTC:20280909T170000
DTEND;TZID=UTC:20280909T200000
DTSTAMP:20260420T013836
CREATED:20241105T165724Z
LAST-MODIFIED:20251013T222810Z
UID:10005692-1852131600-1852142400@www.cordovagc.gov
SUMMARY:Lighted Driving Range
DESCRIPTION:Lighted Driving Range every Wednesday and Saturday starting November 6
URL:https://www.cordovagc.gov/event/lighted-driving-range-2/2028-09-09/
END:VEVENT
BEGIN:VEVENT
DTSTART;TZID=UTC:20280912T073000
DTEND;TZID=UTC:20280912T073000
DTSTAMP:20260420T013836
CREATED:20240703T214406Z
LAST-MODIFIED:20250902T221159Z
UID:10007654-1852356600-1852356600@www.cordovagc.gov
SUMMARY:Chippers Golf Club
DESCRIPTION:Ages: Open to all \nFees: (First time start up fees – $10 club membership\, $3 for hole in one fund) Weekly Fees:  Green & Cart Fee weekly \nDays: Every Tuesday \nTime: 7:30 a.m. \nHow to sign up: Show up on Tuesday morning or by contacting Dennis Cecil at 916-202-7950
URL:https://www.cordovagc.gov/event/chippers-golf-club/2028-09-12/
END:VEVENT
BEGIN:VEVENT
DTSTART;TZID=UTC:20280913T170000
DTEND;TZID=UTC:20280913T200000
DTSTAMP:20260420T013836
CREATED:20241105T165724Z
LAST-MODIFIED:20251013T222810Z
UID:10005693-1852477200-1852488000@www.cordovagc.gov
SUMMARY:Lighted Driving Range
DESCRIPTION:Lighted Driving Range every Wednesday and Saturday starting November 6
URL:https://www.cordovagc.gov/event/lighted-driving-range-2/2028-09-13/
END:VEVENT
BEGIN:VEVENT
DTSTART;TZID=UTC:20280914T070000
DTEND;TZID=UTC:20280914T070000
DTSTAMP:20260420T013836
CREATED:20240703T221613Z
LAST-MODIFIED:20260221T002124Z
UID:10008299-1852527600-1852527600@www.cordovagc.gov
SUMMARY:Cordova Senior Group
DESCRIPTION:Ages: Open to all \nFees: Green & Cart Fee \nDays: Every Thursday \nTime: 7:00 a.m. \nHow to sign up: Calling Ken Pearson at 916-635-7270
URL:https://www.cordovagc.gov/event/pearson-group/2028-09-14/
END:VEVENT
BEGIN:VEVENT
DTSTART;TZID=UTC:20280914T073000
DTEND;TZID=UTC:20280914T073000
DTSTAMP:20260420T013836
CREATED:20240703T221851Z
LAST-MODIFIED:20240703T221851Z
UID:10002475-1852529400-1852529400@www.cordovagc.gov
SUMMARY:Bandits
DESCRIPTION:Ages: Open to all \nFees: (First time start up fees – $10 club membership\, $3 for hole in one fund) Weekly Fees:  Green & Cart Fee weekly \nDays: Every Thursday \nTime: 7:30 a.m. \nHow to sign up: Show up on Tuesday morning or by contacting Dennis Cecil at 916-202-7950
URL:https://www.cordovagc.gov/event/bandits/2028-09-14/
END:VEVENT
BEGIN:VEVENT
DTSTART;TZID=UTC:20280914T170000
DTEND;TZID=UTC:20280914T170000
DTSTAMP:20260420T013836
CREATED:20250902T221532Z
LAST-MODIFIED:20250902T221532Z
UID:10007915-1852563600-1852563600@www.cordovagc.gov
SUMMARY:Spark Golf League
DESCRIPTION:Spark Golf League is a 9-hole social golf league. Prior sign up is required on www.spark.golf
URL:https://www.cordovagc.gov/event/spark-golf-league/2028-09-14/
END:VEVENT
BEGIN:VEVENT
DTSTART;TZID=UTC:20280914T170000
DTEND;TZID=UTC:20280914T200000
DTSTAMP:20260420T013836
CREATED:20241105T165724Z
LAST-MODIFIED:20251013T222810Z
UID:10005694-1852563600-1852574400@www.cordovagc.gov
SUMMARY:Lighted Driving Range
DESCRIPTION:Lighted Driving Range every Wednesday and Saturday starting November 6
URL:https://www.cordovagc.gov/event/lighted-driving-range-2/2028-09-14/
END:VEVENT
BEGIN:VEVENT
DTSTART;TZID=UTC:20280915T170000
DTEND;TZID=UTC:20280915T200000
DTSTAMP:20260420T013836
CREATED:20241105T165724Z
LAST-MODIFIED:20251013T222810Z
UID:10005695-1852650000-1852660800@www.cordovagc.gov
SUMMARY:Lighted Driving Range
DESCRIPTION:Lighted Driving Range every Wednesday and Saturday starting November 6
URL:https://www.cordovagc.gov/event/lighted-driving-range-2/2028-09-15/
END:VEVENT
BEGIN:VEVENT
DTSTART;TZID=UTC:20280916T170000
DTEND;TZID=UTC:20280916T200000
DTSTAMP:20260420T013836
CREATED:20241105T165724Z
LAST-MODIFIED:20251013T222810Z
UID:10005696-1852736400-1852747200@www.cordovagc.gov
SUMMARY:Lighted Driving Range
DESCRIPTION:Lighted Driving Range every Wednesday and Saturday starting November 6
URL:https://www.cordovagc.gov/event/lighted-driving-range-2/2028-09-16/
END:VEVENT
BEGIN:VEVENT
DTSTART;TZID=UTC:20280919T073000
DTEND;TZID=UTC:20280919T073000
DTSTAMP:20260420T013836
CREATED:20240703T214406Z
LAST-MODIFIED:20250902T221159Z
UID:10007655-1852961400-1852961400@www.cordovagc.gov
SUMMARY:Chippers Golf Club
DESCRIPTION:Ages: Open to all \nFees: (First time start up fees – $10 club membership\, $3 for hole in one fund) Weekly Fees:  Green & Cart Fee weekly \nDays: Every Tuesday \nTime: 7:30 a.m. \nHow to sign up: Show up on Tuesday morning or by contacting Dennis Cecil at 916-202-7950
URL:https://www.cordovagc.gov/event/chippers-golf-club/2028-09-19/
END:VEVENT
BEGIN:VEVENT
DTSTART;TZID=UTC:20280920T170000
DTEND;TZID=UTC:20280920T200000
DTSTAMP:20260420T013836
CREATED:20241105T165724Z
LAST-MODIFIED:20251013T222810Z
UID:10005697-1853082000-1853092800@www.cordovagc.gov
SUMMARY:Lighted Driving Range
DESCRIPTION:Lighted Driving Range every Wednesday and Saturday starting November 6
URL:https://www.cordovagc.gov/event/lighted-driving-range-2/2028-09-20/
END:VEVENT
BEGIN:VEVENT
DTSTART;TZID=UTC:20280921T070000
DTEND;TZID=UTC:20280921T070000
DTSTAMP:20260420T013836
CREATED:20240703T221613Z
LAST-MODIFIED:20260221T002124Z
UID:10008300-1853132400-1853132400@www.cordovagc.gov
SUMMARY:Cordova Senior Group
DESCRIPTION:Ages: Open to all \nFees: Green & Cart Fee \nDays: Every Thursday \nTime: 7:00 a.m. \nHow to sign up: Calling Ken Pearson at 916-635-7270
URL:https://www.cordovagc.gov/event/pearson-group/2028-09-21/
END:VEVENT
BEGIN:VEVENT
DTSTART;TZID=UTC:20280921T073000
DTEND;TZID=UTC:20280921T073000
DTSTAMP:20260420T013836
CREATED:20240703T221851Z
LAST-MODIFIED:20240703T221851Z
UID:10002476-1853134200-1853134200@www.cordovagc.gov
SUMMARY:Bandits
DESCRIPTION:Ages: Open to all \nFees: (First time start up fees – $10 club membership\, $3 for hole in one fund) Weekly Fees:  Green & Cart Fee weekly \nDays: Every Thursday \nTime: 7:30 a.m. \nHow to sign up: Show up on Tuesday morning or by contacting Dennis Cecil at 916-202-7950
URL:https://www.cordovagc.gov/event/bandits/2028-09-21/
END:VEVENT
BEGIN:VEVENT
DTSTART;TZID=UTC:20280921T170000
DTEND;TZID=UTC:20280921T170000
DTSTAMP:20260420T013836
CREATED:20250902T221532Z
LAST-MODIFIED:20250902T221532Z
UID:10007916-1853168400-1853168400@www.cordovagc.gov
SUMMARY:Spark Golf League
DESCRIPTION:Spark Golf League is a 9-hole social golf league. Prior sign up is required on www.spark.golf
URL:https://www.cordovagc.gov/event/spark-golf-league/2028-09-21/
END:VEVENT
BEGIN:VEVENT
DTSTART;TZID=UTC:20280921T170000
DTEND;TZID=UTC:20280921T200000
DTSTAMP:20260420T013836
CREATED:20241105T165724Z
LAST-MODIFIED:20251013T222810Z
UID:10005698-1853168400-1853179200@www.cordovagc.gov
SUMMARY:Lighted Driving Range
DESCRIPTION:Lighted Driving Range every Wednesday and Saturday starting November 6
URL:https://www.cordovagc.gov/event/lighted-driving-range-2/2028-09-21/
END:VEVENT
BEGIN:VEVENT
DTSTART;TZID=UTC:20280922T170000
DTEND;TZID=UTC:20280922T200000
DTSTAMP:20260420T013836
CREATED:20241105T165724Z
LAST-MODIFIED:20251013T222810Z
UID:10005699-1853254800-1853265600@www.cordovagc.gov
SUMMARY:Lighted Driving Range
DESCRIPTION:Lighted Driving Range every Wednesday and Saturday starting November 6
URL:https://www.cordovagc.gov/event/lighted-driving-range-2/2028-09-22/
END:VEVENT
BEGIN:VEVENT
DTSTART;TZID=UTC:20280923T170000
DTEND;TZID=UTC:20280923T200000
DTSTAMP:20260420T013836
CREATED:20241105T165724Z
LAST-MODIFIED:20251013T222810Z
UID:10005700-1853341200-1853352000@www.cordovagc.gov
SUMMARY:Lighted Driving Range
DESCRIPTION:Lighted Driving Range every Wednesday and Saturday starting November 6
URL:https://www.cordovagc.gov/event/lighted-driving-range-2/2028-09-23/
END:VEVENT
BEGIN:VEVENT
DTSTART;TZID=UTC:20280926T073000
DTEND;TZID=UTC:20280926T073000
DTSTAMP:20260420T013836
CREATED:20240703T214406Z
LAST-MODIFIED:20250902T221159Z
UID:10007656-1853566200-1853566200@www.cordovagc.gov
SUMMARY:Chippers Golf Club
DESCRIPTION:Ages: Open to all \nFees: (First time start up fees – $10 club membership\, $3 for hole in one fund) Weekly Fees:  Green & Cart Fee weekly \nDays: Every Tuesday \nTime: 7:30 a.m. \nHow to sign up: Show up on Tuesday morning or by contacting Dennis Cecil at 916-202-7950
URL:https://www.cordovagc.gov/event/chippers-golf-club/2028-09-26/
END:VEVENT
BEGIN:VEVENT
DTSTART;TZID=UTC:20280927T170000
DTEND;TZID=UTC:20280927T200000
DTSTAMP:20260420T013836
CREATED:20241105T165724Z
LAST-MODIFIED:20251013T222810Z
UID:10005701-1853686800-1853697600@www.cordovagc.gov
SUMMARY:Lighted Driving Range
DESCRIPTION:Lighted Driving Range every Wednesday and Saturday starting November 6
URL:https://www.cordovagc.gov/event/lighted-driving-range-2/2028-09-27/
END:VEVENT
BEGIN:VEVENT
DTSTART;TZID=UTC:20280928T070000
DTEND;TZID=UTC:20280928T070000
DTSTAMP:20260420T013836
CREATED:20240703T221613Z
LAST-MODIFIED:20260221T002124Z
UID:10008301-1853737200-1853737200@www.cordovagc.gov
SUMMARY:Cordova Senior Group
DESCRIPTION:Ages: Open to all \nFees: Green & Cart Fee \nDays: Every Thursday \nTime: 7:00 a.m. \nHow to sign up: Calling Ken Pearson at 916-635-7270
URL:https://www.cordovagc.gov/event/pearson-group/2028-09-28/
END:VEVENT
BEGIN:VEVENT
DTSTART;TZID=UTC:20280928T073000
DTEND;TZID=UTC:20280928T073000
DTSTAMP:20260420T013836
CREATED:20240703T221851Z
LAST-MODIFIED:20240703T221851Z
UID:10002477-1853739000-1853739000@www.cordovagc.gov
SUMMARY:Bandits
DESCRIPTION:Ages: Open to all \nFees: (First time start up fees – $10 club membership\, $3 for hole in one fund) Weekly Fees:  Green & Cart Fee weekly \nDays: Every Thursday \nTime: 7:30 a.m. \nHow to sign up: Show up on Tuesday morning or by contacting Dennis Cecil at 916-202-7950
URL:https://www.cordovagc.gov/event/bandits/2028-09-28/
END:VEVENT
END:VCALENDAR