BEGIN:VCALENDAR
VERSION:2.0
PRODID:-//Cordova Golf Course - ECPv6.15.18//NONSGML v1.0//EN
CALSCALE:GREGORIAN
METHOD:PUBLISH
X-WR-CALNAME:Cordova Golf Course
X-ORIGINAL-URL:https://www.cordovagc.gov
X-WR-CALDESC:Events for Cordova Golf Course
REFRESH-INTERVAL;VALUE=DURATION:PT1H
X-Robots-Tag:noindex
X-PUBLISHED-TTL:PT1H
BEGIN:VTIMEZONE
TZID:UTC
BEGIN:STANDARD
TZOFFSETFROM:+0000
TZOFFSETTO:+0000
TZNAME:UTC
DTSTART:20270101T000000
END:STANDARD
END:VTIMEZONE
BEGIN:VEVENT
DTSTART;TZID=UTC:20281003T073000
DTEND;TZID=UTC:20281003T073000
DTSTAMP:20260420T025807
CREATED:20240703T214406Z
LAST-MODIFIED:20250902T221159Z
UID:10007657-1854171000-1854171000@www.cordovagc.gov
SUMMARY:Chippers Golf Club
DESCRIPTION:Ages: Open to all \nFees: (First time start up fees – $10 club membership\, $3 for hole in one fund) Weekly Fees:  Green & Cart Fee weekly \nDays: Every Tuesday \nTime: 7:30 a.m. \nHow to sign up: Show up on Tuesday morning or by contacting Dennis Cecil at 916-202-7950
URL:https://www.cordovagc.gov/event/chippers-golf-club/2028-10-03/
END:VEVENT
BEGIN:VEVENT
DTSTART;TZID=UTC:20281004T170000
DTEND;TZID=UTC:20281004T200000
DTSTAMP:20260420T025807
CREATED:20241105T165724Z
LAST-MODIFIED:20251013T222810Z
UID:10005705-1854291600-1854302400@www.cordovagc.gov
SUMMARY:Lighted Driving Range
DESCRIPTION:Lighted Driving Range every Wednesday and Saturday starting November 6
URL:https://www.cordovagc.gov/event/lighted-driving-range-2/2028-10-04/
END:VEVENT
BEGIN:VEVENT
DTSTART;TZID=UTC:20281005T070000
DTEND;TZID=UTC:20281005T070000
DTSTAMP:20260420T025807
CREATED:20240703T221613Z
LAST-MODIFIED:20260221T002124Z
UID:10008302-1854342000-1854342000@www.cordovagc.gov
SUMMARY:Cordova Senior Group
DESCRIPTION:Ages: Open to all \nFees: Green & Cart Fee \nDays: Every Thursday \nTime: 7:00 a.m. \nHow to sign up: Calling Ken Pearson at 916-635-7270
URL:https://www.cordovagc.gov/event/pearson-group/2028-10-05/
END:VEVENT
BEGIN:VEVENT
DTSTART;TZID=UTC:20281005T073000
DTEND;TZID=UTC:20281005T073000
DTSTAMP:20260420T025807
CREATED:20240703T221851Z
LAST-MODIFIED:20240703T221851Z
UID:10002478-1854343800-1854343800@www.cordovagc.gov
SUMMARY:Bandits
DESCRIPTION:Ages: Open to all \nFees: (First time start up fees – $10 club membership\, $3 for hole in one fund) Weekly Fees:  Green & Cart Fee weekly \nDays: Every Thursday \nTime: 7:30 a.m. \nHow to sign up: Show up on Tuesday morning or by contacting Dennis Cecil at 916-202-7950
URL:https://www.cordovagc.gov/event/bandits/2028-10-05/
END:VEVENT
BEGIN:VEVENT
DTSTART;TZID=UTC:20281005T170000
DTEND;TZID=UTC:20281005T170000
DTSTAMP:20260420T025807
CREATED:20250902T221532Z
LAST-MODIFIED:20250902T221532Z
UID:10007918-1854378000-1854378000@www.cordovagc.gov
SUMMARY:Spark Golf League
DESCRIPTION:Spark Golf League is a 9-hole social golf league. Prior sign up is required on www.spark.golf
URL:https://www.cordovagc.gov/event/spark-golf-league/2028-10-05/
END:VEVENT
BEGIN:VEVENT
DTSTART;TZID=UTC:20281005T170000
DTEND;TZID=UTC:20281005T200000
DTSTAMP:20260420T025807
CREATED:20241105T165724Z
LAST-MODIFIED:20251013T222810Z
UID:10005706-1854378000-1854388800@www.cordovagc.gov
SUMMARY:Lighted Driving Range
DESCRIPTION:Lighted Driving Range every Wednesday and Saturday starting November 6
URL:https://www.cordovagc.gov/event/lighted-driving-range-2/2028-10-05/
END:VEVENT
BEGIN:VEVENT
DTSTART;TZID=UTC:20281006T170000
DTEND;TZID=UTC:20281006T200000
DTSTAMP:20260420T025807
CREATED:20241105T165724Z
LAST-MODIFIED:20251013T222810Z
UID:10005707-1854464400-1854475200@www.cordovagc.gov
SUMMARY:Lighted Driving Range
DESCRIPTION:Lighted Driving Range every Wednesday and Saturday starting November 6
URL:https://www.cordovagc.gov/event/lighted-driving-range-2/2028-10-06/
END:VEVENT
BEGIN:VEVENT
DTSTART;TZID=UTC:20281007T170000
DTEND;TZID=UTC:20281007T200000
DTSTAMP:20260420T025807
CREATED:20241105T165724Z
LAST-MODIFIED:20251013T222810Z
UID:10005708-1854550800-1854561600@www.cordovagc.gov
SUMMARY:Lighted Driving Range
DESCRIPTION:Lighted Driving Range every Wednesday and Saturday starting November 6
URL:https://www.cordovagc.gov/event/lighted-driving-range-2/2028-10-07/
END:VEVENT
BEGIN:VEVENT
DTSTART;TZID=UTC:20281010T073000
DTEND;TZID=UTC:20281010T073000
DTSTAMP:20260420T025807
CREATED:20240703T214406Z
LAST-MODIFIED:20250902T221159Z
UID:10007658-1854775800-1854775800@www.cordovagc.gov
SUMMARY:Chippers Golf Club
DESCRIPTION:Ages: Open to all \nFees: (First time start up fees – $10 club membership\, $3 for hole in one fund) Weekly Fees:  Green & Cart Fee weekly \nDays: Every Tuesday \nTime: 7:30 a.m. \nHow to sign up: Show up on Tuesday morning or by contacting Dennis Cecil at 916-202-7950
URL:https://www.cordovagc.gov/event/chippers-golf-club/2028-10-10/
END:VEVENT
BEGIN:VEVENT
DTSTART;TZID=UTC:20281011T170000
DTEND;TZID=UTC:20281011T200000
DTSTAMP:20260420T025807
CREATED:20241105T165724Z
LAST-MODIFIED:20251013T222810Z
UID:10005709-1854896400-1854907200@www.cordovagc.gov
SUMMARY:Lighted Driving Range
DESCRIPTION:Lighted Driving Range every Wednesday and Saturday starting November 6
URL:https://www.cordovagc.gov/event/lighted-driving-range-2/2028-10-11/
END:VEVENT
BEGIN:VEVENT
DTSTART;TZID=UTC:20281012T070000
DTEND;TZID=UTC:20281012T070000
DTSTAMP:20260420T025807
CREATED:20240703T221613Z
LAST-MODIFIED:20260221T002124Z
UID:10008303-1854946800-1854946800@www.cordovagc.gov
SUMMARY:Cordova Senior Group
DESCRIPTION:Ages: Open to all \nFees: Green & Cart Fee \nDays: Every Thursday \nTime: 7:00 a.m. \nHow to sign up: Calling Ken Pearson at 916-635-7270
URL:https://www.cordovagc.gov/event/pearson-group/2028-10-12/
END:VEVENT
BEGIN:VEVENT
DTSTART;TZID=UTC:20281012T073000
DTEND;TZID=UTC:20281012T073000
DTSTAMP:20260420T025807
CREATED:20240703T221851Z
LAST-MODIFIED:20240703T221851Z
UID:10002479-1854948600-1854948600@www.cordovagc.gov
SUMMARY:Bandits
DESCRIPTION:Ages: Open to all \nFees: (First time start up fees – $10 club membership\, $3 for hole in one fund) Weekly Fees:  Green & Cart Fee weekly \nDays: Every Thursday \nTime: 7:30 a.m. \nHow to sign up: Show up on Tuesday morning or by contacting Dennis Cecil at 916-202-7950
URL:https://www.cordovagc.gov/event/bandits/2028-10-12/
END:VEVENT
BEGIN:VEVENT
DTSTART;TZID=UTC:20281012T170000
DTEND;TZID=UTC:20281012T170000
DTSTAMP:20260420T025807
CREATED:20250902T221532Z
LAST-MODIFIED:20250902T221532Z
UID:10007919-1854982800-1854982800@www.cordovagc.gov
SUMMARY:Spark Golf League
DESCRIPTION:Spark Golf League is a 9-hole social golf league. Prior sign up is required on www.spark.golf
URL:https://www.cordovagc.gov/event/spark-golf-league/2028-10-12/
END:VEVENT
BEGIN:VEVENT
DTSTART;TZID=UTC:20281012T170000
DTEND;TZID=UTC:20281012T200000
DTSTAMP:20260420T025807
CREATED:20241105T165724Z
LAST-MODIFIED:20251013T222810Z
UID:10005710-1854982800-1854993600@www.cordovagc.gov
SUMMARY:Lighted Driving Range
DESCRIPTION:Lighted Driving Range every Wednesday and Saturday starting November 6
URL:https://www.cordovagc.gov/event/lighted-driving-range-2/2028-10-12/
END:VEVENT
BEGIN:VEVENT
DTSTART;TZID=UTC:20281013T170000
DTEND;TZID=UTC:20281013T200000
DTSTAMP:20260420T025807
CREATED:20241105T165724Z
LAST-MODIFIED:20251013T222810Z
UID:10005711-1855069200-1855080000@www.cordovagc.gov
SUMMARY:Lighted Driving Range
DESCRIPTION:Lighted Driving Range every Wednesday and Saturday starting November 6
URL:https://www.cordovagc.gov/event/lighted-driving-range-2/2028-10-13/
END:VEVENT
BEGIN:VEVENT
DTSTART;TZID=UTC:20281014T170000
DTEND;TZID=UTC:20281014T200000
DTSTAMP:20260420T025807
CREATED:20241105T165724Z
LAST-MODIFIED:20251013T222810Z
UID:10005712-1855155600-1855166400@www.cordovagc.gov
SUMMARY:Lighted Driving Range
DESCRIPTION:Lighted Driving Range every Wednesday and Saturday starting November 6
URL:https://www.cordovagc.gov/event/lighted-driving-range-2/2028-10-14/
END:VEVENT
BEGIN:VEVENT
DTSTART;TZID=UTC:20281017T073000
DTEND;TZID=UTC:20281017T073000
DTSTAMP:20260420T025807
CREATED:20240703T214406Z
LAST-MODIFIED:20250902T221159Z
UID:10007659-1855380600-1855380600@www.cordovagc.gov
SUMMARY:Chippers Golf Club
DESCRIPTION:Ages: Open to all \nFees: (First time start up fees – $10 club membership\, $3 for hole in one fund) Weekly Fees:  Green & Cart Fee weekly \nDays: Every Tuesday \nTime: 7:30 a.m. \nHow to sign up: Show up on Tuesday morning or by contacting Dennis Cecil at 916-202-7950
URL:https://www.cordovagc.gov/event/chippers-golf-club/2028-10-17/
END:VEVENT
BEGIN:VEVENT
DTSTART;TZID=UTC:20281018T170000
DTEND;TZID=UTC:20281018T200000
DTSTAMP:20260420T025807
CREATED:20241105T165724Z
LAST-MODIFIED:20251013T222810Z
UID:10005713-1855501200-1855512000@www.cordovagc.gov
SUMMARY:Lighted Driving Range
DESCRIPTION:Lighted Driving Range every Wednesday and Saturday starting November 6
URL:https://www.cordovagc.gov/event/lighted-driving-range-2/2028-10-18/
END:VEVENT
BEGIN:VEVENT
DTSTART;TZID=UTC:20281019T070000
DTEND;TZID=UTC:20281019T070000
DTSTAMP:20260420T025807
CREATED:20240703T221613Z
LAST-MODIFIED:20260221T002124Z
UID:10008304-1855551600-1855551600@www.cordovagc.gov
SUMMARY:Cordova Senior Group
DESCRIPTION:Ages: Open to all \nFees: Green & Cart Fee \nDays: Every Thursday \nTime: 7:00 a.m. \nHow to sign up: Calling Ken Pearson at 916-635-7270
URL:https://www.cordovagc.gov/event/pearson-group/2028-10-19/
END:VEVENT
BEGIN:VEVENT
DTSTART;TZID=UTC:20281019T073000
DTEND;TZID=UTC:20281019T073000
DTSTAMP:20260420T025807
CREATED:20240703T221851Z
LAST-MODIFIED:20240703T221851Z
UID:10002480-1855553400-1855553400@www.cordovagc.gov
SUMMARY:Bandits
DESCRIPTION:Ages: Open to all \nFees: (First time start up fees – $10 club membership\, $3 for hole in one fund) Weekly Fees:  Green & Cart Fee weekly \nDays: Every Thursday \nTime: 7:30 a.m. \nHow to sign up: Show up on Tuesday morning or by contacting Dennis Cecil at 916-202-7950
URL:https://www.cordovagc.gov/event/bandits/2028-10-19/
END:VEVENT
BEGIN:VEVENT
DTSTART;TZID=UTC:20281019T170000
DTEND;TZID=UTC:20281019T170000
DTSTAMP:20260420T025807
CREATED:20250902T221532Z
LAST-MODIFIED:20250902T221532Z
UID:10007920-1855587600-1855587600@www.cordovagc.gov
SUMMARY:Spark Golf League
DESCRIPTION:Spark Golf League is a 9-hole social golf league. Prior sign up is required on www.spark.golf
URL:https://www.cordovagc.gov/event/spark-golf-league/2028-10-19/
END:VEVENT
BEGIN:VEVENT
DTSTART;TZID=UTC:20281019T170000
DTEND;TZID=UTC:20281019T200000
DTSTAMP:20260420T025807
CREATED:20241105T165724Z
LAST-MODIFIED:20251013T222810Z
UID:10005714-1855587600-1855598400@www.cordovagc.gov
SUMMARY:Lighted Driving Range
DESCRIPTION:Lighted Driving Range every Wednesday and Saturday starting November 6
URL:https://www.cordovagc.gov/event/lighted-driving-range-2/2028-10-19/
END:VEVENT
BEGIN:VEVENT
DTSTART;TZID=UTC:20281020T170000
DTEND;TZID=UTC:20281020T200000
DTSTAMP:20260420T025807
CREATED:20241105T165724Z
LAST-MODIFIED:20251013T222810Z
UID:10005715-1855674000-1855684800@www.cordovagc.gov
SUMMARY:Lighted Driving Range
DESCRIPTION:Lighted Driving Range every Wednesday and Saturday starting November 6
URL:https://www.cordovagc.gov/event/lighted-driving-range-2/2028-10-20/
END:VEVENT
BEGIN:VEVENT
DTSTART;TZID=UTC:20281021T170000
DTEND;TZID=UTC:20281021T200000
DTSTAMP:20260420T025807
CREATED:20241105T165724Z
LAST-MODIFIED:20251013T222810Z
UID:10005716-1855760400-1855771200@www.cordovagc.gov
SUMMARY:Lighted Driving Range
DESCRIPTION:Lighted Driving Range every Wednesday and Saturday starting November 6
URL:https://www.cordovagc.gov/event/lighted-driving-range-2/2028-10-21/
END:VEVENT
BEGIN:VEVENT
DTSTART;TZID=UTC:20281024T073000
DTEND;TZID=UTC:20281024T073000
DTSTAMP:20260420T025807
CREATED:20240703T214406Z
LAST-MODIFIED:20250902T221159Z
UID:10007660-1855985400-1855985400@www.cordovagc.gov
SUMMARY:Chippers Golf Club
DESCRIPTION:Ages: Open to all \nFees: (First time start up fees – $10 club membership\, $3 for hole in one fund) Weekly Fees:  Green & Cart Fee weekly \nDays: Every Tuesday \nTime: 7:30 a.m. \nHow to sign up: Show up on Tuesday morning or by contacting Dennis Cecil at 916-202-7950
URL:https://www.cordovagc.gov/event/chippers-golf-club/2028-10-24/
END:VEVENT
BEGIN:VEVENT
DTSTART;TZID=UTC:20281025T170000
DTEND;TZID=UTC:20281025T200000
DTSTAMP:20260420T025807
CREATED:20241105T165724Z
LAST-MODIFIED:20251013T222810Z
UID:10005717-1856106000-1856116800@www.cordovagc.gov
SUMMARY:Lighted Driving Range
DESCRIPTION:Lighted Driving Range every Wednesday and Saturday starting November 6
URL:https://www.cordovagc.gov/event/lighted-driving-range-2/2028-10-25/
END:VEVENT
BEGIN:VEVENT
DTSTART;TZID=UTC:20281026T070000
DTEND;TZID=UTC:20281026T070000
DTSTAMP:20260420T025807
CREATED:20240703T221613Z
LAST-MODIFIED:20260221T002124Z
UID:10008305-1856156400-1856156400@www.cordovagc.gov
SUMMARY:Cordova Senior Group
DESCRIPTION:Ages: Open to all \nFees: Green & Cart Fee \nDays: Every Thursday \nTime: 7:00 a.m. \nHow to sign up: Calling Ken Pearson at 916-635-7270
URL:https://www.cordovagc.gov/event/pearson-group/2028-10-26/
END:VEVENT
BEGIN:VEVENT
DTSTART;TZID=UTC:20281026T073000
DTEND;TZID=UTC:20281026T073000
DTSTAMP:20260420T025807
CREATED:20240703T221851Z
LAST-MODIFIED:20240703T221851Z
UID:10002481-1856158200-1856158200@www.cordovagc.gov
SUMMARY:Bandits
DESCRIPTION:Ages: Open to all \nFees: (First time start up fees – $10 club membership\, $3 for hole in one fund) Weekly Fees:  Green & Cart Fee weekly \nDays: Every Thursday \nTime: 7:30 a.m. \nHow to sign up: Show up on Tuesday morning or by contacting Dennis Cecil at 916-202-7950
URL:https://www.cordovagc.gov/event/bandits/2028-10-26/
END:VEVENT
BEGIN:VEVENT
DTSTART;TZID=UTC:20281026T170000
DTEND;TZID=UTC:20281026T170000
DTSTAMP:20260420T025807
CREATED:20250902T221532Z
LAST-MODIFIED:20250902T221532Z
UID:10007921-1856192400-1856192400@www.cordovagc.gov
SUMMARY:Spark Golf League
DESCRIPTION:Spark Golf League is a 9-hole social golf league. Prior sign up is required on www.spark.golf
URL:https://www.cordovagc.gov/event/spark-golf-league/2028-10-26/
END:VEVENT
BEGIN:VEVENT
DTSTART;TZID=UTC:20281026T170000
DTEND;TZID=UTC:20281026T200000
DTSTAMP:20260420T025807
CREATED:20241105T165724Z
LAST-MODIFIED:20251013T222810Z
UID:10005718-1856192400-1856203200@www.cordovagc.gov
SUMMARY:Lighted Driving Range
DESCRIPTION:Lighted Driving Range every Wednesday and Saturday starting November 6
URL:https://www.cordovagc.gov/event/lighted-driving-range-2/2028-10-26/
END:VEVENT
END:VCALENDAR