BEGIN:VCALENDAR
VERSION:2.0
PRODID:-//Cordova Golf Course - ECPv6.15.18//NONSGML v1.0//EN
CALSCALE:GREGORIAN
METHOD:PUBLISH
X-WR-CALNAME:Cordova Golf Course
X-ORIGINAL-URL:https://www.cordovagc.gov
X-WR-CALDESC:Events for Cordova Golf Course
REFRESH-INTERVAL;VALUE=DURATION:PT1H
X-Robots-Tag:noindex
X-PUBLISHED-TTL:PT1H
BEGIN:VTIMEZONE
TZID:UTC
BEGIN:STANDARD
TZOFFSETFROM:+0000
TZOFFSETTO:+0000
TZNAME:UTC
DTSTART:20270101T000000
END:STANDARD
END:VTIMEZONE
BEGIN:VEVENT
DTSTART;TZID=UTC:20281101T170000
DTEND;TZID=UTC:20281101T200000
DTSTAMP:20260420T043042
CREATED:20241105T165724Z
LAST-MODIFIED:20251013T222810Z
UID:10005721-1856710800-1856721600@www.cordovagc.gov
SUMMARY:Lighted Driving Range
DESCRIPTION:Lighted Driving Range every Wednesday and Saturday starting November 6
URL:https://www.cordovagc.gov/event/lighted-driving-range-2/2028-11-01/
END:VEVENT
BEGIN:VEVENT
DTSTART;TZID=UTC:20281102T070000
DTEND;TZID=UTC:20281102T070000
DTSTAMP:20260420T043042
CREATED:20240703T221613Z
LAST-MODIFIED:20260221T002124Z
UID:10008306-1856761200-1856761200@www.cordovagc.gov
SUMMARY:Cordova Senior Group
DESCRIPTION:Ages: Open to all \nFees: Green & Cart Fee \nDays: Every Thursday \nTime: 7:00 a.m. \nHow to sign up: Calling Ken Pearson at 916-635-7270
URL:https://www.cordovagc.gov/event/pearson-group/2028-11-02/
END:VEVENT
BEGIN:VEVENT
DTSTART;TZID=UTC:20281102T073000
DTEND;TZID=UTC:20281102T073000
DTSTAMP:20260420T043042
CREATED:20240703T221851Z
LAST-MODIFIED:20240703T221851Z
UID:10002482-1856763000-1856763000@www.cordovagc.gov
SUMMARY:Bandits
DESCRIPTION:Ages: Open to all \nFees: (First time start up fees – $10 club membership\, $3 for hole in one fund) Weekly Fees:  Green & Cart Fee weekly \nDays: Every Thursday \nTime: 7:30 a.m. \nHow to sign up: Show up on Tuesday morning or by contacting Dennis Cecil at 916-202-7950
URL:https://www.cordovagc.gov/event/bandits/2028-11-02/
END:VEVENT
BEGIN:VEVENT
DTSTART;TZID=UTC:20281102T170000
DTEND;TZID=UTC:20281102T170000
DTSTAMP:20260420T043042
CREATED:20250902T221532Z
LAST-MODIFIED:20250902T221532Z
UID:10007922-1856797200-1856797200@www.cordovagc.gov
SUMMARY:Spark Golf League
DESCRIPTION:Spark Golf League is a 9-hole social golf league. Prior sign up is required on www.spark.golf
URL:https://www.cordovagc.gov/event/spark-golf-league/2028-11-02/
END:VEVENT
BEGIN:VEVENT
DTSTART;TZID=UTC:20281102T170000
DTEND;TZID=UTC:20281102T200000
DTSTAMP:20260420T043042
CREATED:20241105T165724Z
LAST-MODIFIED:20251013T222810Z
UID:10005722-1856797200-1856808000@www.cordovagc.gov
SUMMARY:Lighted Driving Range
DESCRIPTION:Lighted Driving Range every Wednesday and Saturday starting November 6
URL:https://www.cordovagc.gov/event/lighted-driving-range-2/2028-11-02/
END:VEVENT
BEGIN:VEVENT
DTSTART;TZID=UTC:20281103T170000
DTEND;TZID=UTC:20281103T200000
DTSTAMP:20260420T043042
CREATED:20241105T165724Z
LAST-MODIFIED:20251013T222810Z
UID:10005723-1856883600-1856894400@www.cordovagc.gov
SUMMARY:Lighted Driving Range
DESCRIPTION:Lighted Driving Range every Wednesday and Saturday starting November 6
URL:https://www.cordovagc.gov/event/lighted-driving-range-2/2028-11-03/
END:VEVENT
BEGIN:VEVENT
DTSTART;TZID=UTC:20281104T170000
DTEND;TZID=UTC:20281104T200000
DTSTAMP:20260420T043042
CREATED:20241105T165724Z
LAST-MODIFIED:20251013T222810Z
UID:10005724-1856970000-1856980800@www.cordovagc.gov
SUMMARY:Lighted Driving Range
DESCRIPTION:Lighted Driving Range every Wednesday and Saturday starting November 6
URL:https://www.cordovagc.gov/event/lighted-driving-range-2/2028-11-04/
END:VEVENT
BEGIN:VEVENT
DTSTART;TZID=UTC:20281107T073000
DTEND;TZID=UTC:20281107T073000
DTSTAMP:20260420T043042
CREATED:20240703T214406Z
LAST-MODIFIED:20250902T221159Z
UID:10007662-1857195000-1857195000@www.cordovagc.gov
SUMMARY:Chippers Golf Club
DESCRIPTION:Ages: Open to all \nFees: (First time start up fees – $10 club membership\, $3 for hole in one fund) Weekly Fees:  Green & Cart Fee weekly \nDays: Every Tuesday \nTime: 7:30 a.m. \nHow to sign up: Show up on Tuesday morning or by contacting Dennis Cecil at 916-202-7950
URL:https://www.cordovagc.gov/event/chippers-golf-club/2028-11-07/
END:VEVENT
BEGIN:VEVENT
DTSTART;TZID=UTC:20281108T170000
DTEND;TZID=UTC:20281108T200000
DTSTAMP:20260420T043042
CREATED:20241105T165724Z
LAST-MODIFIED:20251013T222810Z
UID:10005725-1857315600-1857326400@www.cordovagc.gov
SUMMARY:Lighted Driving Range
DESCRIPTION:Lighted Driving Range every Wednesday and Saturday starting November 6
URL:https://www.cordovagc.gov/event/lighted-driving-range-2/2028-11-08/
END:VEVENT
BEGIN:VEVENT
DTSTART;TZID=UTC:20281109T070000
DTEND;TZID=UTC:20281109T070000
DTSTAMP:20260420T043042
CREATED:20240703T221613Z
LAST-MODIFIED:20260221T002124Z
UID:10008307-1857366000-1857366000@www.cordovagc.gov
SUMMARY:Cordova Senior Group
DESCRIPTION:Ages: Open to all \nFees: Green & Cart Fee \nDays: Every Thursday \nTime: 7:00 a.m. \nHow to sign up: Calling Ken Pearson at 916-635-7270
URL:https://www.cordovagc.gov/event/pearson-group/2028-11-09/
END:VEVENT
BEGIN:VEVENT
DTSTART;TZID=UTC:20281109T073000
DTEND;TZID=UTC:20281109T073000
DTSTAMP:20260420T043042
CREATED:20240703T221851Z
LAST-MODIFIED:20240703T221851Z
UID:10002483-1857367800-1857367800@www.cordovagc.gov
SUMMARY:Bandits
DESCRIPTION:Ages: Open to all \nFees: (First time start up fees – $10 club membership\, $3 for hole in one fund) Weekly Fees:  Green & Cart Fee weekly \nDays: Every Thursday \nTime: 7:30 a.m. \nHow to sign up: Show up on Tuesday morning or by contacting Dennis Cecil at 916-202-7950
URL:https://www.cordovagc.gov/event/bandits/2028-11-09/
END:VEVENT
BEGIN:VEVENT
DTSTART;TZID=UTC:20281109T170000
DTEND;TZID=UTC:20281109T170000
DTSTAMP:20260420T043042
CREATED:20250902T221532Z
LAST-MODIFIED:20250902T221532Z
UID:10007923-1857402000-1857402000@www.cordovagc.gov
SUMMARY:Spark Golf League
DESCRIPTION:Spark Golf League is a 9-hole social golf league. Prior sign up is required on www.spark.golf
URL:https://www.cordovagc.gov/event/spark-golf-league/2028-11-09/
END:VEVENT
BEGIN:VEVENT
DTSTART;TZID=UTC:20281109T170000
DTEND;TZID=UTC:20281109T200000
DTSTAMP:20260420T043042
CREATED:20241105T165724Z
LAST-MODIFIED:20251013T222810Z
UID:10005726-1857402000-1857412800@www.cordovagc.gov
SUMMARY:Lighted Driving Range
DESCRIPTION:Lighted Driving Range every Wednesday and Saturday starting November 6
URL:https://www.cordovagc.gov/event/lighted-driving-range-2/2028-11-09/
END:VEVENT
BEGIN:VEVENT
DTSTART;TZID=UTC:20281110T170000
DTEND;TZID=UTC:20281110T200000
DTSTAMP:20260420T043042
CREATED:20241105T165724Z
LAST-MODIFIED:20251013T222810Z
UID:10005727-1857488400-1857499200@www.cordovagc.gov
SUMMARY:Lighted Driving Range
DESCRIPTION:Lighted Driving Range every Wednesday and Saturday starting November 6
URL:https://www.cordovagc.gov/event/lighted-driving-range-2/2028-11-10/
END:VEVENT
BEGIN:VEVENT
DTSTART;TZID=UTC:20281111T170000
DTEND;TZID=UTC:20281111T200000
DTSTAMP:20260420T043042
CREATED:20241105T165724Z
LAST-MODIFIED:20251013T222810Z
UID:10005728-1857574800-1857585600@www.cordovagc.gov
SUMMARY:Lighted Driving Range
DESCRIPTION:Lighted Driving Range every Wednesday and Saturday starting November 6
URL:https://www.cordovagc.gov/event/lighted-driving-range-2/2028-11-11/
END:VEVENT
BEGIN:VEVENT
DTSTART;TZID=UTC:20281114T073000
DTEND;TZID=UTC:20281114T073000
DTSTAMP:20260420T043042
CREATED:20240703T214406Z
LAST-MODIFIED:20250902T221159Z
UID:10007663-1857799800-1857799800@www.cordovagc.gov
SUMMARY:Chippers Golf Club
DESCRIPTION:Ages: Open to all \nFees: (First time start up fees – $10 club membership\, $3 for hole in one fund) Weekly Fees:  Green & Cart Fee weekly \nDays: Every Tuesday \nTime: 7:30 a.m. \nHow to sign up: Show up on Tuesday morning or by contacting Dennis Cecil at 916-202-7950
URL:https://www.cordovagc.gov/event/chippers-golf-club/2028-11-14/
END:VEVENT
BEGIN:VEVENT
DTSTART;TZID=UTC:20281115T170000
DTEND;TZID=UTC:20281115T200000
DTSTAMP:20260420T043042
CREATED:20241105T165724Z
LAST-MODIFIED:20251013T222810Z
UID:10005729-1857920400-1857931200@www.cordovagc.gov
SUMMARY:Lighted Driving Range
DESCRIPTION:Lighted Driving Range every Wednesday and Saturday starting November 6
URL:https://www.cordovagc.gov/event/lighted-driving-range-2/2028-11-15/
END:VEVENT
BEGIN:VEVENT
DTSTART;TZID=UTC:20281116T070000
DTEND;TZID=UTC:20281116T070000
DTSTAMP:20260420T043042
CREATED:20240703T221613Z
LAST-MODIFIED:20260221T002124Z
UID:10008308-1857970800-1857970800@www.cordovagc.gov
SUMMARY:Cordova Senior Group
DESCRIPTION:Ages: Open to all \nFees: Green & Cart Fee \nDays: Every Thursday \nTime: 7:00 a.m. \nHow to sign up: Calling Ken Pearson at 916-635-7270
URL:https://www.cordovagc.gov/event/pearson-group/2028-11-16/
END:VEVENT
BEGIN:VEVENT
DTSTART;TZID=UTC:20281116T073000
DTEND;TZID=UTC:20281116T073000
DTSTAMP:20260420T043042
CREATED:20240703T221851Z
LAST-MODIFIED:20240703T221851Z
UID:10002484-1857972600-1857972600@www.cordovagc.gov
SUMMARY:Bandits
DESCRIPTION:Ages: Open to all \nFees: (First time start up fees – $10 club membership\, $3 for hole in one fund) Weekly Fees:  Green & Cart Fee weekly \nDays: Every Thursday \nTime: 7:30 a.m. \nHow to sign up: Show up on Tuesday morning or by contacting Dennis Cecil at 916-202-7950
URL:https://www.cordovagc.gov/event/bandits/2028-11-16/
END:VEVENT
BEGIN:VEVENT
DTSTART;TZID=UTC:20281116T170000
DTEND;TZID=UTC:20281116T170000
DTSTAMP:20260420T043042
CREATED:20250902T221532Z
LAST-MODIFIED:20250902T221532Z
UID:10007924-1858006800-1858006800@www.cordovagc.gov
SUMMARY:Spark Golf League
DESCRIPTION:Spark Golf League is a 9-hole social golf league. Prior sign up is required on www.spark.golf
URL:https://www.cordovagc.gov/event/spark-golf-league/2028-11-16/
END:VEVENT
BEGIN:VEVENT
DTSTART;TZID=UTC:20281116T170000
DTEND;TZID=UTC:20281116T200000
DTSTAMP:20260420T043042
CREATED:20241105T165724Z
LAST-MODIFIED:20251013T222810Z
UID:10005730-1858006800-1858017600@www.cordovagc.gov
SUMMARY:Lighted Driving Range
DESCRIPTION:Lighted Driving Range every Wednesday and Saturday starting November 6
URL:https://www.cordovagc.gov/event/lighted-driving-range-2/2028-11-16/
END:VEVENT
BEGIN:VEVENT
DTSTART;TZID=UTC:20281117T170000
DTEND;TZID=UTC:20281117T200000
DTSTAMP:20260420T043042
CREATED:20241105T165724Z
LAST-MODIFIED:20251013T222810Z
UID:10005731-1858093200-1858104000@www.cordovagc.gov
SUMMARY:Lighted Driving Range
DESCRIPTION:Lighted Driving Range every Wednesday and Saturday starting November 6
URL:https://www.cordovagc.gov/event/lighted-driving-range-2/2028-11-17/
END:VEVENT
BEGIN:VEVENT
DTSTART;TZID=UTC:20281118T170000
DTEND;TZID=UTC:20281118T200000
DTSTAMP:20260420T043042
CREATED:20241105T165724Z
LAST-MODIFIED:20251013T222810Z
UID:10005732-1858179600-1858190400@www.cordovagc.gov
SUMMARY:Lighted Driving Range
DESCRIPTION:Lighted Driving Range every Wednesday and Saturday starting November 6
URL:https://www.cordovagc.gov/event/lighted-driving-range-2/2028-11-18/
END:VEVENT
BEGIN:VEVENT
DTSTART;TZID=UTC:20281121T073000
DTEND;TZID=UTC:20281121T073000
DTSTAMP:20260420T043042
CREATED:20240703T214406Z
LAST-MODIFIED:20250902T221159Z
UID:10007664-1858404600-1858404600@www.cordovagc.gov
SUMMARY:Chippers Golf Club
DESCRIPTION:Ages: Open to all \nFees: (First time start up fees – $10 club membership\, $3 for hole in one fund) Weekly Fees:  Green & Cart Fee weekly \nDays: Every Tuesday \nTime: 7:30 a.m. \nHow to sign up: Show up on Tuesday morning or by contacting Dennis Cecil at 916-202-7950
URL:https://www.cordovagc.gov/event/chippers-golf-club/2028-11-21/
END:VEVENT
BEGIN:VEVENT
DTSTART;TZID=UTC:20281122T170000
DTEND;TZID=UTC:20281122T200000
DTSTAMP:20260420T043042
CREATED:20241105T165724Z
LAST-MODIFIED:20251013T222810Z
UID:10005733-1858525200-1858536000@www.cordovagc.gov
SUMMARY:Lighted Driving Range
DESCRIPTION:Lighted Driving Range every Wednesday and Saturday starting November 6
URL:https://www.cordovagc.gov/event/lighted-driving-range-2/2028-11-22/
END:VEVENT
BEGIN:VEVENT
DTSTART;TZID=UTC:20281123T070000
DTEND;TZID=UTC:20281123T070000
DTSTAMP:20260420T043042
CREATED:20240703T221613Z
LAST-MODIFIED:20260221T002124Z
UID:10008309-1858575600-1858575600@www.cordovagc.gov
SUMMARY:Cordova Senior Group
DESCRIPTION:Ages: Open to all \nFees: Green & Cart Fee \nDays: Every Thursday \nTime: 7:00 a.m. \nHow to sign up: Calling Ken Pearson at 916-635-7270
URL:https://www.cordovagc.gov/event/pearson-group/2028-11-23/
END:VEVENT
BEGIN:VEVENT
DTSTART;TZID=UTC:20281123T073000
DTEND;TZID=UTC:20281123T073000
DTSTAMP:20260420T043042
CREATED:20240703T221851Z
LAST-MODIFIED:20240703T221851Z
UID:10002485-1858577400-1858577400@www.cordovagc.gov
SUMMARY:Bandits
DESCRIPTION:Ages: Open to all \nFees: (First time start up fees – $10 club membership\, $3 for hole in one fund) Weekly Fees:  Green & Cart Fee weekly \nDays: Every Thursday \nTime: 7:30 a.m. \nHow to sign up: Show up on Tuesday morning or by contacting Dennis Cecil at 916-202-7950
URL:https://www.cordovagc.gov/event/bandits/2028-11-23/
END:VEVENT
BEGIN:VEVENT
DTSTART;TZID=UTC:20281123T170000
DTEND;TZID=UTC:20281123T170000
DTSTAMP:20260420T043042
CREATED:20250902T221532Z
LAST-MODIFIED:20250902T221532Z
UID:10007925-1858611600-1858611600@www.cordovagc.gov
SUMMARY:Spark Golf League
DESCRIPTION:Spark Golf League is a 9-hole social golf league. Prior sign up is required on www.spark.golf
URL:https://www.cordovagc.gov/event/spark-golf-league/2028-11-23/
END:VEVENT
BEGIN:VEVENT
DTSTART;TZID=UTC:20281123T170000
DTEND;TZID=UTC:20281123T200000
DTSTAMP:20260420T043042
CREATED:20241105T165724Z
LAST-MODIFIED:20251013T222810Z
UID:10005734-1858611600-1858622400@www.cordovagc.gov
SUMMARY:Lighted Driving Range
DESCRIPTION:Lighted Driving Range every Wednesday and Saturday starting November 6
URL:https://www.cordovagc.gov/event/lighted-driving-range-2/2028-11-23/
END:VEVENT
BEGIN:VEVENT
DTSTART;TZID=UTC:20281124T170000
DTEND;TZID=UTC:20281124T200000
DTSTAMP:20260420T043042
CREATED:20241105T165724Z
LAST-MODIFIED:20251013T222810Z
UID:10005735-1858698000-1858708800@www.cordovagc.gov
SUMMARY:Lighted Driving Range
DESCRIPTION:Lighted Driving Range every Wednesday and Saturday starting November 6
URL:https://www.cordovagc.gov/event/lighted-driving-range-2/2028-11-24/
END:VEVENT
END:VCALENDAR