BEGIN:VCALENDAR
VERSION:2.0
PRODID:-//Cordova Golf Course - ECPv6.15.18//NONSGML v1.0//EN
CALSCALE:GREGORIAN
METHOD:PUBLISH
X-WR-CALNAME:Cordova Golf Course
X-ORIGINAL-URL:https://www.cordovagc.gov
X-WR-CALDESC:Events for Cordova Golf Course
REFRESH-INTERVAL;VALUE=DURATION:PT1H
X-Robots-Tag:noindex
X-PUBLISHED-TTL:PT1H
BEGIN:VTIMEZONE
TZID:UTC
BEGIN:STANDARD
TZOFFSETFROM:+0000
TZOFFSETTO:+0000
TZNAME:UTC
DTSTART:20280101T000000
END:STANDARD
END:VTIMEZONE
BEGIN:VEVENT
DTSTART;TZID=UTC:20290501T073000
DTEND;TZID=UTC:20290501T073000
DTSTAMP:20260420T125839
CREATED:20240703T214406Z
LAST-MODIFIED:20250902T221159Z
UID:10007687-1872315000-1872315000@www.cordovagc.gov
SUMMARY:Chippers Golf Club
DESCRIPTION:Ages: Open to all \nFees: (First time start up fees – $10 club membership\, $3 for hole in one fund) Weekly Fees:  Green & Cart Fee weekly \nDays: Every Tuesday \nTime: 7:30 a.m. \nHow to sign up: Show up on Tuesday morning or by contacting Dennis Cecil at 916-202-7950
URL:https://www.cordovagc.gov/event/chippers-golf-club/2029-05-01/
END:VEVENT
BEGIN:VEVENT
DTSTART;TZID=UTC:20290502T170000
DTEND;TZID=UTC:20290502T200000
DTSTAMP:20260420T125839
CREATED:20241105T165724Z
LAST-MODIFIED:20251013T222810Z
UID:10005825-1872435600-1872446400@www.cordovagc.gov
SUMMARY:Lighted Driving Range
DESCRIPTION:Lighted Driving Range every Wednesday and Saturday starting November 6
URL:https://www.cordovagc.gov/event/lighted-driving-range-2/2029-05-02/
END:VEVENT
BEGIN:VEVENT
DTSTART;TZID=UTC:20290503T070000
DTEND;TZID=UTC:20290503T070000
DTSTAMP:20260420T125839
CREATED:20240703T221613Z
LAST-MODIFIED:20260221T002124Z
UID:10008332-1872486000-1872486000@www.cordovagc.gov
SUMMARY:Cordova Senior Group
DESCRIPTION:Ages: Open to all \nFees: Green & Cart Fee \nDays: Every Thursday \nTime: 7:00 a.m. \nHow to sign up: Calling Ken Pearson at 916-635-7270
URL:https://www.cordovagc.gov/event/pearson-group/2029-05-03/
END:VEVENT
BEGIN:VEVENT
DTSTART;TZID=UTC:20290503T073000
DTEND;TZID=UTC:20290503T073000
DTSTAMP:20260420T125839
CREATED:20240703T221851Z
LAST-MODIFIED:20240703T221851Z
UID:10002508-1872487800-1872487800@www.cordovagc.gov
SUMMARY:Bandits
DESCRIPTION:Ages: Open to all \nFees: (First time start up fees – $10 club membership\, $3 for hole in one fund) Weekly Fees:  Green & Cart Fee weekly \nDays: Every Thursday \nTime: 7:30 a.m. \nHow to sign up: Show up on Tuesday morning or by contacting Dennis Cecil at 916-202-7950
URL:https://www.cordovagc.gov/event/bandits/2029-05-03/
END:VEVENT
BEGIN:VEVENT
DTSTART;TZID=UTC:20290503T170000
DTEND;TZID=UTC:20290503T170000
DTSTAMP:20260420T125839
CREATED:20250902T221532Z
LAST-MODIFIED:20250902T221532Z
UID:10007948-1872522000-1872522000@www.cordovagc.gov
SUMMARY:Spark Golf League
DESCRIPTION:Spark Golf League is a 9-hole social golf league. Prior sign up is required on www.spark.golf
URL:https://www.cordovagc.gov/event/spark-golf-league/2029-05-03/
END:VEVENT
BEGIN:VEVENT
DTSTART;TZID=UTC:20290503T170000
DTEND;TZID=UTC:20290503T200000
DTSTAMP:20260420T125839
CREATED:20241105T165724Z
LAST-MODIFIED:20251013T222810Z
UID:10005826-1872522000-1872532800@www.cordovagc.gov
SUMMARY:Lighted Driving Range
DESCRIPTION:Lighted Driving Range every Wednesday and Saturday starting November 6
URL:https://www.cordovagc.gov/event/lighted-driving-range-2/2029-05-03/
END:VEVENT
BEGIN:VEVENT
DTSTART;TZID=UTC:20290504T170000
DTEND;TZID=UTC:20290504T200000
DTSTAMP:20260420T125839
CREATED:20241105T165724Z
LAST-MODIFIED:20251013T222810Z
UID:10005827-1872608400-1872619200@www.cordovagc.gov
SUMMARY:Lighted Driving Range
DESCRIPTION:Lighted Driving Range every Wednesday and Saturday starting November 6
URL:https://www.cordovagc.gov/event/lighted-driving-range-2/2029-05-04/
END:VEVENT
BEGIN:VEVENT
DTSTART;TZID=UTC:20290505T170000
DTEND;TZID=UTC:20290505T200000
DTSTAMP:20260420T125839
CREATED:20241105T165724Z
LAST-MODIFIED:20251013T222810Z
UID:10005828-1872694800-1872705600@www.cordovagc.gov
SUMMARY:Lighted Driving Range
DESCRIPTION:Lighted Driving Range every Wednesday and Saturday starting November 6
URL:https://www.cordovagc.gov/event/lighted-driving-range-2/2029-05-05/
END:VEVENT
BEGIN:VEVENT
DTSTART;TZID=UTC:20290508T073000
DTEND;TZID=UTC:20290508T073000
DTSTAMP:20260420T125839
CREATED:20240703T214406Z
LAST-MODIFIED:20250902T221159Z
UID:10007688-1872919800-1872919800@www.cordovagc.gov
SUMMARY:Chippers Golf Club
DESCRIPTION:Ages: Open to all \nFees: (First time start up fees – $10 club membership\, $3 for hole in one fund) Weekly Fees:  Green & Cart Fee weekly \nDays: Every Tuesday \nTime: 7:30 a.m. \nHow to sign up: Show up on Tuesday morning or by contacting Dennis Cecil at 916-202-7950
URL:https://www.cordovagc.gov/event/chippers-golf-club/2029-05-08/
END:VEVENT
BEGIN:VEVENT
DTSTART;TZID=UTC:20290509T170000
DTEND;TZID=UTC:20290509T200000
DTSTAMP:20260420T125839
CREATED:20241105T165724Z
LAST-MODIFIED:20251013T222810Z
UID:10005829-1873040400-1873051200@www.cordovagc.gov
SUMMARY:Lighted Driving Range
DESCRIPTION:Lighted Driving Range every Wednesday and Saturday starting November 6
URL:https://www.cordovagc.gov/event/lighted-driving-range-2/2029-05-09/
END:VEVENT
BEGIN:VEVENT
DTSTART;TZID=UTC:20290510T070000
DTEND;TZID=UTC:20290510T070000
DTSTAMP:20260420T125839
CREATED:20240703T221613Z
LAST-MODIFIED:20260221T002124Z
UID:10008333-1873090800-1873090800@www.cordovagc.gov
SUMMARY:Cordova Senior Group
DESCRIPTION:Ages: Open to all \nFees: Green & Cart Fee \nDays: Every Thursday \nTime: 7:00 a.m. \nHow to sign up: Calling Ken Pearson at 916-635-7270
URL:https://www.cordovagc.gov/event/pearson-group/2029-05-10/
END:VEVENT
BEGIN:VEVENT
DTSTART;TZID=UTC:20290510T073000
DTEND;TZID=UTC:20290510T073000
DTSTAMP:20260420T125839
CREATED:20240703T221851Z
LAST-MODIFIED:20240703T221851Z
UID:10002509-1873092600-1873092600@www.cordovagc.gov
SUMMARY:Bandits
DESCRIPTION:Ages: Open to all \nFees: (First time start up fees – $10 club membership\, $3 for hole in one fund) Weekly Fees:  Green & Cart Fee weekly \nDays: Every Thursday \nTime: 7:30 a.m. \nHow to sign up: Show up on Tuesday morning or by contacting Dennis Cecil at 916-202-7950
URL:https://www.cordovagc.gov/event/bandits/2029-05-10/
END:VEVENT
BEGIN:VEVENT
DTSTART;TZID=UTC:20290510T170000
DTEND;TZID=UTC:20290510T170000
DTSTAMP:20260420T125839
CREATED:20250902T221532Z
LAST-MODIFIED:20250902T221532Z
UID:10007949-1873126800-1873126800@www.cordovagc.gov
SUMMARY:Spark Golf League
DESCRIPTION:Spark Golf League is a 9-hole social golf league. Prior sign up is required on www.spark.golf
URL:https://www.cordovagc.gov/event/spark-golf-league/2029-05-10/
END:VEVENT
BEGIN:VEVENT
DTSTART;TZID=UTC:20290510T170000
DTEND;TZID=UTC:20290510T200000
DTSTAMP:20260420T125839
CREATED:20241105T165724Z
LAST-MODIFIED:20251013T222810Z
UID:10005830-1873126800-1873137600@www.cordovagc.gov
SUMMARY:Lighted Driving Range
DESCRIPTION:Lighted Driving Range every Wednesday and Saturday starting November 6
URL:https://www.cordovagc.gov/event/lighted-driving-range-2/2029-05-10/
END:VEVENT
BEGIN:VEVENT
DTSTART;TZID=UTC:20290511T170000
DTEND;TZID=UTC:20290511T200000
DTSTAMP:20260420T125839
CREATED:20241105T165724Z
LAST-MODIFIED:20251013T222810Z
UID:10005831-1873213200-1873224000@www.cordovagc.gov
SUMMARY:Lighted Driving Range
DESCRIPTION:Lighted Driving Range every Wednesday and Saturday starting November 6
URL:https://www.cordovagc.gov/event/lighted-driving-range-2/2029-05-11/
END:VEVENT
BEGIN:VEVENT
DTSTART;TZID=UTC:20290512T170000
DTEND;TZID=UTC:20290512T200000
DTSTAMP:20260420T125839
CREATED:20241105T165724Z
LAST-MODIFIED:20251013T222810Z
UID:10005832-1873299600-1873310400@www.cordovagc.gov
SUMMARY:Lighted Driving Range
DESCRIPTION:Lighted Driving Range every Wednesday and Saturday starting November 6
URL:https://www.cordovagc.gov/event/lighted-driving-range-2/2029-05-12/
END:VEVENT
BEGIN:VEVENT
DTSTART;TZID=UTC:20290515T073000
DTEND;TZID=UTC:20290515T073000
DTSTAMP:20260420T125839
CREATED:20240703T214406Z
LAST-MODIFIED:20250902T221159Z
UID:10007689-1873524600-1873524600@www.cordovagc.gov
SUMMARY:Chippers Golf Club
DESCRIPTION:Ages: Open to all \nFees: (First time start up fees – $10 club membership\, $3 for hole in one fund) Weekly Fees:  Green & Cart Fee weekly \nDays: Every Tuesday \nTime: 7:30 a.m. \nHow to sign up: Show up on Tuesday morning or by contacting Dennis Cecil at 916-202-7950
URL:https://www.cordovagc.gov/event/chippers-golf-club/2029-05-15/
END:VEVENT
BEGIN:VEVENT
DTSTART;TZID=UTC:20290516T170000
DTEND;TZID=UTC:20290516T200000
DTSTAMP:20260420T125839
CREATED:20241105T165724Z
LAST-MODIFIED:20251013T222810Z
UID:10005833-1873645200-1873656000@www.cordovagc.gov
SUMMARY:Lighted Driving Range
DESCRIPTION:Lighted Driving Range every Wednesday and Saturday starting November 6
URL:https://www.cordovagc.gov/event/lighted-driving-range-2/2029-05-16/
END:VEVENT
BEGIN:VEVENT
DTSTART;TZID=UTC:20290517T070000
DTEND;TZID=UTC:20290517T070000
DTSTAMP:20260420T125839
CREATED:20240703T221613Z
LAST-MODIFIED:20260221T002124Z
UID:10008334-1873695600-1873695600@www.cordovagc.gov
SUMMARY:Cordova Senior Group
DESCRIPTION:Ages: Open to all \nFees: Green & Cart Fee \nDays: Every Thursday \nTime: 7:00 a.m. \nHow to sign up: Calling Ken Pearson at 916-635-7270
URL:https://www.cordovagc.gov/event/pearson-group/2029-05-17/
END:VEVENT
BEGIN:VEVENT
DTSTART;TZID=UTC:20290517T073000
DTEND;TZID=UTC:20290517T073000
DTSTAMP:20260420T125839
CREATED:20240703T221851Z
LAST-MODIFIED:20240703T221851Z
UID:10002510-1873697400-1873697400@www.cordovagc.gov
SUMMARY:Bandits
DESCRIPTION:Ages: Open to all \nFees: (First time start up fees – $10 club membership\, $3 for hole in one fund) Weekly Fees:  Green & Cart Fee weekly \nDays: Every Thursday \nTime: 7:30 a.m. \nHow to sign up: Show up on Tuesday morning or by contacting Dennis Cecil at 916-202-7950
URL:https://www.cordovagc.gov/event/bandits/2029-05-17/
END:VEVENT
BEGIN:VEVENT
DTSTART;TZID=UTC:20290517T170000
DTEND;TZID=UTC:20290517T170000
DTSTAMP:20260420T125839
CREATED:20250902T221532Z
LAST-MODIFIED:20250902T221532Z
UID:10007950-1873731600-1873731600@www.cordovagc.gov
SUMMARY:Spark Golf League
DESCRIPTION:Spark Golf League is a 9-hole social golf league. Prior sign up is required on www.spark.golf
URL:https://www.cordovagc.gov/event/spark-golf-league/2029-05-17/
END:VEVENT
BEGIN:VEVENT
DTSTART;TZID=UTC:20290517T170000
DTEND;TZID=UTC:20290517T200000
DTSTAMP:20260420T125839
CREATED:20241105T165724Z
LAST-MODIFIED:20251013T222810Z
UID:10005834-1873731600-1873742400@www.cordovagc.gov
SUMMARY:Lighted Driving Range
DESCRIPTION:Lighted Driving Range every Wednesday and Saturday starting November 6
URL:https://www.cordovagc.gov/event/lighted-driving-range-2/2029-05-17/
END:VEVENT
BEGIN:VEVENT
DTSTART;TZID=UTC:20290518T170000
DTEND;TZID=UTC:20290518T200000
DTSTAMP:20260420T125839
CREATED:20241105T165724Z
LAST-MODIFIED:20251013T222810Z
UID:10005835-1873818000-1873828800@www.cordovagc.gov
SUMMARY:Lighted Driving Range
DESCRIPTION:Lighted Driving Range every Wednesday and Saturday starting November 6
URL:https://www.cordovagc.gov/event/lighted-driving-range-2/2029-05-18/
END:VEVENT
BEGIN:VEVENT
DTSTART;TZID=UTC:20290519T170000
DTEND;TZID=UTC:20290519T200000
DTSTAMP:20260420T125839
CREATED:20241105T165724Z
LAST-MODIFIED:20251013T222810Z
UID:10005836-1873904400-1873915200@www.cordovagc.gov
SUMMARY:Lighted Driving Range
DESCRIPTION:Lighted Driving Range every Wednesday and Saturday starting November 6
URL:https://www.cordovagc.gov/event/lighted-driving-range-2/2029-05-19/
END:VEVENT
BEGIN:VEVENT
DTSTART;TZID=UTC:20290522T073000
DTEND;TZID=UTC:20290522T073000
DTSTAMP:20260420T125839
CREATED:20240703T214406Z
LAST-MODIFIED:20250902T221159Z
UID:10007690-1874129400-1874129400@www.cordovagc.gov
SUMMARY:Chippers Golf Club
DESCRIPTION:Ages: Open to all \nFees: (First time start up fees – $10 club membership\, $3 for hole in one fund) Weekly Fees:  Green & Cart Fee weekly \nDays: Every Tuesday \nTime: 7:30 a.m. \nHow to sign up: Show up on Tuesday morning or by contacting Dennis Cecil at 916-202-7950
URL:https://www.cordovagc.gov/event/chippers-golf-club/2029-05-22/
END:VEVENT
BEGIN:VEVENT
DTSTART;TZID=UTC:20290523T170000
DTEND;TZID=UTC:20290523T200000
DTSTAMP:20260420T125839
CREATED:20241105T165724Z
LAST-MODIFIED:20251013T222810Z
UID:10005837-1874250000-1874260800@www.cordovagc.gov
SUMMARY:Lighted Driving Range
DESCRIPTION:Lighted Driving Range every Wednesday and Saturday starting November 6
URL:https://www.cordovagc.gov/event/lighted-driving-range-2/2029-05-23/
END:VEVENT
BEGIN:VEVENT
DTSTART;TZID=UTC:20290524T070000
DTEND;TZID=UTC:20290524T070000
DTSTAMP:20260420T125839
CREATED:20240703T221613Z
LAST-MODIFIED:20260221T002124Z
UID:10008335-1874300400-1874300400@www.cordovagc.gov
SUMMARY:Cordova Senior Group
DESCRIPTION:Ages: Open to all \nFees: Green & Cart Fee \nDays: Every Thursday \nTime: 7:00 a.m. \nHow to sign up: Calling Ken Pearson at 916-635-7270
URL:https://www.cordovagc.gov/event/pearson-group/2029-05-24/
END:VEVENT
BEGIN:VEVENT
DTSTART;TZID=UTC:20290524T073000
DTEND;TZID=UTC:20290524T073000
DTSTAMP:20260420T125839
CREATED:20240703T221851Z
LAST-MODIFIED:20240703T221851Z
UID:10002511-1874302200-1874302200@www.cordovagc.gov
SUMMARY:Bandits
DESCRIPTION:Ages: Open to all \nFees: (First time start up fees – $10 club membership\, $3 for hole in one fund) Weekly Fees:  Green & Cart Fee weekly \nDays: Every Thursday \nTime: 7:30 a.m. \nHow to sign up: Show up on Tuesday morning or by contacting Dennis Cecil at 916-202-7950
URL:https://www.cordovagc.gov/event/bandits/2029-05-24/
END:VEVENT
BEGIN:VEVENT
DTSTART;TZID=UTC:20290524T170000
DTEND;TZID=UTC:20290524T170000
DTSTAMP:20260420T125839
CREATED:20250902T221532Z
LAST-MODIFIED:20250902T221532Z
UID:10007951-1874336400-1874336400@www.cordovagc.gov
SUMMARY:Spark Golf League
DESCRIPTION:Spark Golf League is a 9-hole social golf league. Prior sign up is required on www.spark.golf
URL:https://www.cordovagc.gov/event/spark-golf-league/2029-05-24/
END:VEVENT
BEGIN:VEVENT
DTSTART;TZID=UTC:20290524T170000
DTEND;TZID=UTC:20290524T200000
DTSTAMP:20260420T125840
CREATED:20241105T165724Z
LAST-MODIFIED:20251013T222810Z
UID:10005838-1874336400-1874347200@www.cordovagc.gov
SUMMARY:Lighted Driving Range
DESCRIPTION:Lighted Driving Range every Wednesday and Saturday starting November 6
URL:https://www.cordovagc.gov/event/lighted-driving-range-2/2029-05-24/
END:VEVENT
END:VCALENDAR