BEGIN:VCALENDAR
VERSION:2.0
PRODID:-//Cordova Golf Course - ECPv6.15.18//NONSGML v1.0//EN
CALSCALE:GREGORIAN
METHOD:PUBLISH
X-WR-CALNAME:Cordova Golf Course
X-ORIGINAL-URL:https://www.cordovagc.gov
X-WR-CALDESC:Events for Cordova Golf Course
REFRESH-INTERVAL;VALUE=DURATION:PT1H
X-Robots-Tag:noindex
X-PUBLISHED-TTL:PT1H
BEGIN:VTIMEZONE
TZID:UTC
BEGIN:STANDARD
TZOFFSETFROM:+0000
TZOFFSETTO:+0000
TZNAME:UTC
DTSTART:20270101T000000
END:STANDARD
END:VTIMEZONE
BEGIN:VEVENT
DTSTART;TZID=UTC:20280101T170000
DTEND;TZID=UTC:20280101T200000
DTSTAMP:20260419T151907
CREATED:20241105T165724Z
LAST-MODIFIED:20251013T222810Z
UID:10005548-1830358800-1830369600@www.cordovagc.gov
SUMMARY:Lighted Driving Range
DESCRIPTION:Lighted Driving Range every Wednesday and Saturday starting November 6
URL:https://www.cordovagc.gov/event/lighted-driving-range-2/2028-01-01/
END:VEVENT
BEGIN:VEVENT
DTSTART;TZID=UTC:20280104T073000
DTEND;TZID=UTC:20280104T073000
DTSTAMP:20260419T151907
CREATED:20240703T214406Z
LAST-MODIFIED:20250902T221159Z
UID:10007618-1830583800-1830583800@www.cordovagc.gov
SUMMARY:Chippers Golf Club
DESCRIPTION:Ages: Open to all \nFees: (First time start up fees – $10 club membership\, $3 for hole in one fund) Weekly Fees:  Green & Cart Fee weekly \nDays: Every Tuesday \nTime: 7:30 a.m. \nHow to sign up: Show up on Tuesday morning or by contacting Dennis Cecil at 916-202-7950
URL:https://www.cordovagc.gov/event/chippers-golf-club/2028-01-04/
END:VEVENT
BEGIN:VEVENT
DTSTART;TZID=UTC:20280105T170000
DTEND;TZID=UTC:20280105T200000
DTSTAMP:20260419T151907
CREATED:20241105T165724Z
LAST-MODIFIED:20251013T222810Z
UID:10005549-1830704400-1830715200@www.cordovagc.gov
SUMMARY:Lighted Driving Range
DESCRIPTION:Lighted Driving Range every Wednesday and Saturday starting November 6
URL:https://www.cordovagc.gov/event/lighted-driving-range-2/2028-01-05/
END:VEVENT
BEGIN:VEVENT
DTSTART;TZID=UTC:20280106T070000
DTEND;TZID=UTC:20280106T070000
DTSTAMP:20260419T151907
CREATED:20240703T221613Z
LAST-MODIFIED:20260221T002124Z
UID:10008263-1830754800-1830754800@www.cordovagc.gov
SUMMARY:Cordova Senior Group
DESCRIPTION:Ages: Open to all \nFees: Green & Cart Fee \nDays: Every Thursday \nTime: 7:00 a.m. \nHow to sign up: Calling Ken Pearson at 916-635-7270
URL:https://www.cordovagc.gov/event/pearson-group/2028-01-06/
END:VEVENT
BEGIN:VEVENT
DTSTART;TZID=UTC:20280106T073000
DTEND;TZID=UTC:20280106T073000
DTSTAMP:20260419T151907
CREATED:20240703T221851Z
LAST-MODIFIED:20240703T221851Z
UID:10002439-1830756600-1830756600@www.cordovagc.gov
SUMMARY:Bandits
DESCRIPTION:Ages: Open to all \nFees: (First time start up fees – $10 club membership\, $3 for hole in one fund) Weekly Fees:  Green & Cart Fee weekly \nDays: Every Thursday \nTime: 7:30 a.m. \nHow to sign up: Show up on Tuesday morning or by contacting Dennis Cecil at 916-202-7950
URL:https://www.cordovagc.gov/event/bandits/2028-01-06/
END:VEVENT
BEGIN:VEVENT
DTSTART;TZID=UTC:20280106T170000
DTEND;TZID=UTC:20280106T170000
DTSTAMP:20260419T151907
CREATED:20250902T221532Z
LAST-MODIFIED:20250902T221532Z
UID:10007879-1830790800-1830790800@www.cordovagc.gov
SUMMARY:Spark Golf League
DESCRIPTION:Spark Golf League is a 9-hole social golf league. Prior sign up is required on www.spark.golf
URL:https://www.cordovagc.gov/event/spark-golf-league/2028-01-06/
END:VEVENT
BEGIN:VEVENT
DTSTART;TZID=UTC:20280106T170000
DTEND;TZID=UTC:20280106T200000
DTSTAMP:20260419T151907
CREATED:20241105T165724Z
LAST-MODIFIED:20251013T222810Z
UID:10005550-1830790800-1830801600@www.cordovagc.gov
SUMMARY:Lighted Driving Range
DESCRIPTION:Lighted Driving Range every Wednesday and Saturday starting November 6
URL:https://www.cordovagc.gov/event/lighted-driving-range-2/2028-01-06/
END:VEVENT
BEGIN:VEVENT
DTSTART;TZID=UTC:20280107T170000
DTEND;TZID=UTC:20280107T200000
DTSTAMP:20260419T151907
CREATED:20241105T165724Z
LAST-MODIFIED:20251013T222810Z
UID:10005551-1830877200-1830888000@www.cordovagc.gov
SUMMARY:Lighted Driving Range
DESCRIPTION:Lighted Driving Range every Wednesday and Saturday starting November 6
URL:https://www.cordovagc.gov/event/lighted-driving-range-2/2028-01-07/
END:VEVENT
BEGIN:VEVENT
DTSTART;TZID=UTC:20280108T170000
DTEND;TZID=UTC:20280108T200000
DTSTAMP:20260419T151907
CREATED:20241105T165724Z
LAST-MODIFIED:20251013T222810Z
UID:10005552-1830963600-1830974400@www.cordovagc.gov
SUMMARY:Lighted Driving Range
DESCRIPTION:Lighted Driving Range every Wednesday and Saturday starting November 6
URL:https://www.cordovagc.gov/event/lighted-driving-range-2/2028-01-08/
END:VEVENT
BEGIN:VEVENT
DTSTART;TZID=UTC:20280111T073000
DTEND;TZID=UTC:20280111T073000
DTSTAMP:20260419T151907
CREATED:20240703T214406Z
LAST-MODIFIED:20250902T221159Z
UID:10007619-1831188600-1831188600@www.cordovagc.gov
SUMMARY:Chippers Golf Club
DESCRIPTION:Ages: Open to all \nFees: (First time start up fees – $10 club membership\, $3 for hole in one fund) Weekly Fees:  Green & Cart Fee weekly \nDays: Every Tuesday \nTime: 7:30 a.m. \nHow to sign up: Show up on Tuesday morning or by contacting Dennis Cecil at 916-202-7950
URL:https://www.cordovagc.gov/event/chippers-golf-club/2028-01-11/
END:VEVENT
BEGIN:VEVENT
DTSTART;TZID=UTC:20280112T170000
DTEND;TZID=UTC:20280112T200000
DTSTAMP:20260419T151907
CREATED:20241105T165724Z
LAST-MODIFIED:20251013T222810Z
UID:10005553-1831309200-1831320000@www.cordovagc.gov
SUMMARY:Lighted Driving Range
DESCRIPTION:Lighted Driving Range every Wednesday and Saturday starting November 6
URL:https://www.cordovagc.gov/event/lighted-driving-range-2/2028-01-12/
END:VEVENT
BEGIN:VEVENT
DTSTART;TZID=UTC:20280113T070000
DTEND;TZID=UTC:20280113T070000
DTSTAMP:20260419T151907
CREATED:20240703T221613Z
LAST-MODIFIED:20260221T002124Z
UID:10008264-1831359600-1831359600@www.cordovagc.gov
SUMMARY:Cordova Senior Group
DESCRIPTION:Ages: Open to all \nFees: Green & Cart Fee \nDays: Every Thursday \nTime: 7:00 a.m. \nHow to sign up: Calling Ken Pearson at 916-635-7270
URL:https://www.cordovagc.gov/event/pearson-group/2028-01-13/
END:VEVENT
BEGIN:VEVENT
DTSTART;TZID=UTC:20280113T073000
DTEND;TZID=UTC:20280113T073000
DTSTAMP:20260419T151907
CREATED:20240703T221851Z
LAST-MODIFIED:20240703T221851Z
UID:10002440-1831361400-1831361400@www.cordovagc.gov
SUMMARY:Bandits
DESCRIPTION:Ages: Open to all \nFees: (First time start up fees – $10 club membership\, $3 for hole in one fund) Weekly Fees:  Green & Cart Fee weekly \nDays: Every Thursday \nTime: 7:30 a.m. \nHow to sign up: Show up on Tuesday morning or by contacting Dennis Cecil at 916-202-7950
URL:https://www.cordovagc.gov/event/bandits/2028-01-13/
END:VEVENT
BEGIN:VEVENT
DTSTART;TZID=UTC:20280113T170000
DTEND;TZID=UTC:20280113T170000
DTSTAMP:20260419T151907
CREATED:20250902T221532Z
LAST-MODIFIED:20250902T221532Z
UID:10007880-1831395600-1831395600@www.cordovagc.gov
SUMMARY:Spark Golf League
DESCRIPTION:Spark Golf League is a 9-hole social golf league. Prior sign up is required on www.spark.golf
URL:https://www.cordovagc.gov/event/spark-golf-league/2028-01-13/
END:VEVENT
BEGIN:VEVENT
DTSTART;TZID=UTC:20280113T170000
DTEND;TZID=UTC:20280113T200000
DTSTAMP:20260419T151907
CREATED:20241105T165724Z
LAST-MODIFIED:20251013T222810Z
UID:10005554-1831395600-1831406400@www.cordovagc.gov
SUMMARY:Lighted Driving Range
DESCRIPTION:Lighted Driving Range every Wednesday and Saturday starting November 6
URL:https://www.cordovagc.gov/event/lighted-driving-range-2/2028-01-13/
END:VEVENT
BEGIN:VEVENT
DTSTART;TZID=UTC:20280114T170000
DTEND;TZID=UTC:20280114T200000
DTSTAMP:20260419T151907
CREATED:20241105T165724Z
LAST-MODIFIED:20251013T222810Z
UID:10005555-1831482000-1831492800@www.cordovagc.gov
SUMMARY:Lighted Driving Range
DESCRIPTION:Lighted Driving Range every Wednesday and Saturday starting November 6
URL:https://www.cordovagc.gov/event/lighted-driving-range-2/2028-01-14/
END:VEVENT
BEGIN:VEVENT
DTSTART;TZID=UTC:20280115T170000
DTEND;TZID=UTC:20280115T200000
DTSTAMP:20260419T151907
CREATED:20241105T165724Z
LAST-MODIFIED:20251013T222810Z
UID:10005556-1831568400-1831579200@www.cordovagc.gov
SUMMARY:Lighted Driving Range
DESCRIPTION:Lighted Driving Range every Wednesday and Saturday starting November 6
URL:https://www.cordovagc.gov/event/lighted-driving-range-2/2028-01-15/
END:VEVENT
BEGIN:VEVENT
DTSTART;TZID=UTC:20280118T073000
DTEND;TZID=UTC:20280118T073000
DTSTAMP:20260419T151907
CREATED:20240703T214406Z
LAST-MODIFIED:20250902T221159Z
UID:10007620-1831793400-1831793400@www.cordovagc.gov
SUMMARY:Chippers Golf Club
DESCRIPTION:Ages: Open to all \nFees: (First time start up fees – $10 club membership\, $3 for hole in one fund) Weekly Fees:  Green & Cart Fee weekly \nDays: Every Tuesday \nTime: 7:30 a.m. \nHow to sign up: Show up on Tuesday morning or by contacting Dennis Cecil at 916-202-7950
URL:https://www.cordovagc.gov/event/chippers-golf-club/2028-01-18/
END:VEVENT
BEGIN:VEVENT
DTSTART;TZID=UTC:20280119T170000
DTEND;TZID=UTC:20280119T200000
DTSTAMP:20260419T151907
CREATED:20241105T165724Z
LAST-MODIFIED:20251013T222810Z
UID:10005557-1831914000-1831924800@www.cordovagc.gov
SUMMARY:Lighted Driving Range
DESCRIPTION:Lighted Driving Range every Wednesday and Saturday starting November 6
URL:https://www.cordovagc.gov/event/lighted-driving-range-2/2028-01-19/
END:VEVENT
BEGIN:VEVENT
DTSTART;TZID=UTC:20280120T070000
DTEND;TZID=UTC:20280120T070000
DTSTAMP:20260419T151907
CREATED:20240703T221613Z
LAST-MODIFIED:20260221T002124Z
UID:10008265-1831964400-1831964400@www.cordovagc.gov
SUMMARY:Cordova Senior Group
DESCRIPTION:Ages: Open to all \nFees: Green & Cart Fee \nDays: Every Thursday \nTime: 7:00 a.m. \nHow to sign up: Calling Ken Pearson at 916-635-7270
URL:https://www.cordovagc.gov/event/pearson-group/2028-01-20/
END:VEVENT
BEGIN:VEVENT
DTSTART;TZID=UTC:20280120T073000
DTEND;TZID=UTC:20280120T073000
DTSTAMP:20260419T151907
CREATED:20240703T221851Z
LAST-MODIFIED:20240703T221851Z
UID:10002441-1831966200-1831966200@www.cordovagc.gov
SUMMARY:Bandits
DESCRIPTION:Ages: Open to all \nFees: (First time start up fees – $10 club membership\, $3 for hole in one fund) Weekly Fees:  Green & Cart Fee weekly \nDays: Every Thursday \nTime: 7:30 a.m. \nHow to sign up: Show up on Tuesday morning or by contacting Dennis Cecil at 916-202-7950
URL:https://www.cordovagc.gov/event/bandits/2028-01-20/
END:VEVENT
BEGIN:VEVENT
DTSTART;TZID=UTC:20280120T170000
DTEND;TZID=UTC:20280120T170000
DTSTAMP:20260419T151907
CREATED:20250902T221532Z
LAST-MODIFIED:20250902T221532Z
UID:10007881-1832000400-1832000400@www.cordovagc.gov
SUMMARY:Spark Golf League
DESCRIPTION:Spark Golf League is a 9-hole social golf league. Prior sign up is required on www.spark.golf
URL:https://www.cordovagc.gov/event/spark-golf-league/2028-01-20/
END:VEVENT
BEGIN:VEVENT
DTSTART;TZID=UTC:20280120T170000
DTEND;TZID=UTC:20280120T200000
DTSTAMP:20260419T151907
CREATED:20241105T165724Z
LAST-MODIFIED:20251013T222810Z
UID:10005558-1832000400-1832011200@www.cordovagc.gov
SUMMARY:Lighted Driving Range
DESCRIPTION:Lighted Driving Range every Wednesday and Saturday starting November 6
URL:https://www.cordovagc.gov/event/lighted-driving-range-2/2028-01-20/
END:VEVENT
BEGIN:VEVENT
DTSTART;TZID=UTC:20280121T170000
DTEND;TZID=UTC:20280121T200000
DTSTAMP:20260419T151908
CREATED:20241105T165724Z
LAST-MODIFIED:20251013T222810Z
UID:10005559-1832086800-1832097600@www.cordovagc.gov
SUMMARY:Lighted Driving Range
DESCRIPTION:Lighted Driving Range every Wednesday and Saturday starting November 6
URL:https://www.cordovagc.gov/event/lighted-driving-range-2/2028-01-21/
END:VEVENT
BEGIN:VEVENT
DTSTART;TZID=UTC:20280122T170000
DTEND;TZID=UTC:20280122T200000
DTSTAMP:20260419T151908
CREATED:20241105T165724Z
LAST-MODIFIED:20251013T222810Z
UID:10005560-1832173200-1832184000@www.cordovagc.gov
SUMMARY:Lighted Driving Range
DESCRIPTION:Lighted Driving Range every Wednesday and Saturday starting November 6
URL:https://www.cordovagc.gov/event/lighted-driving-range-2/2028-01-22/
END:VEVENT
BEGIN:VEVENT
DTSTART;TZID=UTC:20280125T073000
DTEND;TZID=UTC:20280125T073000
DTSTAMP:20260419T151908
CREATED:20240703T214406Z
LAST-MODIFIED:20250902T221159Z
UID:10007621-1832398200-1832398200@www.cordovagc.gov
SUMMARY:Chippers Golf Club
DESCRIPTION:Ages: Open to all \nFees: (First time start up fees – $10 club membership\, $3 for hole in one fund) Weekly Fees:  Green & Cart Fee weekly \nDays: Every Tuesday \nTime: 7:30 a.m. \nHow to sign up: Show up on Tuesday morning or by contacting Dennis Cecil at 916-202-7950
URL:https://www.cordovagc.gov/event/chippers-golf-club/2028-01-25/
END:VEVENT
BEGIN:VEVENT
DTSTART;TZID=UTC:20280126T170000
DTEND;TZID=UTC:20280126T200000
DTSTAMP:20260419T151908
CREATED:20241105T165724Z
LAST-MODIFIED:20251013T222810Z
UID:10005561-1832518800-1832529600@www.cordovagc.gov
SUMMARY:Lighted Driving Range
DESCRIPTION:Lighted Driving Range every Wednesday and Saturday starting November 6
URL:https://www.cordovagc.gov/event/lighted-driving-range-2/2028-01-26/
END:VEVENT
BEGIN:VEVENT
DTSTART;TZID=UTC:20280127T070000
DTEND;TZID=UTC:20280127T070000
DTSTAMP:20260419T151908
CREATED:20240703T221613Z
LAST-MODIFIED:20260221T002124Z
UID:10008266-1832569200-1832569200@www.cordovagc.gov
SUMMARY:Cordova Senior Group
DESCRIPTION:Ages: Open to all \nFees: Green & Cart Fee \nDays: Every Thursday \nTime: 7:00 a.m. \nHow to sign up: Calling Ken Pearson at 916-635-7270
URL:https://www.cordovagc.gov/event/pearson-group/2028-01-27/
END:VEVENT
BEGIN:VEVENT
DTSTART;TZID=UTC:20280127T073000
DTEND;TZID=UTC:20280127T073000
DTSTAMP:20260419T151908
CREATED:20240703T221851Z
LAST-MODIFIED:20240703T221851Z
UID:10002442-1832571000-1832571000@www.cordovagc.gov
SUMMARY:Bandits
DESCRIPTION:Ages: Open to all \nFees: (First time start up fees – $10 club membership\, $3 for hole in one fund) Weekly Fees:  Green & Cart Fee weekly \nDays: Every Thursday \nTime: 7:30 a.m. \nHow to sign up: Show up on Tuesday morning or by contacting Dennis Cecil at 916-202-7950
URL:https://www.cordovagc.gov/event/bandits/2028-01-27/
END:VEVENT
BEGIN:VEVENT
DTSTART;TZID=UTC:20280127T170000
DTEND;TZID=UTC:20280127T170000
DTSTAMP:20260419T151908
CREATED:20250902T221532Z
LAST-MODIFIED:20250902T221532Z
UID:10007882-1832605200-1832605200@www.cordovagc.gov
SUMMARY:Spark Golf League
DESCRIPTION:Spark Golf League is a 9-hole social golf league. Prior sign up is required on www.spark.golf
URL:https://www.cordovagc.gov/event/spark-golf-league/2028-01-27/
END:VEVENT
END:VCALENDAR